| Back to Build/check report for BioC 3.11 experimental data |
This page was generated on 2020-10-15 20:45:45 -0400 (Thu, 15 Oct 2020).
| TO THE DEVELOPERS/MAINTAINERS OF THE chipenrich.data PACKAGE: Please make sure to use the following settings in order to reproduce any error or warning you see on this page. |
| Package 58/391 | Hostname | OS / Arch | INSTALL | BUILD | CHECK | ||||||
| chipenrich.data 2.12.0 Raymond G. Cavalcante
| malbec2 | Linux (Ubuntu 18.04.4 LTS) / x86_64 | OK | [ OK ] | OK |
| Package: chipenrich.data |
| Version: 2.12.0 |
| Command: /home/biocbuild/bbs-3.11-bioc/R/bin/R CMD build --keep-empty-dirs --no-resave-data chipenrich.data |
| StartedAt: 2020-10-15 10:02:35 -0400 (Thu, 15 Oct 2020) |
| EndedAt: 2020-10-15 10:06:43 -0400 (Thu, 15 Oct 2020) |
| EllapsedTime: 248.3 seconds |
| RetCode: 0 |
| Status: OK |
| PackageFile: chipenrich.data_2.12.0.tar.gz |
| PackageFileSize: 73.41 MiB |
##############################################################################
##############################################################################
###
### Running command:
###
### /home/biocbuild/bbs-3.11-bioc/R/bin/R CMD build --keep-empty-dirs --no-resave-data chipenrich.data
###
##############################################################################
##############################################################################
* checking for file ‘chipenrich.data/DESCRIPTION’ ... OK
* preparing ‘chipenrich.data’:
* checking DESCRIPTION meta-information ... OK
* installing the package to build vignettes
* creating vignettes ... OK
Warning: ‘inst/doc’ files
‘chipenrich.data-vignette.Rmd’, ‘chipenrich.data-vignette.html’, ‘chipenrich.data-vignette.R’
ignored as vignettes have been rebuilt.
Run R CMD build with --no-build-vignettes to prevent rebuilding.
* checking for LF line-endings in source and make files and shell scripts
* checking for empty or unneeded directories
* building ‘chipenrich.data_2.12.0.tar.gz’