| Back to Build/check report for BioC 3.11 experimental data |
This page was generated on 2020-10-15 20:45:54 -0400 (Thu, 15 Oct 2020).
| TO THE DEVELOPERS/MAINTAINERS OF THE NestLink PACKAGE: Please make sure to use the following settings in order to reproduce any error or warning you see on this page. |
| Package 250/391 | Hostname | OS / Arch | INSTALL | BUILD | CHECK | ||||||
| NestLink 1.4.0 Lennart Opitz
| malbec2 | Linux (Ubuntu 18.04.4 LTS) / x86_64 | OK | OK | [ OK ] |
| Package: NestLink |
| Version: 1.4.0 |
| Command: /home/biocbuild/bbs-3.11-bioc/R/bin/R CMD check --install=check:NestLink.install-out.txt --library=/home/biocbuild/bbs-3.11-bioc/R/library --no-vignettes --timings NestLink_1.4.0.tar.gz |
| StartedAt: 2020-10-15 13:50:07 -0400 (Thu, 15 Oct 2020) |
| EndedAt: 2020-10-15 13:57:53 -0400 (Thu, 15 Oct 2020) |
| EllapsedTime: 466.0 seconds |
| RetCode: 0 |
| Status: OK |
| CheckDir: NestLink.Rcheck |
| Warnings: 0 |
##############################################################################
##############################################################################
###
### Running command:
###
### /home/biocbuild/bbs-3.11-bioc/R/bin/R CMD check --install=check:NestLink.install-out.txt --library=/home/biocbuild/bbs-3.11-bioc/R/library --no-vignettes --timings NestLink_1.4.0.tar.gz
###
##############################################################################
##############################################################################
* using log directory ‘/home/biocbuild/bbs-3.11-data-experiment/meat/NestLink.Rcheck’
* using R version 4.0.3 (2020-10-10)
* using platform: x86_64-pc-linux-gnu (64-bit)
* using session charset: UTF-8
* using option ‘--no-vignettes’
* checking for file ‘NestLink/DESCRIPTION’ ... OK
* checking extension type ... Package
* this is package ‘NestLink’ version ‘1.4.0’
* checking package namespace information ... OK
* checking package dependencies ... NOTE
Depends: includes the non-default packages:
'AnnotationHub', 'ExperimentHub', 'Biostrings', 'gplots', 'protViz',
'ShortRead'
Adding so many packages to the search path is excessive and importing
selectively is preferable.
* checking if this is a source package ... OK
* checking if there is a namespace ... OK
* checking for hidden files and directories ... OK
* checking for portable file names ... OK
* checking for sufficient/correct file permissions ... OK
* checking whether package ‘NestLink’ can be installed ... OK
* checking installed package size ... OK
* checking package directory ... OK
* checking ‘build’ directory ... OK
* checking DESCRIPTION meta-information ... NOTE
Authors@R field gives persons with no role:
Damien Morger <damien.morger@rqmicro.com>
* checking top-level files ... OK
* checking for left-over files ... OK
* checking index information ... OK
* checking package subdirectories ... OK
* checking R files for non-ASCII characters ... OK
* checking R files for syntax errors ... OK
* checking whether the package can be loaded ... OK
* checking whether the package can be loaded with stated dependencies ... OK
* checking whether the package can be unloaded cleanly ... OK
* checking whether the namespace can be loaded with stated dependencies ... OK
* checking whether the namespace can be unloaded cleanly ... OK
* checking dependencies in R code ... OK
* checking S3 generic/method consistency ... OK
* checking replacement functions ... OK
* checking foreign function calls ... OK
* checking R code for possible problems ... OK
* checking Rd files ... OK
* checking Rd metadata ... OK
* checking Rd cross-references ... OK
* checking for missing documentation entries ... OK
* checking for code/documentation mismatches ... OK
* checking Rd \usage sections ... OK
* checking Rd contents ... OK
* checking for unstated dependencies in examples ... OK
* checking files in ‘vignettes’ ... OK
* checking examples ... OK
Examples with CPU (user + system) or elapsed time > 5s
user system elapsed
runNGSAnalysis 171.824 0.200 175.767
getExperimentHubFilename 19.346 0.264 21.111
getFC 6.133 0.028 6.987
WU160118 4.920 0.060 7.278
F255744 4.263 0.176 5.114
* checking for unstated dependencies in ‘tests’ ... OK
* checking tests ...
Running ‘testthat.R’
OK
* checking for unstated dependencies in vignettes ... OK
* checking package vignettes in ‘inst/doc’ ... OK
* checking running R code from vignettes ... SKIPPED
* checking re-building of vignette outputs ... SKIPPED
* checking PDF version of manual ... OK
* DONE
Status: 2 NOTEs
See
‘/home/biocbuild/bbs-3.11-data-experiment/meat/NestLink.Rcheck/00check.log’
for details.
NestLink.Rcheck/00install.out
############################################################################## ############################################################################## ### ### Running command: ### ### /home/biocbuild/bbs-3.11-bioc/R/bin/R CMD INSTALL NestLink ### ############################################################################## ############################################################################## * installing to library ‘/home/biocbuild/bbs-3.11-bioc/R/library’ * installing *source* package ‘NestLink’ ... ** using staged installation ** R ** exec ** inst ** byte-compile and prepare package for lazy loading ** help *** installing help indices ** building package indices ** installing vignettes ** testing if installed package can be loaded from temporary location ** testing if installed package can be loaded from final location ** testing if installed package keeps a record of temporary installation path * DONE (NestLink)
NestLink.Rcheck/tests/testthat.Rout
R version 4.0.3 (2020-10-10) -- "Bunny-Wunnies Freak Out"
Copyright (C) 2020 The R Foundation for Statistical Computing
Platform: x86_64-pc-linux-gnu (64-bit)
R is free software and comes with ABSOLUTELY NO WARRANTY.
You are welcome to redistribute it under certain conditions.
Type 'license()' or 'licence()' for distribution details.
R is a collaborative project with many contributors.
Type 'contributors()' for more information and
'citation()' on how to cite R or R packages in publications.
Type 'demo()' for some demos, 'help()' for on-line help, or
'help.start()' for an HTML browser interface to help.
Type 'q()' to quit R.
> #R
>
> library(testthat)
>
> suppressPackageStartupMessages(library(NestLink))
>
> test_check("NestLink")
══ testthat results ═══════════════════════════════════════════════════════════
[ OK: 10 | SKIPPED: 0 | WARNINGS: 0 | FAILED: 0 ]
>
> proc.time()
user system elapsed
31.279 0.576 33.733
NestLink.Rcheck/NestLink-Ex.timings
| name | user | system | elapsed | |
| F255744 | 4.263 | 0.176 | 5.114 | |
| NB.unambiguous | 3.778 | 0.052 | 4.048 | |
| NB.unique | 3.877 | 0.036 | 4.099 | |
| PGexport | 2.507 | 0.028 | 2.815 | |
| WU160118 | 4.920 | 0.060 | 7.278 | |
| compose_GPGx8cTerm | 0.009 | 0.000 | 0.009 | |
| compose_GPx10R | 0.006 | 0.000 | 0.006 | |
| compose_GSx7cTerm | 0.008 | 0.000 | 0.008 | |
| dot-ssrc.mascot | 3.981 | 0.056 | 4.246 | |
| getExperimentHubFilename | 19.346 | 0.264 | 21.111 | |
| getFC | 6.133 | 0.028 | 6.987 | |
| getNB | 3.907 | 0.036 | 4.183 | |
| nanobodyFlycodeLinking.as.fasta | 2.463 | 0.028 | 2.681 | |
| nanobodyFlycodeLinking.summary | 2.467 | 0.024 | 3.102 | |
| plot_in_silico_LCMS_map | 2.035 | 0.004 | 2.039 | |
| runNGSAnalysis | 171.824 | 0.200 | 175.767 | |
| twoPatternReadFilter | 0.015 | 0.000 | 0.015 | |