| Back to Build/check report for BioC 3.11 experimental data |
This page was generated on 2020-10-15 20:45:47 -0400 (Thu, 15 Oct 2020).
| TO THE DEVELOPERS/MAINTAINERS OF THE GSE62944 PACKAGE: Please make sure to use the following settings in order to reproduce any error or warning you see on this page. |
| Package 148/391 | Hostname | OS / Arch | INSTALL | BUILD | CHECK | ||||||
| GSE62944 1.16.0 Bioconductor Package Maintainer
| malbec2 | Linux (Ubuntu 18.04.4 LTS) / x86_64 | OK | OK | [ OK ] |
| Package: GSE62944 |
| Version: 1.16.0 |
| Command: /home/biocbuild/bbs-3.11-bioc/R/bin/R CMD check --install=check:GSE62944.install-out.txt --library=/home/biocbuild/bbs-3.11-bioc/R/library --no-vignettes --timings GSE62944_1.16.0.tar.gz |
| StartedAt: 2020-10-15 13:26:52 -0400 (Thu, 15 Oct 2020) |
| EndedAt: 2020-10-15 13:27:20 -0400 (Thu, 15 Oct 2020) |
| EllapsedTime: 28.2 seconds |
| RetCode: 0 |
| Status: OK |
| CheckDir: GSE62944.Rcheck |
| Warnings: 0 |
##############################################################################
##############################################################################
###
### Running command:
###
### /home/biocbuild/bbs-3.11-bioc/R/bin/R CMD check --install=check:GSE62944.install-out.txt --library=/home/biocbuild/bbs-3.11-bioc/R/library --no-vignettes --timings GSE62944_1.16.0.tar.gz
###
##############################################################################
##############################################################################
* using log directory ‘/home/biocbuild/bbs-3.11-data-experiment/meat/GSE62944.Rcheck’
* using R version 4.0.3 (2020-10-10)
* using platform: x86_64-pc-linux-gnu (64-bit)
* using session charset: UTF-8
* using option ‘--no-vignettes’
* checking for file ‘GSE62944/DESCRIPTION’ ... OK
* this is package ‘GSE62944’ version ‘1.16.0’
* checking package namespace information ... OK
* checking package dependencies ... OK
* checking if this is a source package ... OK
* checking if there is a namespace ... OK
* checking for hidden files and directories ... OK
* checking for portable file names ... OK
* checking for sufficient/correct file permissions ... OK
* checking whether package ‘GSE62944’ can be installed ... OK
* checking installed package size ... OK
* checking package directory ... OK
* checking ‘build’ directory ... OK
* checking DESCRIPTION meta-information ... OK
* checking top-level files ... OK
* checking for left-over files ... OK
* checking index information ... OK
* checking package subdirectories ... OK
* checking whether the package can be loaded ... OK
* checking whether the package can be loaded with stated dependencies ... OK
* checking whether the package can be unloaded cleanly ... OK
* checking whether the namespace can be loaded with stated dependencies ... OK
* checking whether the namespace can be unloaded cleanly ... OK
* checking Rd files ... OK
* checking Rd metadata ... OK
* checking Rd cross-references ... OK
* checking for code/documentation mismatches ... OK
* checking Rd \usage sections ... OK
* checking Rd contents ... OK
* checking for unstated dependencies in examples ... OK
* checking files in ‘vignettes’ ... OK
* checking examples ... OK
Examples with CPU (user + system) or elapsed time > 5s
user system elapsed
GSE62944-package 4.676 0.172 5.236
* checking for unstated dependencies in vignettes ... OK
* checking package vignettes in ‘inst/doc’ ... OK
* checking running R code from vignettes ... SKIPPED
* checking re-building of vignette outputs ... SKIPPED
* checking PDF version of manual ... OK
* DONE
Status: OK
GSE62944.Rcheck/00install.out
############################################################################## ############################################################################## ### ### Running command: ### ### /home/biocbuild/bbs-3.11-bioc/R/bin/R CMD INSTALL GSE62944 ### ############################################################################## ############################################################################## * installing to library ‘/home/biocbuild/bbs-3.11-bioc/R/library’ * installing *source* package ‘GSE62944’ ... ** using staged installation ** inst ** help *** installing help indices ** building package indices ** installing vignettes ** testing if installed package can be loaded from temporary location ** testing if installed package can be loaded from final location ** testing if installed package keeps a record of temporary installation path * DONE (GSE62944)
GSE62944.Rcheck/GSE62944-Ex.timings
| name | user | system | elapsed | |
| GSE62944-package | 4.676 | 0.172 | 5.236 | |