| Package STATUS - Package status is indicated by one of the following glyphs: |
| - TIMEOUT |
BUILD, CHECK or BUILD BIN of package took more than 40 minutes |
| - ERROR |
BUILD, CHECK or BUILD BIN of package returned an error |
| - WARNINGS |
CHECK of package produced warnings |
| - OK |
BUILD, CHECK or BUILD BIN of package was OK |
| - skipped |
CHECK or BUILD BIN of package was skipped because the BUILD step failed (or because something bad happened with the Build System itself) |
| Click on any glyph in the report below to see the status details (command output). |
| zin1 |
Linux (Ubuntu 12.04.4 LTS) / x86_64 | | | |
| moscato1 |
Windows Server 2008 R2 Enterprise SP1 (64-bit) / x64 | | | |
| [perceval] |
Mac OS X Snow Leopard (10.6.8) / x86_64 | | | |
|
| affycompData 1.1.6 | Harris Jaffee | OK | OK | OK |
| affydata 1.11.20 | Harris Jaffee | OK | WARNINGS | OK |
| AffymetrixDataTestFiles 0.1.7 | Henrik Bengtsson | OK | OK | OK |
| ALL 1.4.16 | Robert Gentleman | OK | OK | OK |
| ALLMLL 1.2.15 | B. M. Bolstad | OK | OK | OK |
| AmpAffyExample 1.2.13 | Rafael A. Irizarry | OK | WARNINGS | OK |
| antiProfilesData 0.99.2 | Hector Corrada Bravo | OK | OK | OK |
| ARRmData 0.99.3 | Jean-Philippe Fortin | OK | OK | OK |
| beadarrayExampleData 1.0.8 | Mark Dunning | OK | OK | OK |
| BeadArrayUseCases 1.0.12 | Mike Smith | OK | OK | OK |
| beta7 1.0.6 | Jean Yang | OK | WARNINGS | OK |
| bladderbatch 1.0.7 | Jeffrey T. Leek | OK | WARNINGS | OK |
| breastCancerMAINZ 1.0.6 | Markus Schroeder , Benjamin Haibe-Kains | OK | WARNINGS | OK |
| breastCancerNKI 1.0.6 | Markus Schroeder , Benjamin Haibe-Kains | OK | WARNINGS | OK |
| breastCancerTRANSBIG 1.0.6 | Markus Schroeder , Benjamin Haibe-Kains | OK | WARNINGS | OK |
| breastCancerUNT 1.0.6 | Markus Schroeder , Benjamin Haibe-Kains | OK | WARNINGS | OK |
| breastCancerUPP 1.0.6 | Markus Schroeder , Benjamin Haibe-Kains | OK | WARNINGS | OK |
| breastCancerVDX 1.0.6 | Markus Schroeder , Benjamin Haibe-Kains | OK | WARNINGS | OK |
| bronchialIL13 1.0.12 | Vince Carey | OK | OK | OK |
| bsseqData 0.1.5 | Kasper Daniel Hansen | OK | OK | OK |
| cancerdata 1.1.3 | Daniel Kosztyla | OK | OK | OK |
| CCl4 1.0.16 | Audrey Kauffmann | OK | WARNINGS | OK |
| ccTutorial 1.0.26 | Joern Toedling | OK | OK | OK |
| ceu1kg 0.0.34 | VJ Carey | OK | OK | OK |
| ceu1kgv 0.5.3 | VJ Carey | OK | WARNINGS | OK |
| ceuhm3 0.0.16 | VJ Carey | OK | OK | OK |
| cgdv17 0.0.21 | VJ Carey | OK | OK | OK |
| ChAMPdata 0.99.6 | Tiffany Morris | OK | OK | OK |
| charmData 0.99.9 | Martin Aryee | OK | WARNINGS | OK |
| cheung2010 0.0.29 | Vince Carey | OK | OK | OK |
| chipenrich.data 0.99.4 | Ryan P. Welch | OK | OK | OK |
| ChIPXpressData 1.0.1 | George Wu | OK | WARNINGS | OK |
| CLL 1.2.15 | Robert Gentleman | OK | OK | OK |
| cMap2data 0.99.4 | J. Saez-Rodriguez | OK | OK | OK |
| cnvGSAdata 0.99.5 | Robert Ziman | OK | OK | OK |
| colonCA 1.4.12 | W Sylvia Merk | OK | WARNINGS | OK |
| ConnectivityMap 0.99.11 | Paul Shannon | OK | OK | OK |
| curatedBladderData 0.99.2 | Markus Riester | OK | OK | OK |
| curatedOvarianData 1.0.5 | Levi Waldron | OK | OK | OK |
| davidTiling 1.2.19 | Wolfgang Huber | OK | OK | OK |
| DeSousa2013 0.99.3 | Xin Wang | OK | OK | OK |
| DLBCL 1.3.7 | Marcus Dittrich | OK | WARNINGS | OK |
| DonaPLLP2013 1.1.6 | Joseph D. Barry | OK | OK | OK |
| DREAM4 0.99.18 | Paul Shannon | OK | OK | OK |
| dressCheck 0.1.9 | Vincent Carey | OK | OK | OK |
| DrugVsDiseasedata 0.99.6 | J. Saez-Rodriguez | OK | OK | OK |
| dsQTL 0.0.24 | VJ Carey | OK | OK | OK |
| DvDdata 0.99.3 | J. Saez-Rodriguez | OK | OK | OK |
| dyebiasexamples 1.0.12 | Philip Lijnzaad | OK | WARNINGS | OK |
| EatonEtAlChIPseq 0.0.10 | Patrick Aboyoun | OK | OK | OK |
| ecoliLeucine 1.2.11 | Laurent Gautier | OK | WARNINGS | OK |
| encoDnaseI 0.1.18 | VJ Carey | OK | OK | OK |
| estrogen 1.8.12 | R. Gentleman | OK | OK | OK |
| faahKO 1.2.16 | Colin A. Smith | OK | WARNINGS | OK |
| fabiaData 1.0.3 | Sepp Hochreiter | OK | OK | OK |
| facsDorit 1.4.9 | Florian Hahne | OK | OK | OK |
| FANTOM3and4CAGE 0.99.3 | Vanja Haberle | OK | OK | OK |
| ffpeExampleData 1.0.4 | Levi Waldron | OK | OK | OK |
| fibroEset 1.4.10 | Sylvia Merk | OK | WARNINGS | OK |
| Fletcher2013a 0.99.3 | Mauro Castro | OK | OK | OK |
| Fletcher2013b 0.99.3 | Mauro Castro | OK | OK | OK |
| flowFitExampleData 0.99.2 | Davide Rambaldi | OK | OK | OK |
| FlowSorted.Blood.450k 1.0.2 | Andrew E Jaffe | OK | OK | OK |
| flowWorkspaceData 2.0.0 | Mike Jiang | OK | OK | OK |
| frmaExampleData 0.99.6 | Matthew N. McCall | OK | WARNINGS | OK |
| FunciSNP.data 0.99.4 | Simon G. Coetzee | OK | OK | OK |
| gageData 2.0.3 | Weijun Luo | OK | OK | OK |
| gaschYHS 1.0.12 | Vince Carey | OK | OK | OK |
| gatingMLData 2.1.4 | J. Spidlen | OK | OK | OK |
| gcspikelite 1.0.10 | Mark Robinson | OK | WARNINGS | OK |
| geneLenDataBase 0.99.12 | Matthew Young , Nadia Davidson | OK | WARNINGS | OK |
| GGdata 1.0.22 | VJ Carey | OK | OK | OK |
| ggtut 0.0.46 | VJ Carey | OK | OK | OK |
| golubEsets 1.4.14 | Vince Carey | OK | OK | OK |
| GSVAdata 0.99.11 | Robert Castelo | OK | OK | OK |
| GWASdata 1.0.10 | Stephanie Gogarten , Adrienne Stilp | OK | OK | OK |
| h5vcData 1.0.0 | Paul Theodor Pyl | OK | OK | OK |
| hapmap100khind 1.4.3 | Benilton Carvalho | OK | OK | OK |
| hapmap100kxba 1.4.3 | Benilton Carvalho | OK | OK | OK |
| hapmap500knsp 1.4.3 | Benilton Carvalho | OK | OK | OK |
| hapmap500ksty 1.4.3 | Benilton Carvalho | OK | OK | OK |
| hapmapsnp5 1.4.3 | Benilton Carvalho | OK | OK | OK |
| hapmapsnp6 1.4.3 | Benilton Carvalho | OK | OK | OK |
| harbChIP 1.0.12 | VJ Carey | OK | OK | OK |
| HD2013SGI 1.2.1 | Bernd Fischer | OK | OK | OK |
| HEEBOdata 1.0.6 | Agnes Paquet | OK | WARNINGS | OK |
| hgu133abarcodevecs 1.0.7 | Matthew N. McCall | OK | OK | OK |
| hgu133plus2barcodevecs 1.0.7 | Matthew N. McCall | OK | OK | OK |
| hgu2beta7 1.2.9 | Bioconductor Package Maintainer | OK | WARNINGS | OK |
| Hiiragi2013 0.99.14 | Andrzej Oles | OK | OK | OK |
| HIVcDNAvantWout03 1.2.10 | Chris Fraley | OK | WARNINGS | OK |
| hmyriB36 0.99.18 | Vincent Carey | OK | OK | OK |
| humanStemCell 0.2.9 | R. Gentleman | OK | WARNINGS | OK |
| Illumina450ProbeVariants.db 0.99.3 | Morris, Tiffany | OK | OK | OK |
| IlluminaDataTestFiles 1.0.2 | Kasper Daniel Hansen | OK | OK | OK |
| ind1KG 0.1.17 | VJ Carey | OK | OK | OK |
| iontreeData 0.99.9 | Mingshu Cao | OK | WARNINGS | OK |
| ITALICSData 2.0.8 | Guillem Rigaill | OK | WARNINGS | OK |
| Iyer517 1.4.14 | Vince Carey | OK | OK | OK |
| JASPAR2014 0.99.3 | Ge Tan | OK | OK | OK |
| KEGGdzPathwaysGEO 1.1.3 | Gaurav Bhatti | OK | OK | OK |
| kidpack 1.5.14 | Wolfgang Huber | OK | WARNINGS | OK |
| leeBamViews 0.99.24 | VJ Carey | OK | OK | OK |
| leukemiasEset 0.99.4 | Sara Aibar | OK | OK | OK |
| LiebermanAidenHiC2009 0.1.16 | Felix Klein | OK | WARNINGS | OK |
| lumiBarnes 1.3.11 | Pan Du | OK | WARNINGS | OK |
| LungCancerACvsSCCGEO 0.99.1 | Adi Laurentiu Tarca | OK | OK | OK |
| LungCancerLines 0.0.10 | Cory Barr | OK | OK | OK |
| lungExpression 0.0.16 | Robert Scharpf | OK | OK | OK |
| mammaPrintData 0.99.9 | Luigi Marchionni | OK | OK | OK |
| maqcExpression4plex 1.6.3 | Benilton Carvalho | OK | OK | OK |
| MAQCsubset 1.0.29 | VJ Carey | OK | OK | OK |
| MAQCsubsetAFX 1.0.13 | Laurent Gatto | OK | OK | OK |
| MAQCsubsetILM 1.0.12 | Laurent Gatto | OK | OK | OK |
| MEDIPSData 0.99.5 | Lukas Chavez | OK | OK | OK |
| MEEBOdata 1.0.6 | Agnes Paquet | OK | WARNINGS | OK |
| minfiData 0.4.2 | Kasper Daniel Hansen | OK | OK | OK |
| miRNATarget 1.1.2 | Y-h. Taguchi | OK | OK | OK |
| mitoODEdata 0.99.6 | Gregoire Pau | OK | OK | OK |
| MMDiffBamSubset 0.99.4 | Gabriele Schweikert | OK | OK | OK |
| mosaicsExample 0.99.9 | Dongjun Chung | OK | OK | OK |
| mouse4302barcodevecs 1.0.7 | Matthew N. McCall | OK | OK | OK |
| msdata 0.1.15 | Steffen Neumann | OK | WARNINGS | OK |
| Mulder2012 0.2.5 | Xin Wang | OK | OK | OK |
| mvoutData 0.99.11 | VJ Carey | OK | OK | OK |
| NCIgraphData 0.99.7 | Laurent Jacob | OK | WARNINGS | OK |
| Neve2006 0.1.18 | VJ Carey | OK | OK | OK |
| parathyroid 0.99.8 | Michael Love | OK | OK | OK |
| parathyroidSE 1.0.4 | Michael Love | OK | OK | OK |
| pasilla 0.2.19 | Alejandro Reyes | OK | WARNINGS | OK |
| pasillaBamSubset 0.0.8 | H. Pages | OK | OK | OK |
| PathNetData 0.99.3 | Jason B. Smith | OK | OK | OK |
| pcaGoPromoter.Hs.hg19 0.99.5 | Morten Hansen, | OK | OK | OK |
| pcaGoPromoter.Mm.mm9 0.99.5 | Morten Hansen, | OK | OK | OK |
| pcaGoPromoter.Rn.rn4 0.99.5 | Morten Hansen, | OK | OK | OK |
| pd.atdschip.tiling 0.0.6 | Kristof De Beuf | OK | OK | OK |
| ppiData 0.1.24 | Bioconductor Package Maintainer | OK | WARNINGS | OK |
| prebsdata 0.99.5 | Karolis Uziela | OK | OK | OK |
| PREDAsampledata 0.2.8 | Francesco Ferrari | OK | WARNINGS | OK |
| ProData 1.0.9 | Xiaochun Li | OK | OK | OK |
| pRolocdata 1.0.3 | Laurent Gatto | OK | OK | OK |
| pumadata 1.99.7 | Richard Pearson | OK | WARNINGS | OK |
| PWMEnrich.Dmelanogaster.background 2.1.1 | Robert Stojnic | OK | WARNINGS | OK |
| PWMEnrich.Hsapiens.background 0.99.1 | Robert Stojnic | OK | OK | OK |
| PWMEnrich.Mmusculus.background 0.99.1 | Robert Stojnic | OK | OK | OK |
| RforProteomics 1.0.14 | Laurent Gatto | OK | OK | OK |
| rheumaticConditionWOLLBOLD 1.0.4 | Alejandro Quiroz-Zarate | OK | OK | OK |
| RIPSeekerData 0.99.3 | Alejandro Reyes | OK | OK | OK |
| RMassBankData 0.99.3 | Michael Stravs | OK | OK | OK |
| RNAinteractMAPK 1.0.13 | Bernd Fischer | OK | OK | OK |
| RNAseqData.HeLa.bam.chr14 0.1.5 | H. Pages | OK | WARNINGS | OK |
| RNAseqData.HNRNPC.bam.chr14 0.1.4 | H. Pages | OK | OK | OK |
| RnaSeqTutorial 0.0.14 | Nicolas Delhomme | OK | OK | OK |
| seqCNA.annot 0.99.1 | David Mosen-Ansorena | OK | OK | OK |
| serumStimulation 0.99.5 | Morten Hansen, | OK | OK | OK |
| seventyGeneData 0.99.8 | Luigi Marchionni | OK | OK | OK |
| simpIntLists 0.99.6 | Kircicegi Korkmaz | OK | WARNINGS | OK |
| SNAData 1.8.8 | Denise Scholtens | OK | OK | OK |
| SNAGEEdata 0.99.2 | David Venet | OK | OK | OK |
| SomatiCAData 1.1.1 | Mengjie Chen | OK | WARNINGS | OK |
| SomaticCancerAlterations 0.99.20 | Julian Gehring | OK | OK | OK |
| SpikeIn 1.4.11 | Rafael A. Irizarry | OK | WARNINGS | OK |
| SpikeInSubset 1.2.14 | Rafael A. Irizarry | OK | WARNINGS | OK |
| stemHypoxia 0.99.4 | Cristobal Fresno | OK | OK | OK |
| stjudem 1.2.10 | Joern Toedling | OK | OK | OK |
| synapterdata 1.0.1 | Laurent Gatto | OK | OK | OK |
| TargetScoreData 0.99.6 | Yue Li | OK | OK | OK |
| TargetSearchData 1.0.10 | Alvaro Cuadros-Inostroza Henning Redestig , Matt Hannah | OK | OK | OK |
| TBX20BamSubset 0.99.4 | D. Bindreither | OK | OK | OK |
| TCGAMethylation450k 0.99.5 | Sean Davis | OK | OK | OK |
| tinesath1cdf 1.0.10 | Tine Casneuf | OK | WARNINGS | OK |
| tinesath1probe 1.0.10 | Tine Casneuf | OK | WARNINGS | OK |
| tweeDEseqCountData 1.0.10 | Juan R Gonzalez | OK | OK | OK |
| waveTilingData 0.99.3 | Kristof De Beuf | OK | OK | OK |
| XhybCasneuf 1.0.13 | Tineke Casneuf | OK | WARNINGS | OK |
| yeastCC 1.2.20 | Sandrine Dudoit | OK | WARNINGS | OK |
| yeastExpData 0.9.24 | R. Gentleman | OK | WARNINGS | OK |
| yeastGSData 0.1.11 | R. Gentleman | OK | WARNINGS | OK |
| yeastNagalakshmi 0.99.7 | Bioconductor Package Maintainer | OK | OK | OK |
| yeastRNASeq 0.0.10 | J. Bullard | OK | WARNINGS | OK |
| yri1kgv 0.5.2 | VJ Carey | OK | OK | OK |