| Back to the "Multiple platform build/check report" |
This page was generated on 2014-04-04 17:29:12 -0700 (Fri, 04 Apr 2014).
| Package 111/181 | Hostname | OS / Arch | BUILD | CHECK | BUILD BIN | ||||
| maqcExpression4plex 1.6.3 Benilton Carvalho
| zin1 | Linux (Ubuntu 12.04.4 LTS) / x86_64 | OK | OK | |||||
| moscato1 | Windows Server 2008 R2 Enterprise SP1 (64-bit) / x64 | OK | OK | OK | |||||
| perceval | Mac OS X Snow Leopard (10.6.8) / x86_64 | [ OK ] | OK | OK |
| Package: maqcExpression4plex |
| Version: 1.6.3 |
| Command: /Library/Frameworks/R.framework/Versions/Current/Resources/bin/R CMD build --keep-empty-dirs --no-resave-data maqcExpression4plex |
| StartedAt: 2014-04-04 09:16:28 -0700 (Fri, 04 Apr 2014) |
| EndedAt: 2014-04-04 09:17:07 -0700 (Fri, 04 Apr 2014) |
| EllapsedTime: 39.2 seconds |
| RetCode: 0 |
| Status: OK |
| PackageFile: maqcExpression4plex_1.6.3.tar.gz |
| PackageFileSize: 6.578 MiB |
* checking for file ‘maqcExpression4plex/DESCRIPTION’ ... OK * preparing ‘maqcExpression4plex’: * checking DESCRIPTION meta-information ... OK * checking for LF line-endings in source and make files * checking for empty or unneeded directories * building ‘maqcExpression4plex_1.6.3.tar.gz’