| Back to the "Multiple platform build/check report" |
This page was generated on 2014-04-04 17:29:21 -0700 (Fri, 04 Apr 2014).
| Package 95/181 | Hostname | OS / Arch | BUILD | CHECK | BUILD BIN | ||||
| IlluminaDataTestFiles 1.0.2 Kasper Daniel Hansen
| zin1 | Linux (Ubuntu 12.04.4 LTS) / x86_64 | OK | OK | |||||
| moscato1 | Windows Server 2008 R2 Enterprise SP1 (64-bit) / x64 | OK | OK | OK | |||||
| perceval | Mac OS X Snow Leopard (10.6.8) / x86_64 | [ OK ] | OK | OK |
| Package: IlluminaDataTestFiles |
| Version: 1.0.2 |
| Command: /Library/Frameworks/R.framework/Versions/Current/Resources/bin/R CMD build --keep-empty-dirs --no-resave-data IlluminaDataTestFiles |
| StartedAt: 2014-04-04 09:47:55 -0700 (Fri, 04 Apr 2014) |
| EndedAt: 2014-04-04 09:48:04 -0700 (Fri, 04 Apr 2014) |
| EllapsedTime: 8.9 seconds |
| RetCode: 0 |
| Status: OK |
| PackageFile: IlluminaDataTestFiles_1.0.2.tar.gz |
| PackageFileSize: 23.69 MiB |
* checking for file ‘IlluminaDataTestFiles/DESCRIPTION’ ... OK * preparing ‘IlluminaDataTestFiles’: * checking DESCRIPTION meta-information ... OK * checking for LF line-endings in source and make files * checking for empty or unneeded directories * building ‘IlluminaDataTestFiles_1.0.2.tar.gz’