Back to the "Multiple platform build/check report" |
This page was generated on 2014-04-04 17:29:11 -0700 (Fri, 04 Apr 2014).
Package 112/181 | Hostname | OS / Arch | BUILD | CHECK | BUILD BIN | ||||
MAQCsubset 1.0.29 VJ Carey
| zin1 | Linux (Ubuntu 12.04.4 LTS) / x86_64 | OK | OK | |||||
moscato1 | Windows Server 2008 R2 Enterprise SP1 (64-bit) / x64 | OK | OK | OK | |||||
perceval | Mac OS X Snow Leopard (10.6.8) / x86_64 | OK | OK | [ OK ] |
Package: MAQCsubset |
Version: 1.0.29 |
Command: rm -rf MAQCsubset.buildbin-libdir && mkdir MAQCsubset.buildbin-libdir && /Users/biocbuild/BBS/utils/build-universal.sh MAQCsubset_1.0.29.tar.gz /Library/Frameworks/R.framework/Versions/Current/Resources/bin/R MAQCsubset.buildbin-libdir |
StartedAt: 2014-04-04 12:30:04 -0700 (Fri, 04 Apr 2014) |
EndedAt: 2014-04-04 12:32:58 -0700 (Fri, 04 Apr 2014) |
EllapsedTime: 173.9 seconds |
RetCode: 0 |
Status: OK |
PackageFile: MAQCsubset_1.0.29.tgz |
PackageFileSize: 64.28 MiB |
>>>>>>> >>>>>>> INSTALLATION WITH 'R CMD INSTALL --preclean --no-multiarch --library=MAQCsubset.buildbin-libdir MAQCsubset_1.0.29.tar.gz' >>>>>>> * installing *source* package ‘MAQCsubset’ ... ** R ** data ** inst ** preparing package for lazy loading Warning: replacing previous import by ‘graphics::image’ when loading ‘methylumi’ Warning: replacing previous import by ‘nleqslv::nleqslv’ when loading ‘lumi’ Creating a generic function for ‘lines’ from package ‘graphics’ in package ‘MAQCsubset’ ** help *** installing help indices ** building package indices ** installing vignettes ** testing if installed package can be loaded Warning: replacing previous import by ‘graphics::image’ when loading ‘methylumi’ Warning: replacing previous import by ‘nleqslv::nleqslv’ when loading ‘lumi’ * DONE (MAQCsubset)