hgu133plus2barcodevecs 1.0.7 Matthew N. McCall
 | Snapshot Date: 2014-04-04 06:15:32 -0700 (Fri, 04 Apr 2014) |  | URL: https://hedgehog.fhcrc.org/bioc-data/branches/RELEASE_2_13/experiment/pkgs/hgu133plus2barcodevecs |  | Last Changed Rev: 2533 / Revision: 2768 |  | Last Changed Date: 2013-10-14 15:00:20 -0700 (Mon, 14 Oct 2013) |  
  | zin1  | Linux (Ubuntu 12.04.4 LTS) / x86_64  |  OK  |  OK  |  | 
| moscato1  | Windows Server 2008 R2 Enterprise SP1 (64-bit) / x64  |  OK  |  OK  |  OK  | 
| perceval  | Mac OS X Snow Leopard (10.6.8) / x86_64  |  OK  |  OK  | [ OK ] | 
>>>>>>> 
>>>>>>> INSTALLATION WITH 'R CMD INSTALL --preclean --no-multiarch --library=hgu133plus2barcodevecs.buildbin-libdir hgu133plus2barcodevecs_1.0.7.tar.gz'
>>>>>>> 
* installing *source* package ‘hgu133plus2barcodevecs’ ...
** data
** help
*** installing help indices
** building package indices
** testing if installed package can be loaded
* DONE (hgu133plus2barcodevecs)