| Back to the "Multiple platform build/check report" |
This page was generated on 2014-04-04 17:29:19 -0700 (Fri, 04 Apr 2014).
| Package 149/181 | Hostname | OS / Arch | BUILD | CHECK | BUILD BIN | ||||
| RMassBankData 0.99.3 Michael Stravs
| zin1 | Linux (Ubuntu 12.04.4 LTS) / x86_64 | OK | OK | |||||
| moscato1 | Windows Server 2008 R2 Enterprise SP1 (64-bit) / x64 | OK | OK | OK | |||||
| perceval | Mac OS X Snow Leopard (10.6.8) / x86_64 | [ OK ] | OK | OK |
| Package: RMassBankData |
| Version: 0.99.3 |
| Command: /Library/Frameworks/R.framework/Versions/Current/Resources/bin/R CMD build --keep-empty-dirs --no-resave-data RMassBankData |
| StartedAt: 2014-04-04 09:34:48 -0700 (Fri, 04 Apr 2014) |
| EndedAt: 2014-04-04 09:39:01 -0700 (Fri, 04 Apr 2014) |
| EllapsedTime: 252.5 seconds |
| RetCode: 0 |
| Status: OK |
| PackageFile: RMassBankData_0.99.3.tar.gz |
| PackageFileSize: 51.45 MiB |
* checking for file ‘RMassBankData/DESCRIPTION’ ... OK * preparing ‘RMassBankData’: * checking DESCRIPTION meta-information ... OK * checking for LF line-endings in source and make files * checking for empty or unneeded directories * building ‘RMassBankData_0.99.3.tar.gz’