Back to Build/check report for BioC 3.23:   simplified   long
A[B]CDEFGHIJKLMNOPQRSTUVWXYZ

This page was generated on 2025-11-01 11:32 -0400 (Sat, 01 Nov 2025).

HostnameOSArch (*)R versionInstalled pkgs
nebbiolo1Linux (Ubuntu 24.04.3 LTS)x86_64R Under development (unstable) (2025-10-20 r88955) -- "Unsuffered Consequences" 4774
Click on any hostname to see more info about the system (e.g. compilers)      (*) as reported by 'uname -p', except on Windows and Mac OS X

All results for package Biostrings


To the developers/maintainers of the Biostrings package:
- Allow up to 24 hours (and sometimes 48 hours) for your latest push to git@git.bioconductor.org:packages/Biostrings.git to reflect on this report. See Troubleshooting Build Report for more information.
- Use the following Renviron settings to reproduce errors and warnings.
- If 'R CMD check' started to fail recently on the Linux builder(s) over a missing dependency, add the missing dependency to 'Suggests:' in your DESCRIPTION file. See Renviron.bioc for more information.

raw results

Package 220/2321HostnameOS / ArchINSTALLBUILDCHECKBUILD BIN
Biostrings 2.79.1  (landing page)
Hervé Pagès
Snapshot Date: 2025-10-31 13:40 -0400 (Fri, 31 Oct 2025)
git_url: https://git.bioconductor.org/packages/Biostrings
git_branch: devel
git_last_commit: 778d5f9
git_last_commit_date: 2025-10-30 21:41:20 -0400 (Thu, 30 Oct 2025)
nebbiolo1Linux (Ubuntu 24.04.3 LTS) / x86_64  OK    OK    WARNINGS  YES



Results for Bioconductor software packages that depend directly on package Biostrings

QUICK STATSOS / ArchINSTALLBUILDCHECKBUILD BIN
nebbiolo1Linux (Ubuntu 24.04.3 LTS) / x86_64
013274
026261
0750204
Package 1/287HostnameOS / ArchINSTALLBUILDCHECKBUILD BIN
alabaster.string 1.11.0  (landing page)
Aaron Lun
git_last_commit: d83f418
git_last_commit_date: 2025-10-29 11:21:29 -0400
nebbiolo1Linux (Ubuntu 24.04.3 LTS) / x86_64  OK    ERROR  skipped
Package 2/287HostnameOS / ArchINSTALLBUILDCHECKBUILD BIN
AllelicImbalance 1.49.0  (landing page)
Jesper R Gadin
git_last_commit: d78bb64
git_last_commit_date: 2025-10-29 10:16:36 -0400
nebbiolo1Linux (Ubuntu 24.04.3 LTS) / x86_64  OK    OK    OK  NO, package depends on 'BSgenome' which is not available
Package 3/287HostnameOS / ArchINSTALLBUILDCHECKBUILD BIN
altcdfenvs 2.73.0  (landing page)
Laurent Gautier
git_last_commit: 2798b4f
git_last_commit_date: 2025-10-29 09:54:38 -0400
nebbiolo1Linux (Ubuntu 24.04.3 LTS) / x86_64  OK    OK    OK  YES
Package 4/287HostnameOS / ArchINSTALLBUILDCHECKBUILD BIN
amplican 1.33.0  (landing page)
Eivind Valen
git_last_commit: 244fde2
git_last_commit_date: 2025-10-29 10:40:44 -0400
nebbiolo1Linux (Ubuntu 24.04.3 LTS) / x86_64  ERROR    ERROR  skipped
Package 5/287HostnameOS / ArchINSTALLBUILDCHECKBUILD BIN
AnnotationHubData 1.41.0  (landing page)
Bioconductor Package Maintainer
git_last_commit: 932837e
git_last_commit_date: 2025-10-29 10:27:35 -0400
nebbiolo1Linux (Ubuntu 24.04.3 LTS) / x86_64  OK    OK    WARNINGS  NO, package depends on 'GenomicFeatures' which is not available
Package 6/287HostnameOS / ArchINSTALLBUILDCHECKBUILD BIN
appreci8R 1.29.0  (landing page)
Sarah Sandmann
git_last_commit: bb148fd
git_last_commit_date: 2025-10-29 10:46:18 -0400
nebbiolo1Linux (Ubuntu 24.04.3 LTS) / x86_64  OK    OK    OK  NO, package depends on 'VariantAnnotation' which is not available
Package 7/287HostnameOS / ArchINSTALLBUILDCHECKBUILD BIN
AssessORF 1.29.0  (landing page)
Deepank Korandla
git_last_commit: 02cf057
git_last_commit_date: 2025-10-29 10:48:40 -0400
nebbiolo1Linux (Ubuntu 24.04.3 LTS) / x86_64  OK    OK    OK  YES
Package 8/287HostnameOS / ArchINSTALLBUILDCHECKBUILD BIN
ATACseqQC 1.35.0  (landing page)
Jianhong Ou
git_last_commit: 938226b
git_last_commit_date: 2025-10-29 10:38:34 -0400
nebbiolo1Linux (Ubuntu 24.04.3 LTS) / x86_64  ERROR    ERROR  skipped
Package 9/287HostnameOS / ArchINSTALLBUILDCHECKBUILD BIN
Basic4Cseq 1.47.0  (landing page)
Carolin Walter
git_last_commit: fe75bd1
git_last_commit_date: 2025-10-29 10:18:19 -0400
nebbiolo1Linux (Ubuntu 24.04.3 LTS) / x86_64  OK    OK    OK  YES
Package 10/287HostnameOS / ArchINSTALLBUILDCHECKBUILD BIN
BBCAnalyzer 1.41.0  (landing page)
Sarah Sandmann
git_last_commit: 7637b40
git_last_commit_date: 2025-10-29 10:27:19 -0400
nebbiolo1Linux (Ubuntu 24.04.3 LTS) / x86_64  OK    OK    OK  NO, package depends on 'VariantAnnotation' which is not available
Package 11/287HostnameOS / ArchINSTALLBUILDCHECKBUILD BIN
BCRANK 1.73.0  (landing page)
Adam Ameur
git_last_commit: 9b14843
git_last_commit_date: 2025-10-29 10:00:13 -0400
nebbiolo1Linux (Ubuntu 24.04.3 LTS) / x86_64  OK    OK    OK  YES
Package 12/287HostnameOS / ArchINSTALLBUILDCHECKBUILD BIN
bcSeq 1.33.0  (landing page)
Jiaxing Lin
git_last_commit: 7bf3e3b
git_last_commit_date: 2025-10-29 10:42:17 -0400
nebbiolo1Linux (Ubuntu 24.04.3 LTS) / x86_64  OK    OK    WARNINGS  YES
Package 13/287HostnameOS / ArchINSTALLBUILDCHECKBUILD BIN
BEAT 1.49.0  (landing page)
Kemal Akman
git_last_commit: 3a301bb
git_last_commit_date: 2025-10-29 10:17:47 -0400
nebbiolo1Linux (Ubuntu 24.04.3 LTS) / x86_64  OK    OK    OK  NO, package depends on 'BSgenome' which is not available
Package 14/287HostnameOS / ArchINSTALLBUILDCHECKBUILD BIN
BgeeCall 1.27.0  (landing page)
Julien Wollbrett
git_last_commit: 7cf1fc3
git_last_commit_date: 2025-10-29 10:56:16 -0400
nebbiolo1Linux (Ubuntu 24.04.3 LTS) / x86_64  ERROR    ERROR  skipped
Package 15/287HostnameOS / ArchINSTALLBUILDCHECKBUILD BIN
biovizBase 1.59.0  (landing page)
Michael Lawrence
git_last_commit: 7895cbf
git_last_commit_date: 2025-10-29 10:09:04 -0400
nebbiolo1Linux (Ubuntu 24.04.3 LTS) / x86_64  OK    OK    WARNINGS  NO, package depends on 'GenomicFeatures' which is not available
Package 16/287HostnameOS / ArchINSTALLBUILDCHECKBUILD BIN
BRAIN 1.57.0  (landing page)
Piotr Dittwald
git_last_commit: 55549e0
git_last_commit_date: 2025-10-29 10:10:26 -0400
nebbiolo1Linux (Ubuntu 24.04.3 LTS) / x86_64  OK    OK    WARNINGS  YES
Package 17/287HostnameOS / ArchINSTALLBUILDCHECKBUILD BIN
branchpointer 1.37.0  (landing page)
Beth Signal
git_last_commit: a9cef4c
git_last_commit_date: 2025-10-29 10:37:20 -0400
nebbiolo1Linux (Ubuntu 24.04.3 LTS) / x86_64  OK    ERROR  skipped
Package 18/287HostnameOS / ArchINSTALLBUILDCHECKBUILD BIN
BSgenome 1.79.0  (landing page)
Hervé Pagès
git_last_commit: ed2fb58
git_last_commit_date: 2025-10-29 14:47:19 -0400
nebbiolo1Linux (Ubuntu 24.04.3 LTS) / x86_64  OK    OK    WARNINGS  NO, package depends on 'rtracklayer' which is not available
Package 19/287HostnameOS / ArchINSTALLBUILDCHECKBUILD BIN
BSgenomeForge 1.11.0  (landing page)
Hervé Pagès
git_last_commit: c7d1729
git_last_commit_date: 2025-10-29 14:46:49 -0400
nebbiolo1Linux (Ubuntu 24.04.3 LTS) / x86_64  OK    OK    OK  NO, package depends on 'BSgenome' which is not available
Package 20/287HostnameOS / ArchINSTALLBUILDCHECKBUILD BIN
bsseq 1.47.1  (landing page)
Kasper Daniel Hansen
git_last_commit: 46b4295
git_last_commit_date: 2025-10-31 11:03:21 -0400
nebbiolo1Linux (Ubuntu 24.04.3 LTS) / x86_64  OK    OK    WARNINGS  NO, package depends on 'BSgenome' which is not available
Package 21/287HostnameOS / ArchINSTALLBUILDCHECKBUILD BIN
BUMHMM 1.35.0  (landing page)
Alina Selega
git_last_commit: 468b3c7
git_last_commit_date: 2025-10-29 10:35:55 -0400
nebbiolo1Linux (Ubuntu 24.04.3 LTS) / x86_64  OK    OK    OK  YES
Package 22/287HostnameOS / ArchINSTALLBUILDCHECKBUILD BIN
BUSpaRse 1.25.0  (landing page)
Lambda Moses
git_last_commit: 031e018
git_last_commit_date: 2025-10-29 10:53:52 -0400
nebbiolo1Linux (Ubuntu 24.04.3 LTS) / x86_64  OK    OK    OK  NO, package depends on 'BSgenome' which is not available
Package 23/287HostnameOS / ArchINSTALLBUILDCHECKBUILD BIN
CAGEr 2.17.0  (landing page)
Charles Plessy
git_last_commit: 0a93a41
git_last_commit_date: 2025-10-29 10:13:45 -0400
nebbiolo1Linux (Ubuntu 24.04.3 LTS) / x86_64  OK    OK    OK  NO, package depends on 'BSgenome' which is not available
Package 24/287HostnameOS / ArchINSTALLBUILDCHECKBUILD BIN
CellBarcode 1.17.0  (landing page)
Wenjie Sun
git_last_commit: bc09e4a
git_last_commit_date: 2025-10-29 11:13:43 -0400
nebbiolo1Linux (Ubuntu 24.04.3 LTS) / x86_64  OK    OK    OK  YES
Package 25/287HostnameOS / ArchINSTALLBUILDCHECKBUILD BIN
chimeraviz 1.37.0  (landing page)
Stian Lågstad
git_last_commit: 3490116
git_last_commit_date: 2025-10-29 10:35:50 -0400
nebbiolo1Linux (Ubuntu 24.04.3 LTS) / x86_64  OK    OK    OK  NO, package depends on 'Gviz' which is not available
Package 26/287HostnameOS / ArchINSTALLBUILDCHECKBUILD BIN
ChIPanalyser 1.33.0  (landing page)
Patrick C.N. Martin
git_last_commit: 873269e
git_last_commit_date: 2025-10-29 10:40:34 -0400
nebbiolo1Linux (Ubuntu 24.04.3 LTS) / x86_64  OK    OK    OK  NO, package depends on 'BSgenome' which is not available
Package 27/287HostnameOS / ArchINSTALLBUILDCHECKBUILD BIN
ChIPpeakAnno 3.45.0  (landing page)
Jianhong Ou
git_last_commit: 2e00e23
git_last_commit_date: 2025-10-29 10:03:18 -0400
nebbiolo1Linux (Ubuntu 24.04.3 LTS) / x86_64  ERROR    ERROR  skipped
Package 28/287HostnameOS / ArchINSTALLBUILDCHECKBUILD BIN
ChIPseqR 1.65.0  (landing page)
Peter Humburg
git_last_commit: 7948588
git_last_commit_date: 2025-10-29 10:03:52 -0400
nebbiolo1Linux (Ubuntu 24.04.3 LTS) / x86_64  OK    OK    OK  YES
Package 29/287HostnameOS / ArchINSTALLBUILDCHECKBUILD BIN
ChIPsim 1.65.0  (landing page)
Peter Humburg
git_last_commit: 5fed093
git_last_commit_date: 2025-10-29 10:03:24 -0400
nebbiolo1Linux (Ubuntu 24.04.3 LTS) / x86_64  OK    OK    OK  YES
Package 30/287HostnameOS / ArchINSTALLBUILDCHECKBUILD BIN
chromVAR 1.33.0  (landing page)
Alicia Schep
git_last_commit: 1730858
git_last_commit_date: 2025-10-29 10:41:16 -0400
nebbiolo1Linux (Ubuntu 24.04.3 LTS) / x86_64  ERROR    ERROR  skipped
Package 31/287HostnameOS / ArchINSTALLBUILDCHECKBUILD BIN
cigarillo 1.1.0  (landing page)
Hervé Pagès
git_last_commit: f89db3d
git_last_commit_date: 2025-10-29 11:39:18 -0400
nebbiolo1Linux (Ubuntu 24.04.3 LTS) / x86_64  OK    OK    OK  YES
Package 32/287HostnameOS / ArchINSTALLBUILDCHECKBUILD BIN
circRNAprofiler 1.25.0  (landing page)
Simona Aufiero
git_last_commit: a9049f9
git_last_commit_date: 2025-10-29 10:53:06 -0400
nebbiolo1Linux (Ubuntu 24.04.3 LTS) / x86_64  OK    OK    OK  NO, package depends on 'rtracklayer' which is not available
Package 33/287HostnameOS / ArchINSTALLBUILDCHECKBUILD BIN
CircSeqAlignTk 1.13.0  (landing page)
Jianqiang Sun
git_last_commit: 4415fca
git_last_commit_date: 2025-10-29 11:19:05 -0400
nebbiolo1Linux (Ubuntu 24.04.3 LTS) / x86_64  OK    OK    OK  NO, package depends on 'Rhisat2' which is not available
Package 34/287HostnameOS / ArchINSTALLBUILDCHECKBUILD BIN
cleanUpdTSeq 1.49.0  (landing page)
Jianhong Ou ; Lihua Julie Zhu
git_last_commit: 8cf2661
git_last_commit_date: 2025-10-29 10:15:28 -0400
nebbiolo1Linux (Ubuntu 24.04.3 LTS) / x86_64  OK    OK    OK  NO, package depends on 'BSgenome' which is not available
Package 35/287HostnameOS / ArchINSTALLBUILDCHECKBUILD BIN
CleanUpRNAseq 1.5.0  (landing page)
Haibo Liu
git_last_commit: 4f653f6
git_last_commit_date: 2025-10-29 11:31:19 -0400
nebbiolo1Linux (Ubuntu 24.04.3 LTS) / x86_64  OK    OK    OK  NO, package depends on 'BSgenome' which is not available
Package 36/287HostnameOS / ArchINSTALLBUILDCHECKBUILD BIN
cleaver 1.49.0  (landing page)
Sebastian Gibb
git_last_commit: d68c701
git_last_commit_date: 2025-10-29 10:15:06 -0400
nebbiolo1Linux (Ubuntu 24.04.3 LTS) / x86_64  OK    OK    OK  YES
Package 37/287HostnameOS / ArchINSTALLBUILDCHECKBUILD BIN
cliProfiler 1.17.0  (landing page)
You Zhou
git_last_commit: ac5b6e2
git_last_commit_date: 2025-10-29 11:12:54 -0400
nebbiolo1Linux (Ubuntu 24.04.3 LTS) / x86_64  OK    OK    OK  NO, package depends on 'rtracklayer' which is not available
Package 38/287HostnameOS / ArchINSTALLBUILDCHECKBUILD BIN
CNEr 1.47.0  (landing page)
Boris Lenhard Damir Baranasic
git_last_commit: 4d7f8ce
git_last_commit_date: 2025-10-29 10:18:00 -0400
nebbiolo1Linux (Ubuntu 24.04.3 LTS) / x86_64  OK    OK    WARNINGS  NO, package depends on 'rtracklayer' which is not available
Package 39/287HostnameOS / ArchINSTALLBUILDCHECKBUILD BIN
CNVfilteR 1.25.0  (landing page)
Jose Marcos Moreno-Cabrera
git_last_commit: e65bd7a
git_last_commit_date: 2025-10-29 10:54:50 -0400
nebbiolo1Linux (Ubuntu 24.04.3 LTS) / x86_64  OK    OK    OK  NO, package depends on 'regioneR' which is not available
Package 40/287HostnameOS / ArchINSTALLBUILDCHECKBUILD BIN
CODEX 1.43.0  (landing page)
Yuchao Jiang
git_last_commit: 6fce599
git_last_commit_date: 2025-10-29 10:23:27 -0400
nebbiolo1Linux (Ubuntu 24.04.3 LTS) / x86_64  OK    OK    OK  YES
Package 41/287HostnameOS / ArchINSTALLBUILDCHECKBUILD BIN
cogeqc 1.15.0  (landing page)
Fabrício Almeida-Silva
git_last_commit: 0e2fb28
git_last_commit_date: 2025-10-29 11:16:40 -0400
nebbiolo1Linux (Ubuntu 24.04.3 LTS) / x86_64  OK    OK    OK  YES
Package 42/287HostnameOS / ArchINSTALLBUILDCHECKBUILD BIN
compEpiTools 1.45.0  (landing page)
Mattia Furlan
git_last_commit: 949eb04
git_last_commit_date: 2025-10-29 10:20:59 -0400
nebbiolo1Linux (Ubuntu 24.04.3 LTS) / x86_64  OK    OK    OK  NO, package depends on 'GenomicFeatures' which is not available
Package 43/287HostnameOS / ArchINSTALLBUILDCHECKBUILD BIN
consensusDE 1.29.0  (landing page)
Ashley J. Waardenberg
git_last_commit: e69df52
git_last_commit_date: 2025-10-29 10:48:35 -0400
nebbiolo1Linux (Ubuntu 24.04.3 LTS) / x86_64  ERROR    ERROR  skipped
Package 44/287HostnameOS / ArchINSTALLBUILDCHECKBUILD BIN
coRdon 1.29.0  (landing page)
Anamaria Elek
git_last_commit: f418d09
git_last_commit_date: 2025-10-29 10:46:38 -0400
nebbiolo1Linux (Ubuntu 24.04.3 LTS) / x86_64  OK    OK    OK  YES
Package 45/287HostnameOS / ArchINSTALLBUILDCHECKBUILD BIN
crisprBase 1.15.0  (landing page)
Jean-Philippe Fortin
git_last_commit: 8c55499
git_last_commit_date: 2025-10-29 11:14:18 -0400
nebbiolo1Linux (Ubuntu 24.04.3 LTS) / x86_64  OK    OK    WARNINGS  YES
Package 46/287HostnameOS / ArchINSTALLBUILDCHECKBUILD BIN
crisprBowtie 1.15.0  (landing page)
Jean-Philippe Fortin
git_last_commit: 5838b33
git_last_commit_date: 2025-10-29 11:15:03 -0400
nebbiolo1Linux (Ubuntu 24.04.3 LTS) / x86_64  OK    OK    OK  NO, package depends on 'BSgenome' which is not available
Package 47/287HostnameOS / ArchINSTALLBUILDCHECKBUILD BIN
crisprDesign 1.13.0  (landing page)
Jean-Philippe Fortin
git_last_commit: dd162c8
git_last_commit_date: 2025-10-29 11:17:54 -0400
nebbiolo1Linux (Ubuntu 24.04.3 LTS) / x86_64  OK    OK    OK  NO, package depends on 'BSgenome' which is not available
Package 48/287HostnameOS / ArchINSTALLBUILDCHECKBUILD BIN
crisprScore 1.15.0  (landing page)
Jean-Philippe Fortin
git_last_commit: 8b5dc77
git_last_commit_date: 2025-10-29 11:14:23 -0400
nebbiolo1Linux (Ubuntu 24.04.3 LTS) / x86_64  OK    OK    OK  YES
Package 49/287HostnameOS / ArchINSTALLBUILDCHECKBUILD BIN
CRISPRseek 1.51.0  (landing page)
Lihua Julie Zhu
git_last_commit: 0934262
git_last_commit_date: 2025-10-29 10:17:22 -0400
nebbiolo1Linux (Ubuntu 24.04.3 LTS) / x86_64  OK    OK    OK  NO, package depends on 'GenomicFeatures' which is not available
Package 50/287HostnameOS / ArchINSTALLBUILDCHECKBUILD BIN
crisprShiny 1.7.0  (landing page)
Jean-Philippe Fortin
git_last_commit: e4da799
git_last_commit_date: 2025-10-29 11:28:01 -0400
nebbiolo1Linux (Ubuntu 24.04.3 LTS) / x86_64  ERROR    ERROR  skipped
Package 51/287HostnameOS / ArchINSTALLBUILDCHECKBUILD BIN
CrispRVariants 1.39.0  (landing page)
Helen Lindsay
git_last_commit: 4dcc360
git_last_commit_date: 2025-10-29 10:29:17 -0400
nebbiolo1Linux (Ubuntu 24.04.3 LTS) / x86_64  OK    OK    WARNINGS  YES
Package 52/287HostnameOS / ArchINSTALLBUILDCHECKBUILD BIN
crisprViz 1.13.0  (landing page)
Jean-Philippe Fortin
git_last_commit: e839b44
git_last_commit_date: 2025-10-29 11:18:46 -0400
nebbiolo1Linux (Ubuntu 24.04.3 LTS) / x86_64  OK    OK    OK  NO, package depends on 'crisprDesign' which is not available
Package 53/287HostnameOS / ArchINSTALLBUILDCHECKBUILD BIN
customProDB 1.51.0  (landing page)
Xiaojing Wang
git_last_commit: 8317345
git_last_commit_date: 2025-10-29 10:15:09 -0400
nebbiolo1Linux (Ubuntu 24.04.3 LTS) / x86_64  OK    OK    ERROR  
Package 54/287HostnameOS / ArchINSTALLBUILDCHECKBUILD BIN
dada2 1.39.0  (landing page)
Benjamin Callahan
git_last_commit: 29f93c2
git_last_commit_date: 2025-10-29 10:30:17 -0400
nebbiolo1Linux (Ubuntu 24.04.3 LTS) / x86_64  OK    OK    WARNINGS  YES
Package 55/287HostnameOS / ArchINSTALLBUILDCHECKBUILD BIN
dagLogo 1.49.0  (landing page)
Jianhong Ou
git_last_commit: 73a5187
git_last_commit_date: 2025-10-29 10:16:42 -0400
nebbiolo1Linux (Ubuntu 24.04.3 LTS) / x86_64  OK    OK    OK  NO, package depends on 'motifStack' which is not available
Package 56/287HostnameOS / ArchINSTALLBUILDCHECKBUILD BIN
DAMEfinder 1.23.0  (landing page)
Stephany Orjuela
git_last_commit: cb8c833
git_last_commit_date: 2025-10-29 10:56:31 -0400
nebbiolo1Linux (Ubuntu 24.04.3 LTS) / x86_64  OK    OK    OK  NO, package depends on 'VariantAnnotation' which is not available
Package 57/287HostnameOS / ArchINSTALLBUILDCHECKBUILD BIN
Damsel 1.7.0  (landing page)
Caitlin Page
git_last_commit: 4c35e04
git_last_commit_date: 2025-10-29 11:29:38 -0400
nebbiolo1Linux (Ubuntu 24.04.3 LTS) / x86_64  OK    OK    WARNINGS  NO, package depends on 'GenomicFeatures' which is not available
Package 58/287HostnameOS / ArchINSTALLBUILDCHECKBUILD BIN
DECIPHER 3.7.0  (landing page)
Erik Wright
git_last_commit: 9fb2779
git_last_commit_date: 2025-10-29 10:09:13 -0400
nebbiolo1Linux (Ubuntu 24.04.3 LTS) / x86_64  OK    OK    OK  YES
Package 59/287HostnameOS / ArchINSTALLBUILDCHECKBUILD BIN
decompTumor2Sig 2.27.0  (landing page)
Rosario M. Piro
git_last_commit: d30b743
git_last_commit_date: 2025-10-29 10:49:06 -0400
nebbiolo1Linux (Ubuntu 24.04.3 LTS) / x86_64  OK    OK    OK  NO, package depends on 'GenomicFeatures' which is not available
Package 60/287HostnameOS / ArchINSTALLBUILDCHECKBUILD BIN
deepSNV 1.57.0  (landing page)
Moritz Gerstung
git_last_commit: 445cbf8
git_last_commit_date: 2025-10-29 10:10:15 -0400
nebbiolo1Linux (Ubuntu 24.04.3 LTS) / x86_64  OK    OK    OK  NO, package depends on 'VariantAnnotation' which is not available
Package 61/287HostnameOS / ArchINSTALLBUILDCHECKBUILD BIN
diffHic 1.43.0  (landing page)
Aaron Lun , Gordon Smyth , Hannah Coughlin
git_last_commit: c909cdb
git_last_commit_date: 2025-10-29 10:25:47 -0400
nebbiolo1Linux (Ubuntu 24.04.3 LTS) / x86_64  OK    OK    OK  NO, package depends on 'BSgenome' which is not available
Package 62/287HostnameOS / ArchINSTALLBUILDCHECKBUILD BIN
DMRcaller 1.43.1  (landing page)
Nicolae Radu Zabet
git_last_commit: 9bc0219
git_last_commit_date: 2025-10-30 09:44:07 -0400
nebbiolo1Linux (Ubuntu 24.04.3 LTS) / x86_64  OK    OK    OK  NO, package depends on 'BSgenome' which is not available
Package 63/287HostnameOS / ArchINSTALLBUILDCHECKBUILD BIN
DNAshapeR 1.39.0  (landing page)
Tsu-Pei Chiu
git_last_commit: 6276ca2
git_last_commit_date: 2025-10-29 10:30:49 -0400
nebbiolo1Linux (Ubuntu 24.04.3 LTS) / x86_64  OK    OK    OK  YES
Package 64/287HostnameOS / ArchINSTALLBUILDCHECKBUILD BIN
DominoEffect 1.31.0  (landing page)
Marija Buljan , Peter Blattmann
git_last_commit: 2cae082
git_last_commit_date: 2025-10-29 10:43:24 -0400
nebbiolo1Linux (Ubuntu 24.04.3 LTS) / x86_64  OK    OK    OK  NO, package depends on 'VariantAnnotation' which is not available
Package 65/287HostnameOS / ArchINSTALLBUILDCHECKBUILD BIN
doubletrouble 1.11.0  (landing page)
Fabrício Almeida-Silva
git_last_commit: 60c6759
git_last_commit_date: 2025-10-29 11:20:05 -0400
nebbiolo1Linux (Ubuntu 24.04.3 LTS) / x86_64  OK    OK    OK  NO, package depends on 'GenomicFeatures' which is not available
Package 66/287HostnameOS / ArchINSTALLBUILDCHECKBUILD BIN
DspikeIn 1.1.0  (landing page)
Mitra Ghotbi
git_last_commit: 18fc5b8
git_last_commit_date: 2025-10-29 11:39:12 -0400
nebbiolo1Linux (Ubuntu 24.04.3 LTS) / x86_64  OK    OK    OK  NO, package depends on 'TreeSummarizedExperiment' which is not available
Package 67/287HostnameOS / ArchINSTALLBUILDCHECKBUILD BIN
DuplexDiscovereR 1.5.0  (landing page)
Egor Semenchenko
git_last_commit: 4cdae86
git_last_commit_date: 2025-10-29 11:32:35 -0400
nebbiolo1Linux (Ubuntu 24.04.3 LTS) / x86_64  OK    OK    OK  NO, package depends on 'Gviz' which is not available
Package 68/287HostnameOS / ArchINSTALLBUILDCHECKBUILD BIN
easyRNASeq 2.47.0  (landing page)
Nicolas Delhomme
git_last_commit: 1cb9a73
git_last_commit_date: 2025-10-29 10:10:00 -0400
nebbiolo1Linux (Ubuntu 24.04.3 LTS) / x86_64  OK    OK    WARNINGS  YES
Package 69/287HostnameOS / ArchINSTALLBUILDCHECKBUILD BIN
EDASeq 2.45.0  (landing page)
Davide Risso
git_last_commit: 1f147bc
git_last_commit_date: 2025-10-29 10:08:53 -0400
nebbiolo1Linux (Ubuntu 24.04.3 LTS) / x86_64  OK    OK    OK  NO, package depends on 'GenomicFeatures' which is not available
Package 70/287HostnameOS / ArchINSTALLBUILDCHECKBUILD BIN
enhancerHomologSearch 1.17.0  (landing page)
Jianhong Ou
git_last_commit: aec9810
git_last_commit_date: 2025-10-29 11:11:19 -0400
nebbiolo1Linux (Ubuntu 24.04.3 LTS) / x86_64  OK    OK    OK  NO, package depends on 'BSgenome' which is not available
Package 71/287HostnameOS / ArchINSTALLBUILDCHECKBUILD BIN
ensembldb 2.35.0  (landing page)
Johannes Rainer
git_last_commit: a74ca18
git_last_commit_date: 2025-10-29 10:24:50 -0400
nebbiolo1Linux (Ubuntu 24.04.3 LTS) / x86_64  OK    OK    OK  NO, package depends on 'GenomicFeatures' which is not available
Package 72/287HostnameOS / ArchINSTALLBUILDCHECKBUILD BIN
EpiTxDb 1.23.0  (landing page)
Felix G.M. Ernst
git_last_commit: 23585ca
git_last_commit_date: 2025-10-29 10:57:35 -0400
nebbiolo1Linux (Ubuntu 24.04.3 LTS) / x86_64  OK    OK    OK  NO, package depends on 'GenomicFeatures' which is not available
Package 73/287HostnameOS / ArchINSTALLBUILDCHECKBUILD BIN
esATAC 1.33.0  (landing page)
Zheng Wei
git_last_commit: 90d779d
git_last_commit_date: 2025-10-29 10:42:12 -0400
nebbiolo1Linux (Ubuntu 24.04.3 LTS) / x86_64  ERROR    ERROR  skipped
Package 74/287HostnameOS / ArchINSTALLBUILDCHECKBUILD BIN
eudysbiome 1.41.0  (landing page)
Xiaoyuan Zhou
git_last_commit: 112407c
git_last_commit_date: 2025-10-29 10:27:08 -0400
nebbiolo1Linux (Ubuntu 24.04.3 LTS) / x86_64  OK    OK    OK  YES
Package 75/287HostnameOS / ArchINSTALLBUILDCHECKBUILD BIN
EventPointer 3.19.0  (landing page)
Juan A. Ferrer-Bonsoms
git_last_commit: ab73f34
git_last_commit_date: 2025-10-29 10:37:08 -0400
nebbiolo1Linux (Ubuntu 24.04.3 LTS) / x86_64  ERROR    ERROR  skipped
Package 76/287HostnameOS / ArchINSTALLBUILDCHECKBUILD BIN
factR 1.13.0  (landing page)
Fursham Hamid
git_last_commit: 20ced47
git_last_commit_date: 2025-10-29 11:17:33 -0400
nebbiolo1Linux (Ubuntu 24.04.3 LTS) / x86_64  OK    OK    OK  NO, package depends on 'GenomicFeatures' which is not available
Package 77/287HostnameOS / ArchINSTALLBUILDCHECKBUILD BIN
FastqCleaner 1.29.0  (landing page)
Leandro Roser
git_last_commit: 464323c
git_last_commit_date: 2025-10-29 10:45:40 -0400
nebbiolo1Linux (Ubuntu 24.04.3 LTS) / x86_64  OK    OK    OK  YES
Package 78/287HostnameOS / ArchINSTALLBUILDCHECKBUILD BIN
FLAMES 2.5.1  (landing page)
Changqing Wang
git_last_commit: 7887658
git_last_commit_date: 2025-10-31 02:11:54 -0400
nebbiolo1Linux (Ubuntu 24.04.3 LTS) / x86_64  OK    OK    OK  NO, package depends on 'bambu' which is not available
Package 79/287HostnameOS / ArchINSTALLBUILDCHECKBUILD BIN
G4SNVHunter 1.3.0  (landing page)
Rongxin Zhang
git_last_commit: ec8c408
git_last_commit_date: 2025-10-29 11:33:18 -0400
nebbiolo1Linux (Ubuntu 24.04.3 LTS) / x86_64  OK    OK    WARNINGS  NO, package depends on 'VariantAnnotation' which is not available
Package 80/287HostnameOS / ArchINSTALLBUILDCHECKBUILD BIN
GA4GHclient 1.35.0  (landing page)
Welliton Souza
git_last_commit: 22fbbfa
git_last_commit_date: 2025-10-29 10:37:37 -0400
nebbiolo1Linux (Ubuntu 24.04.3 LTS) / x86_64  OK    OK    OK  NO, package depends on 'VariantAnnotation' which is not available
Package 81/287HostnameOS / ArchINSTALLBUILDCHECKBUILD BIN
gcapc 1.35.0  (landing page)
Mingxiang Teng
git_last_commit: ffa3e8b
git_last_commit_date: 2025-10-29 10:35:52 -0400
nebbiolo1Linux (Ubuntu 24.04.3 LTS) / x86_64  OK    OK    OK  NO, package depends on 'BSgenome' which is not available
Package 82/287HostnameOS / ArchINSTALLBUILDCHECKBUILD BIN
gcrma 2.83.0  (landing page)
Z. Wu
git_last_commit: 2a7d479
git_last_commit_date: 2025-10-29 09:53:32 -0400
nebbiolo1Linux (Ubuntu 24.04.3 LTS) / x86_64  OK    OK    OK  YES
Package 83/287HostnameOS / ArchINSTALLBUILDCHECKBUILD BIN
gDNAx 1.9.0  (landing page)
Robert Castelo
git_last_commit: 64d243e
git_last_commit_date: 2025-10-29 11:24:57 -0400
nebbiolo1Linux (Ubuntu 24.04.3 LTS) / x86_64  OK    OK    OK  NO, package depends on 'GenomicFiles' which is not available
Package 84/287HostnameOS / ArchINSTALLBUILDCHECKBUILD BIN
GeneRegionScan 1.67.0  (landing page)
Lasse Folkersen
git_last_commit: e7590a3
git_last_commit_date: 2025-10-29 10:02:41 -0400
nebbiolo1Linux (Ubuntu 24.04.3 LTS) / x86_64  OK    OK    OK  YES
Package 85/287HostnameOS / ArchINSTALLBUILDCHECKBUILD BIN
GeneStructureTools 1.31.0  (landing page)
Beth Signal
git_last_commit: 995a387
git_last_commit_date: 2025-10-29 10:43:43 -0400
nebbiolo1Linux (Ubuntu 24.04.3 LTS) / x86_64  OK    OK    OK  NO, package depends on 'Gviz' which is not available
Package 86/287HostnameOS / ArchINSTALLBUILDCHECKBUILD BIN
genomation 1.43.0  (landing page)
Altuna Akalin , Vedran Franke
git_last_commit: c618839
git_last_commit_date: 2025-10-29 10:23:07 -0400
nebbiolo1Linux (Ubuntu 24.04.3 LTS) / x86_64  OK    OK    OK  NO, package depends on 'BSgenome' which is not available
Package 87/287HostnameOS / ArchINSTALLBUILDCHECKBUILD BIN
GenomAutomorphism 1.13.0  (landing page)
Robersy Sanchez
git_last_commit: 7283b3b
git_last_commit_date: 2025-10-29 11:17:59 -0400
nebbiolo1Linux (Ubuntu 24.04.3 LTS) / x86_64  OK    OK    OK  YES
Package 88/287HostnameOS / ArchINSTALLBUILDCHECKBUILD BIN
GenomicAlignments 1.47.0  (landing page)
Hervé Pagès
git_last_commit: 085e9df
git_last_commit_date: 2025-10-29 14:50:25 -0400
nebbiolo1Linux (Ubuntu 24.04.3 LTS) / x86_64  OK    OK    OK  YES
Package 89/287HostnameOS / ArchINSTALLBUILDCHECKBUILD BIN
GenomicDistributions 1.19.0  (landing page)
Kristyna Kupkova
git_last_commit: eca5b00
git_last_commit_date: 2025-10-29 11:05:22 -0400
nebbiolo1Linux (Ubuntu 24.04.3 LTS) / x86_64  OK    OK    OK  YES
Package 90/287HostnameOS / ArchINSTALLBUILDCHECKBUILD BIN
GenomicFeatures 1.63.1  (landing page)
H. Pagès
git_last_commit: d92f2d0
git_last_commit_date: 2025-10-30 02:00:29 -0400
nebbiolo1Linux (Ubuntu 24.04.3 LTS) / x86_64  OK    OK    OK  NO, package depends on 'rtracklayer' which is not available
Package 91/287HostnameOS / ArchINSTALLBUILDCHECKBUILD BIN
GenomicScores 2.23.0  (landing page)
Robert Castelo
git_last_commit: fce182e
git_last_commit_date: 2025-10-29 10:38:07 -0400
nebbiolo1Linux (Ubuntu 24.04.3 LTS) / x86_64  OK    OK    OK  YES
Package 92/287HostnameOS / ArchINSTALLBUILDCHECKBUILD BIN
GenVisR 1.43.0  (landing page)
Zachary Skidmore
git_last_commit: e398c9b
git_last_commit_date: 2025-10-29 10:29:36 -0400
nebbiolo1Linux (Ubuntu 24.04.3 LTS) / x86_64  OK    OK    ERROR  
Package 93/287HostnameOS / ArchINSTALLBUILDCHECKBUILD BIN
geomeTriD 1.5.0  (landing page)
Jianhong Ou
git_last_commit: d93feea
git_last_commit_date: 2025-10-29 11:32:13 -0400
nebbiolo1Linux (Ubuntu 24.04.3 LTS) / x86_64  OK    OK    OK  NO, package depends on 'trackViewer' which is not available
Package 94/287HostnameOS / ArchINSTALLBUILDCHECKBUILD BIN
ggbio 1.59.0  (landing page)
Michael Lawrence
git_last_commit: 6c3efb9
git_last_commit_date: 2025-10-29 10:09:27 -0400
nebbiolo1Linux (Ubuntu 24.04.3 LTS) / x86_64  OK    OK    WARNINGS  NO, package depends on 'biovizBase' which is not available
Package 95/287HostnameOS / ArchINSTALLBUILDCHECKBUILD BIN
ggmsa 1.17.0  (landing page)
Guangchuang Yu
git_last_commit: aa847fd
git_last_commit_date: 2025-10-29 11:12:22 -0400
nebbiolo1Linux (Ubuntu 24.04.3 LTS) / x86_64  OK    OK    WARNINGS  YES
Package 96/287HostnameOS / ArchINSTALLBUILDCHECKBUILD BIN
gmapR 1.53.0  (landing page)
Michael Lawrence
git_last_commit: f0b8dac
git_last_commit_date: 2025-10-29 10:11:34 -0400
nebbiolo1Linux (Ubuntu 24.04.3 LTS) / x86_64  OK    ERROR  skipped
Package 97/287HostnameOS / ArchINSTALLBUILDCHECKBUILD BIN
gmoviz 1.23.0  (landing page)
Kathleen Zeglinski
git_last_commit: 13acb8f
git_last_commit_date: 2025-10-29 10:57:48 -0400
nebbiolo1Linux (Ubuntu 24.04.3 LTS) / x86_64  OK    OK    OK  NO, package depends on 'GenomicFeatures' which is not available
Package 98/287HostnameOS / ArchINSTALLBUILDCHECKBUILD BIN
GOTHiC 1.47.0  (landing page)
Borbala Mifsud
git_last_commit: 7af2557
git_last_commit_date: 2025-10-29 10:52:56 -0400
nebbiolo1Linux (Ubuntu 24.04.3 LTS) / x86_64  OK    OK    OK  NO, package depends on 'BSgenome' which is not available
Package 99/287HostnameOS / ArchINSTALLBUILDCHECKBUILD BIN
GRaNIE 1.15.0  (landing page)
Christian Arnold
git_last_commit: 43246b6
git_last_commit_date: 2025-10-29 11:16:56 -0400
nebbiolo1Linux (Ubuntu 24.04.3 LTS) / x86_64  OK    OK    ERROR  
Package 100/287HostnameOS / ArchINSTALLBUILDCHECKBUILD BIN
GUIDEseq 1.41.0  (landing page)
Lihua Julie Zhu
git_last_commit: 4a812cc
git_last_commit_date: 2025-10-29 10:28:16 -0400
nebbiolo1Linux (Ubuntu 24.04.3 LTS) / x86_64  ERROR    ERROR  skipped
Package 101/287HostnameOS / ArchINSTALLBUILDCHECKBUILD BIN
Gviz 1.55.0  (landing page)
Robert Ivanek
git_last_commit: 6339846
git_last_commit_date: 2025-10-29 10:10:17 -0400
nebbiolo1Linux (Ubuntu 24.04.3 LTS) / x86_64  OK    OK    OK  NO, package depends on 'rtracklayer' which is not available
Package 102/287HostnameOS / ArchINSTALLBUILDCHECKBUILD BIN
gwascat 2.43.0  (landing page)
VJ Carey
git_last_commit: ec24f27
git_last_commit_date: 2025-10-29 10:10:23 -0400
nebbiolo1Linux (Ubuntu 24.04.3 LTS) / x86_64  OK    OK    OK  NO, package depends on 'GenomicFeatures' which is not available
Package 103/287HostnameOS / ArchINSTALLBUILDCHECKBUILD BIN
h5vc 2.45.0  (landing page)
Paul Theodor Pyl
git_last_commit: 39f8a8c
git_last_commit_date: 2025-10-29 10:17:13 -0400
nebbiolo1Linux (Ubuntu 24.04.3 LTS) / x86_64  OK    OK    OK  YES
Package 104/287HostnameOS / ArchINSTALLBUILDCHECKBUILD BIN
heatmaps 1.35.0  (landing page)
Malcolm Perry
git_last_commit: dd77fbc
git_last_commit_date: 2025-10-29 10:38:31 -0400
nebbiolo1Linux (Ubuntu 24.04.3 LTS) / x86_64  OK    OK    OK  YES
Package 105/287HostnameOS / ArchINSTALLBUILDCHECKBUILD BIN
HelloRanges 1.37.0  (landing page)
Michael Lawrence
git_last_commit: 38fc888
git_last_commit_date: 2025-10-29 10:35:10 -0400
nebbiolo1Linux (Ubuntu 24.04.3 LTS) / x86_64  OK    OK    OK  NO, package depends on 'BSgenome' which is not available
Package 106/287HostnameOS / ArchINSTALLBUILDCHECKBUILD BIN
HiCaptuRe 1.1.0  (landing page)
Laureano Tomas-Daza
git_last_commit: 342bae3
git_last_commit_date: 2025-10-29 11:37:26 -0400
nebbiolo1Linux (Ubuntu 24.04.3 LTS) / x86_64  OK    OK    OK  NO, package depends on 'BSgenome' which is not available
Package 107/287HostnameOS / ArchINSTALLBUILDCHECKBUILD BIN
HiCDCPlus 1.19.0  (landing page)
Merve Sahin
git_last_commit: 720bb53
git_last_commit_date: 2025-10-29 11:06:20 -0400
nebbiolo1Linux (Ubuntu 24.04.3 LTS) / x86_64  OK    OK    OK  NO, package depends on 'GenomicInteractions' which is not available
Package 108/287HostnameOS / ArchINSTALLBUILDCHECKBUILD BIN
HiCPotts 1.1.0  (landing page)
Itunu. Godwin Osuntoki
git_last_commit: a37a5fa
git_last_commit_date: 2025-10-29 11:37:09 -0400
nebbiolo1Linux (Ubuntu 24.04.3 LTS) / x86_64  OK    OK    OK  NO, package depends on 'rtracklayer' which is not available
Package 109/287HostnameOS / ArchINSTALLBUILDCHECKBUILD BIN
HiLDA 1.25.0  (landing page)
Zhi Yang
git_last_commit: 0c7e75a
git_last_commit_date: 2025-10-29 10:53:14 -0400
nebbiolo1Linux (Ubuntu 24.04.3 LTS) / x86_64  OK    OK    OK  NO, package depends on 'GenomicFeatures' which is not available
Package 110/287HostnameOS / ArchINSTALLBUILDCHECKBUILD BIN
HiTC 1.55.0  (landing page)
Nicolas Servant
git_last_commit: c174dd2
git_last_commit_date: 2025-10-29 10:10:49 -0400
nebbiolo1Linux (Ubuntu 24.04.3 LTS) / x86_64  OK    OK    WARNINGS  NO, package depends on 'rtracklayer' which is not available
Package 111/287HostnameOS / ArchINSTALLBUILDCHECKBUILD BIN
icetea 1.29.0  (landing page)
Vivek Bhardwaj
git_last_commit: 2bfbdfd
git_last_commit_date: 2025-10-29 10:45:57 -0400
nebbiolo1Linux (Ubuntu 24.04.3 LTS) / x86_64  OK    OK    WARNINGS  NO, package depends on 'GenomicFeatures' which is not available
Package 112/287HostnameOS / ArchINSTALLBUILDCHECKBUILD BIN
idpr 1.21.0  (landing page)
William M. McFadden
git_last_commit: 2d2d99d
git_last_commit_date: 2025-10-29 11:01:41 -0400
nebbiolo1Linux (Ubuntu 24.04.3 LTS) / x86_64  OK    OK    OK  YES
Package 113/287HostnameOS / ArchINSTALLBUILDCHECKBUILD BIN
igblastr 1.1.0  (landing page)
Hervé Pagès
git_last_commit: 2880899
git_last_commit_date: 2025-10-29 23:02:06 -0400
nebbiolo1Linux (Ubuntu 24.04.3 LTS) / x86_64  OK    OK    OK  YES
Package 114/287HostnameOS / ArchINSTALLBUILDCHECKBUILD BIN
InPAS 2.19.0  (landing page)
Jianhong Ou
git_last_commit: 5b899e7
git_last_commit_date: 2025-10-29 10:24:45 -0400
nebbiolo1Linux (Ubuntu 24.04.3 LTS) / x86_64  OK    OK    WARNINGS  NO, package depends on 'BSgenome' which is not available
Package 115/287HostnameOS / ArchINSTALLBUILDCHECKBUILD BIN
IntEREst 1.35.0  (landing page)
Ali Oghabian
git_last_commit: 0e454ed
git_last_commit_date: 2025-10-29 10:37:18 -0400
nebbiolo1Linux (Ubuntu 24.04.3 LTS) / x86_64  OK    ERROR  skipped
Package 116/287HostnameOS / ArchINSTALLBUILDCHECKBUILD BIN
IONiseR 2.35.0  (landing page)
Mike Smith
git_last_commit: c0803bd
git_last_commit_date: 2025-10-29 10:26:28 -0400
nebbiolo1Linux (Ubuntu 24.04.3 LTS) / x86_64  OK    OK    OK  YES
Package 117/287HostnameOS / ArchINSTALLBUILDCHECKBUILD BIN
ipdDb 1.29.0  (landing page)
Steffen Klasberg
git_last_commit: 1180c38
git_last_commit_date: 2025-10-29 10:46:13 -0400
nebbiolo1Linux (Ubuntu 24.04.3 LTS) / x86_64  OK    OK    OK  YES
Package 118/287HostnameOS / ArchINSTALLBUILDCHECKBUILD BIN
IsoformSwitchAnalyzeR 2.11.0  (landing page)
Kristoffer Vitting-Seerup
git_last_commit: dc055b6
git_last_commit_date: 2025-10-29 10:38:58 -0400
nebbiolo1Linux (Ubuntu 24.04.3 LTS) / x86_64  OK    OK    OK  NO, package depends on 'BSgenome' which is not available
Package 119/287HostnameOS / ArchINSTALLBUILDCHECKBUILD BIN
kebabs 1.45.0  (landing page)
Ulrich Bodenhofer
git_last_commit: 3ed2a80
git_last_commit_date: 2025-10-29 10:22:35 -0400
nebbiolo1Linux (Ubuntu 24.04.3 LTS) / x86_64  OK    OK    OK  YES
Package 120/287HostnameOS / ArchINSTALLBUILDCHECKBUILD BIN
KEGGREST 1.51.0  (landing page)
Bioconductor Package Maintainer
git_last_commit: 7124f18
git_last_commit_date: 2025-10-29 10:13:18 -0400
nebbiolo1Linux (Ubuntu 24.04.3 LTS) / x86_64  OK    OK    OK  YES
Package 121/287HostnameOS / ArchINSTALLBUILDCHECKBUILD BIN
LymphoSeq 1.39.0  (landing page)
David Coffey
git_last_commit: be99fc7
git_last_commit_date: 2025-10-29 10:31:49 -0400
nebbiolo1Linux (Ubuntu 24.04.3 LTS) / x86_64  OK    OK    OK  YES
Package 122/287HostnameOS / ArchINSTALLBUILDCHECKBUILD BIN
m6Aboost 1.17.0  (landing page)
You Zhou
git_last_commit: c8944d2
git_last_commit_date: 2025-10-29 11:10:16 -0400
nebbiolo1Linux (Ubuntu 24.04.3 LTS) / x86_64  OK    OK    OK  NO, package depends on 'rtracklayer' which is not available
Package 123/287HostnameOS / ArchINSTALLBUILDCHECKBUILD BIN
MatrixRider 1.43.0  (landing page)
Elena Grassi
git_last_commit: c9dff82
git_last_commit_date: 2025-10-29 10:24:34 -0400
nebbiolo1Linux (Ubuntu 24.04.3 LTS) / x86_64  OK    OK    WARNINGS  NO, package depends on 'TFBSTools' which is not available
Package 124/287HostnameOS / ArchINSTALLBUILDCHECKBUILD BIN
MDTS 1.31.0  (landing page)
Jack M.. Fu
git_last_commit: c8a8ac4
git_last_commit_date: 2025-10-29 10:43:45 -0400
nebbiolo1Linux (Ubuntu 24.04.3 LTS) / x86_64  OK    OK    OK  YES
Package 125/287HostnameOS / ArchINSTALLBUILDCHECKBUILD BIN
MEDIPS 1.63.0  (landing page)
Lukas Chavez
git_last_commit: b8a28dc
git_last_commit_date: 2025-10-29 10:06:09 -0400
nebbiolo1Linux (Ubuntu 24.04.3 LTS) / x86_64  OK    OK    OK  NO, package depends on 'BSgenome' which is not available
Package 126/287HostnameOS / ArchINSTALLBUILDCHECKBUILD BIN
MEDME 1.71.0  (landing page)
Mattia Pelizzola
git_last_commit: dcafb76
git_last_commit_date: 2025-10-29 10:01:22 -0400
nebbiolo1Linux (Ubuntu 24.04.3 LTS) / x86_64  OK    OK    WARNINGS  YES
Package 127/287HostnameOS / ArchINSTALLBUILDCHECKBUILD BIN
memes 1.19.0  (landing page)
Spencer Nystrom
git_last_commit: 7e64767
git_last_commit_date: 2025-10-29 11:07:17 -0400
nebbiolo1Linux (Ubuntu 24.04.3 LTS) / x86_64  OK    OK    WARNINGS  YES
Package 128/287HostnameOS / ArchINSTALLBUILDCHECKBUILD BIN
MesKit 1.21.0  (landing page)
Mengni Liu
git_last_commit: 15660f6
git_last_commit_date: 2025-10-29 11:01:00 -0400
nebbiolo1Linux (Ubuntu 24.04.3 LTS) / x86_64  OK    OK    WARNINGS  YES
Package 129/287HostnameOS / ArchINSTALLBUILDCHECKBUILD BIN
metaseqR2 1.23.0  (landing page)
Panagiotis Moulos
git_last_commit: 25b9df1
git_last_commit_date: 2025-10-29 10:59:18 -0400
nebbiolo1Linux (Ubuntu 24.04.3 LTS) / x86_64  OK    OK    OK  NO, package depends on 'DSS' which is not available
Package 130/287HostnameOS / ArchINSTALLBUILDCHECKBUILD BIN
methimpute 1.33.0  (landing page)
Aaron Taudt
git_last_commit: ad2d2ed
git_last_commit_date: 2025-10-29 10:41:18 -0400
nebbiolo1Linux (Ubuntu 24.04.3 LTS) / x86_64  OK    OK    WARNINGS  YES
Package 131/287HostnameOS / ArchINSTALLBUILDCHECKBUILD BIN
methodical 1.7.0  (landing page)
Richard Heery
git_last_commit: ca1b149
git_last_commit_date: 2025-10-29 11:27:18 -0400
nebbiolo1Linux (Ubuntu 24.04.3 LTS) / x86_64  OK    OK    WARNINGS  NO, package depends on 'annotatr' which is not available
Package 132/287HostnameOS / ArchINSTALLBUILDCHECKBUILD BIN
MethTargetedNGS 1.43.0  (landing page)
Muhammad Ahmer Jamil
git_last_commit: 53cf09a
git_last_commit_date: 2025-10-29 10:25:34 -0400
nebbiolo1Linux (Ubuntu 24.04.3 LTS) / x86_64  OK    OK    OK  YES
Package 133/287HostnameOS / ArchINSTALLBUILDCHECKBUILD BIN
methylPipe 1.45.0  (landing page)
Mattia Furlan
git_last_commit: 1246c88
git_last_commit_date: 2025-10-29 10:21:09 -0400
nebbiolo1Linux (Ubuntu 24.04.3 LTS) / x86_64  OK    OK    WARNINGS  NO, package depends on 'Gviz' which is not available
Package 134/287HostnameOS / ArchINSTALLBUILDCHECKBUILD BIN
methylscaper 1.19.0  (landing page)
Bacher Rhonda
git_last_commit: 2426d32
git_last_commit_date: 2025-10-29 11:07:12 -0400
nebbiolo1Linux (Ubuntu 24.04.3 LTS) / x86_64  OK    OK    OK  YES
Package 135/287HostnameOS / ArchINSTALLBUILDCHECKBUILD BIN
mia 1.19.0  (landing page)
Tuomas Borman
git_last_commit: ba530f5
git_last_commit_date: 2025-10-29 11:07:20 -0400
nebbiolo1Linux (Ubuntu 24.04.3 LTS) / x86_64  OK    OK    OK  NO, package depends on 'SingleCellExperiment' which is not available
Package 136/287HostnameOS / ArchINSTALLBUILDCHECKBUILD BIN
microbiome 1.33.0  (landing page)
Leo Lahti
git_last_commit: 4c97d9e
git_last_commit_date: 2025-10-29 10:40:21 -0400
nebbiolo1Linux (Ubuntu 24.04.3 LTS) / x86_64  OK    OK    OK  YES
Package 137/287HostnameOS / ArchINSTALLBUILDCHECKBUILD BIN
MicrobiotaProcess 1.23.0  (landing page)
Shuangbin Xu
git_last_commit: 9b6279e
git_last_commit_date: 2025-10-29 10:58:25 -0400
nebbiolo1Linux (Ubuntu 24.04.3 LTS) / x86_64  OK    OK    OK  YES
Package 138/287HostnameOS / ArchINSTALLBUILDCHECKBUILD BIN
microRNA 1.69.0  (landing page)
"Michael Lawrence"
git_last_commit: 8b807df
git_last_commit_date: 2025-10-29 10:01:25 -0400
nebbiolo1Linux (Ubuntu 24.04.3 LTS) / x86_64  OK    OK    OK  YES
Package 139/287HostnameOS / ArchINSTALLBUILDCHECKBUILD BIN
minfi 1.57.0  (landing page)
Kasper Daniel Hansen
git_last_commit: 36249fb
git_last_commit_date: 2025-10-29 10:09:18 -0400
nebbiolo1Linux (Ubuntu 24.04.3 LTS) / x86_64  OK    ERROR  skipped
Package 140/287HostnameOS / ArchINSTALLBUILDCHECKBUILD BIN
MMDiff2 1.39.0  (landing page)
Gabriele Schweikert
git_last_commit: d528d04
git_last_commit_date: 2025-10-29 10:32:14 -0400
nebbiolo1Linux (Ubuntu 24.04.3 LTS) / x86_64  OK    OK    OK  NO, package depends on 'BSgenome' which is not available
Package 141/287HostnameOS / ArchINSTALLBUILDCHECKBUILD BIN
mobileRNA 1.7.0  (landing page)
Katie Jeynes-Cupper
git_last_commit: 035276e
git_last_commit_date: 2025-10-29 11:28:04 -0400
nebbiolo1Linux (Ubuntu 24.04.3 LTS) / x86_64  OK    OK    ERROR  
Package 142/287HostnameOS / ArchINSTALLBUILDCHECKBUILD BIN
Modstrings 1.27.0  (landing page)
Felix G.M. Ernst
git_last_commit: ee94a6e
git_last_commit_date: 2025-10-29 10:50:29 -0400
nebbiolo1Linux (Ubuntu 24.04.3 LTS) / x86_64  OK    OK    OK  YES
Package 143/287HostnameOS / ArchINSTALLBUILDCHECKBUILD BIN
monaLisa 1.17.0  (landing page)
Michael Stadler
git_last_commit: abfee88
git_last_commit_date: 2025-10-29 11:12:31 -0400
nebbiolo1Linux (Ubuntu 24.04.3 LTS) / x86_64  OK    OK    OK  NO, package depends on 'BSgenome' which is not available
Package 144/287HostnameOS / ArchINSTALLBUILDCHECKBUILD BIN
Motif2Site 1.15.0  (landing page)
Peyman Zarrineh
git_last_commit: c1fd6d7
git_last_commit_date: 2025-10-29 11:15:00 -0400
nebbiolo1Linux (Ubuntu 24.04.3 LTS) / x86_64  OK    OK    OK  NO, package depends on 'BSgenome' which is not available
Package 145/287HostnameOS / ArchINSTALLBUILDCHECKBUILD BIN
motifbreakR 2.25.0  (landing page)
Simon Gert Coetzee
git_last_commit: 21e6965
git_last_commit_date: 2025-10-29 10:27:43 -0400
nebbiolo1Linux (Ubuntu 24.04.3 LTS) / x86_64  OK    ERROR  skipped
Package 146/287HostnameOS / ArchINSTALLBUILDCHECKBUILD BIN
motifcounter 1.35.0  (landing page)
Wolfgang Kopp
git_last_commit: 9ac52e2
git_last_commit_date: 2025-10-29 10:37:31 -0400
nebbiolo1Linux (Ubuntu 24.04.3 LTS) / x86_64  OK    OK    OK  YES
Package 147/287HostnameOS / ArchINSTALLBUILDCHECKBUILD BIN
MotifDb 1.53.0  (landing page)
Paul Shannon
git_last_commit: 69a2754
git_last_commit_date: 2025-10-29 10:11:46 -0400
nebbiolo1Linux (Ubuntu 24.04.3 LTS) / x86_64  OK    OK    WARNINGS  NO, package depends on 'rtracklayer' which is not available
Package 148/287HostnameOS / ArchINSTALLBUILDCHECKBUILD BIN
motifmatchr 1.33.0  (landing page)
Alicia Schep
git_last_commit: c2e55a2
git_last_commit_date: 2025-10-29 10:38:55 -0400
nebbiolo1Linux (Ubuntu 24.04.3 LTS) / x86_64  OK    OK    OK  NO, package depends on 'TFBSTools' which is not available
Package 149/287HostnameOS / ArchINSTALLBUILDCHECKBUILD BIN
MotifPeeker 1.3.0  (landing page)
Hiranyamaya Dash
git_last_commit: fc93dac
git_last_commit_date: 2025-10-29 11:33:15 -0400
nebbiolo1Linux (Ubuntu 24.04.3 LTS) / x86_64  OK    OK    OK  NO, package depends on 'rtracklayer' which is not available
Package 150/287HostnameOS / ArchINSTALLBUILDCHECKBUILD BIN
motifStack 1.55.0  (landing page)
Jianhong Ou
git_last_commit: 27317e0
git_last_commit_date: 2025-10-29 10:12:08 -0400
nebbiolo1Linux (Ubuntu 24.04.3 LTS) / x86_64  OK    OK    OK  NO, package depends on 'TFBSTools' which is not available
Package 151/287HostnameOS / ArchINSTALLBUILDCHECKBUILD BIN
motifTestR 1.7.0  (landing page)
Stevie Pederson
git_last_commit: 26a47a7
git_last_commit_date: 2025-10-29 11:28:54 -0400
nebbiolo1Linux (Ubuntu 24.04.3 LTS) / x86_64  OK    OK    OK  YES
Package 152/287HostnameOS / ArchINSTALLBUILDCHECKBUILD BIN
msa 1.43.0  (landing page)
Ulrich Bodenhofer
git_last_commit: 817cb68
git_last_commit_date: 2025-10-29 10:25:53 -0400
nebbiolo1Linux (Ubuntu 24.04.3 LTS) / x86_64  OK    OK    WARNINGS  YES
Package 153/287HostnameOS / ArchINSTALLBUILDCHECKBUILD BIN
MSA2dist 1.15.0  (landing page)
Kristian K Ullrich
git_last_commit: 662eead
git_last_commit_date: 2025-10-29 11:14:34 -0400
nebbiolo1Linux (Ubuntu 24.04.3 LTS) / x86_64  OK    OK    OK  YES
Package 154/287HostnameOS / ArchINSTALLBUILDCHECKBUILD BIN
MSnID 1.45.0  (landing page)
Vlad Petyuk
git_last_commit: 7607478
git_last_commit_date: 2025-10-29 10:21:36 -0400
nebbiolo1Linux (Ubuntu 24.04.3 LTS) / x86_64  OK    OK    OK  YES
Package 155/287HostnameOS / ArchINSTALLBUILDCHECKBUILD BIN
MSstatsLiP 1.17.0  (landing page)
Anthony Wu
git_last_commit: 092a538
git_last_commit_date: 2025-10-29 11:13:11 -0400
nebbiolo1Linux (Ubuntu 24.04.3 LTS) / x86_64  OK    OK    OK  YES
Package 156/287HostnameOS / ArchINSTALLBUILDCHECKBUILD BIN
MSstatsPTM 2.13.0  (landing page)
Anthony Wu
git_last_commit: c7e1180
git_last_commit_date: 2025-10-29 11:02:42 -0400
nebbiolo1Linux (Ubuntu 24.04.3 LTS) / x86_64  OK    OK    WARNINGS  YES
Package 157/287HostnameOS / ArchINSTALLBUILDCHECKBUILD BIN
multicrispr 1.21.0  (landing page)
Aditya Bhagwat
git_last_commit: 67e223f
git_last_commit_date: 2025-10-29 10:59:55 -0400
nebbiolo1Linux (Ubuntu 24.04.3 LTS) / x86_64  OK    OK    OK  NO, package depends on 'BSgenome' which is not available
Package 158/287HostnameOS / ArchINSTALLBUILDCHECKBUILD BIN
MungeSumstats 1.19.0  (landing page)
Alan Murphy
git_last_commit: d3c5588
git_last_commit_date: 2025-10-29 11:08:14 -0400
nebbiolo1Linux (Ubuntu 24.04.3 LTS) / x86_64  OK    OK    OK  NO, package depends on 'BSgenome' which is not available
Package 159/287HostnameOS / ArchINSTALLBUILDCHECKBUILD BIN
muscle 3.53.0  (landing page)
Alex T. Kalinka
git_last_commit: e0bf042
git_last_commit_date: 2025-10-29 10:24:20 -0400
nebbiolo1Linux (Ubuntu 24.04.3 LTS) / x86_64  OK    OK    WARNINGS  YES
Package 160/287HostnameOS / ArchINSTALLBUILDCHECKBUILD BIN
musicatk 2.5.0  (landing page)
Joshua D. Campbell
git_last_commit: ec6bf01
git_last_commit_date: 2025-10-29 11:03:52 -0400
nebbiolo1Linux (Ubuntu 24.04.3 LTS) / x86_64  OK    OK    OK  NO, package depends on 'VariantAnnotation' which is not available
Package 161/287HostnameOS / ArchINSTALLBUILDCHECKBUILD BIN
MutationalPatterns 3.21.0  (landing page)
Mark van Roosmalen
git_last_commit: b3f3115
git_last_commit_date: 2025-10-29 10:35:07 -0400
nebbiolo1Linux (Ubuntu 24.04.3 LTS) / x86_64  OK    OK    ERROR  
Package 162/287HostnameOS / ArchINSTALLBUILDCHECKBUILD BIN
NanoMethViz 3.7.0  (landing page)
Shian Su
git_last_commit: 4349b36
git_last_commit_date: 2025-10-29 11:04:08 -0400
nebbiolo1Linux (Ubuntu 24.04.3 LTS) / x86_64  OK    OK    OK  NO, package depends on 'bsseq' which is not available
Package 163/287HostnameOS / ArchINSTALLBUILDCHECKBUILD BIN
NanoStringNCTools 1.19.0  (landing page)
Maddy Griswold
git_last_commit: 47660a8
git_last_commit_date: 2025-10-29 11:05:46 -0400
nebbiolo1Linux (Ubuntu 24.04.3 LTS) / x86_64  OK    OK    OK  YES
Package 164/287HostnameOS / ArchINSTALLBUILDCHECKBUILD BIN
ngsReports 2.13.0  (landing page)
Stevie Pederson
git_last_commit: d7ee59e
git_last_commit_date: 2025-10-29 10:51:17 -0400
nebbiolo1Linux (Ubuntu 24.04.3 LTS) / x86_64  OK    OK    OK  YES
Package 165/287HostnameOS / ArchINSTALLBUILDCHECKBUILD BIN
nucleR 2.43.0  (landing page)
Alba Sala
git_last_commit: 3db28f8
git_last_commit_date: 2025-10-29 10:08:16 -0400
nebbiolo1Linux (Ubuntu 24.04.3 LTS) / x86_64  OK    OK    WARNINGS  YES
Package 166/287HostnameOS / ArchINSTALLBUILDCHECKBUILD BIN
oligo 1.75.0  (landing page)
Benilton Carvalho
git_last_commit: e5c4ecd
git_last_commit_date: 2025-10-29 09:56:42 -0400
nebbiolo1Linux (Ubuntu 24.04.3 LTS) / x86_64  OK    OK    OK  YES
Package 167/287HostnameOS / ArchINSTALLBUILDCHECKBUILD BIN
oligoClasses 1.73.0  (landing page)
Benilton Carvalho and Robert Scharpf
git_last_commit: 924ec0a
git_last_commit_date: 2025-10-29 09:59:50 -0400
nebbiolo1Linux (Ubuntu 24.04.3 LTS) / x86_64  OK    OK    WARNINGS  YES
Package 168/287HostnameOS / ArchINSTALLBUILDCHECKBUILD BIN
OmaDB 2.27.0  (landing page)
Klara Kaleb , Adrian Altenhoff
git_last_commit: 5040572
git_last_commit_date: 2025-10-29 10:42:20 -0400
nebbiolo1Linux (Ubuntu 24.04.3 LTS) / x86_64  OK    OK    OK  YES
Package 169/287HostnameOS / ArchINSTALLBUILDCHECKBUILD BIN
openPrimeR 1.33.0  (landing page)
Matthias Döring
git_last_commit: 9ac7cf4
git_last_commit_date: 2025-10-29 10:40:47 -0400
nebbiolo1Linux (Ubuntu 24.04.3 LTS) / x86_64  OK    OK    OK  YES
Package 170/287HostnameOS / ArchINSTALLBUILDCHECKBUILD BIN
ORFhunteR 1.19.0  (landing page)
Vasily V. Grinev
git_last_commit: 8a2dcbf
git_last_commit_date: 2025-10-29 11:05:57 -0400
nebbiolo1Linux (Ubuntu 24.04.3 LTS) / x86_64  OK    OK    WARNINGS  NO, package depends on 'rtracklayer' which is not available
Package 171/287HostnameOS / ArchINSTALLBUILDCHECKBUILD BIN
ORFik 1.31.0  (landing page)
Haakon Tjeldnes
git_last_commit: 1c0375d
git_last_commit_date: 2025-10-29 10:45:22 -0400
nebbiolo1Linux (Ubuntu 24.04.3 LTS) / x86_64  OK    OK    OK  NO, package depends on 'BSgenome' which is not available
Package 172/287HostnameOS / ArchINSTALLBUILDCHECKBUILD BIN
OTUbase 1.61.0  (landing page)
Daniel Beck
git_last_commit: 42c921c
git_last_commit_date: 2025-10-29 10:05:45 -0400
nebbiolo1Linux (Ubuntu 24.04.3 LTS) / x86_64  OK    OK    OK  YES
Package 173/287HostnameOS / ArchINSTALLBUILDCHECKBUILD BIN
packFinder 1.23.0  (landing page)
Jack Gisby
git_last_commit: a517955
git_last_commit_date: 2025-10-29 10:56:19 -0400
nebbiolo1Linux (Ubuntu 24.04.3 LTS) / x86_64  OK    OK    OK  YES
Package 174/287HostnameOS / ArchINSTALLBUILDCHECKBUILD BIN
pdInfoBuilder 1.75.0  (landing page)
Benilton Carvalho
git_last_commit: 81fd205
git_last_commit_date: 2025-10-29 09:58:52 -0400
nebbiolo1Linux (Ubuntu 24.04.3 LTS) / x86_64  OK    OK    OK  YES
Package 175/287HostnameOS / ArchINSTALLBUILDCHECKBUILD BIN
periodicDNA 1.21.0  (landing page)
Jacques Serizay
git_last_commit: 5bd1078
git_last_commit_date: 2025-10-29 11:01:58 -0400
nebbiolo1Linux (Ubuntu 24.04.3 LTS) / x86_64  OK    OK    WARNINGS  NO, package depends on 'BSgenome' which is not available
Package 176/287HostnameOS / ArchINSTALLBUILDCHECKBUILD BIN
PhyloProfile 2.3.0  (landing page)
Vinh Tran
git_last_commit: 0517900
git_last_commit_date: 2025-10-29 10:53:26 -0400
nebbiolo1Linux (Ubuntu 24.04.3 LTS) / x86_64  OK    OK    OK  YES
Package 177/287HostnameOS / ArchINSTALLBUILDCHECKBUILD BIN
phyloseq 1.55.0  (landing page)
Paul J. McMurdie
git_last_commit: 3b97933
git_last_commit_date: 2025-10-29 10:10:12 -0400
nebbiolo1Linux (Ubuntu 24.04.3 LTS) / x86_64  OK    OK    WARNINGS  YES
Package 178/287HostnameOS / ArchINSTALLBUILDCHECKBUILD BIN
PICB 1.3.0  (landing page)
Franziska Ahrend
git_last_commit: d455820
git_last_commit_date: 2025-10-29 11:34:05 -0400
nebbiolo1Linux (Ubuntu 24.04.3 LTS) / x86_64  OK    OK    OK  YES
Package 179/287HostnameOS / ArchINSTALLBUILDCHECKBUILD BIN
pipeFrame 1.27.0  (landing page)
Zheng Wei
git_last_commit: b7c4419
git_last_commit_date: 2025-10-29 10:51:51 -0400
nebbiolo1Linux (Ubuntu 24.04.3 LTS) / x86_64  OK    OK    OK  NO, package depends on 'BSgenome' which is not available
Package 180/287HostnameOS / ArchINSTALLBUILDCHECKBUILD BIN
planttfhunter 1.11.0  (landing page)
Fabrício Almeida-Silva
git_last_commit: 0cf046b
git_last_commit_date: 2025-10-29 11:20:13 -0400
nebbiolo1Linux (Ubuntu 24.04.3 LTS) / x86_64  OK    OK    OK  YES
Package 181/287HostnameOS / ArchINSTALLBUILDCHECKBUILD BIN
podkat 1.43.0  (landing page)
Ulrich Bodenhofer
git_last_commit: d216a17
git_last_commit_date: 2025-10-29 10:24:59 -0400
nebbiolo1Linux (Ubuntu 24.04.3 LTS) / x86_64  OK    OK    OK  NO, package depends on 'BSgenome' which is not available
Package 182/287HostnameOS / ArchINSTALLBUILDCHECKBUILD BIN
pqsfinder 2.27.0  (landing page)
Jiri Hon
git_last_commit: 8870134
git_last_commit_date: 2025-10-29 10:31:44 -0400
nebbiolo1Linux (Ubuntu 24.04.3 LTS) / x86_64  OK    OK    WARNINGS  YES
Package 183/287HostnameOS / ArchINSTALLBUILDCHECKBUILD BIN
primirTSS 1.29.0  (landing page)
Pumin Li
git_last_commit: bbff91f
git_last_commit_date: 2025-10-29 10:47:22 -0400
nebbiolo1Linux (Ubuntu 24.04.3 LTS) / x86_64  OK    OK    WARNINGS  NO, package depends on 'rtracklayer' which is not available
Package 184/287HostnameOS / ArchINSTALLBUILDCHECKBUILD BIN
proBAMr 1.45.0  (landing page)
Xiaojing Wang
git_last_commit: 574f906
git_last_commit_date: 2025-10-29 10:22:01 -0400
nebbiolo1Linux (Ubuntu 24.04.3 LTS) / x86_64  OK    OK    OK  NO, package depends on 'GenomicFeatures' which is not available
Package 185/287HostnameOS / ArchINSTALLBUILDCHECKBUILD BIN
procoil 2.39.0  (landing page)
Ulrich Bodenhofer
git_last_commit: c3f2a65
git_last_commit_date: 2025-10-29 10:06:44 -0400
nebbiolo1Linux (Ubuntu 24.04.3 LTS) / x86_64  OK    OK    OK  YES
Package 186/287HostnameOS / ArchINSTALLBUILDCHECKBUILD BIN
ProteoDisco 1.17.0  (landing page)
Job van Riet
git_last_commit: 583baa5
git_last_commit_date: 2025-10-29 11:11:51 -0400
nebbiolo1Linux (Ubuntu 24.04.3 LTS) / x86_64  OK    OK    WARNINGS  NO, package depends on 'GenomicFeatures' which is not available
Package 187/287HostnameOS / ArchINSTALLBUILDCHECKBUILD BIN
PureCN 2.17.0  (landing page)
Markus Riester
git_last_commit: 3330cff
git_last_commit_date: 2025-10-29 10:31:57 -0400
nebbiolo1Linux (Ubuntu 24.04.3 LTS) / x86_64  OK    OK    OK  NO, package depends on 'VariantAnnotation' which is not available
Package 188/287HostnameOS / ArchINSTALLBUILDCHECKBUILD BIN
Pviz 1.45.0  (landing page)
Renan Sauteraud
git_last_commit: 2605bdc
git_last_commit_date: 2025-10-29 10:20:19 -0400
nebbiolo1Linux (Ubuntu 24.04.3 LTS) / x86_64  OK    OK    WARNINGS  NO, package depends on 'Gviz' which is not available
Package 189/287HostnameOS / ArchINSTALLBUILDCHECKBUILD BIN
pwalign 1.7.0  (landing page)
Hervé Pagès
git_last_commit: a8e536a
git_last_commit_date: 2025-10-29 14:46:16 -0400
nebbiolo1Linux (Ubuntu 24.04.3 LTS) / x86_64  OK    OK    OK  YES
Package 190/287HostnameOS / ArchINSTALLBUILDCHECKBUILD BIN
PWMEnrich 4.47.0  (landing page)
Diego Diez
git_last_commit: 3606145
git_last_commit_date: 2025-10-29 10:11:23 -0400
nebbiolo1Linux (Ubuntu 24.04.3 LTS) / x86_64  OK    OK    OK  YES
Package 191/287HostnameOS / ArchINSTALLBUILDCHECKBUILD BIN
qPLEXanalyzer 1.29.0  (landing page)
Ashley Sawle
git_last_commit: d72dc3a
git_last_commit_date: 2025-10-29 10:46:08 -0400
nebbiolo1Linux (Ubuntu 24.04.3 LTS) / x86_64  OK    ERROR  skipped
Package 192/287HostnameOS / ArchINSTALLBUILDCHECKBUILD BIN
qsea 1.37.0  (landing page)
Matthias Lienhard
git_last_commit: ef750af
git_last_commit_date: 2025-10-29 10:32:56 -0400
nebbiolo1Linux (Ubuntu 24.04.3 LTS) / x86_64  OK    OK    WARNINGS  NO, package depends on 'rtracklayer' which is not available
Package 193/287HostnameOS / ArchINSTALLBUILDCHECKBUILD BIN
QSutils 1.29.0  (landing page)
Mercedes Guerrero-Murillo
git_last_commit: 23b420d
git_last_commit_date: 2025-10-29 10:48:23 -0400
nebbiolo1Linux (Ubuntu 24.04.3 LTS) / x86_64  OK    OK    OK  YES
Package 194/287HostnameOS / ArchINSTALLBUILDCHECKBUILD BIN
QuasR 1.51.0  (landing page)
Michael Stadler
git_last_commit: 331f3b2
git_last_commit_date: 2025-10-29 10:13:16 -0400
nebbiolo1Linux (Ubuntu 24.04.3 LTS) / x86_64  OK    OK    WARNINGS  NO, package depends on 'BSgenome' which is not available
Package 195/287HostnameOS / ArchINSTALLBUILDCHECKBUILD BIN
r3Cseq 1.57.0  (landing page)
Supat Thongjuea or
git_last_commit: b35813f
git_last_commit_date: 2025-10-29 10:09:24 -0400
nebbiolo1Linux (Ubuntu 24.04.3 LTS) / x86_64  OK    OK    OK  NO, package depends on 'rtracklayer' which is not available
Package 196/287HostnameOS / ArchINSTALLBUILDCHECKBUILD BIN
R453Plus1Toolbox 1.61.0  (landing page)
Hans-Ulrich Klein
git_last_commit: b396ba9
git_last_commit_date: 2025-10-29 10:06:02 -0400
nebbiolo1Linux (Ubuntu 24.04.3 LTS) / x86_64  OK    ERROR  skipped
Package 197/287HostnameOS / ArchINSTALLBUILDCHECKBUILD BIN
R4RNA 1.39.0  (landing page)
Daniel Lai
git_last_commit: b949aed
git_last_commit_date: 2025-10-29 10:28:37 -0400
nebbiolo1Linux (Ubuntu 24.04.3 LTS) / x86_64  OK    OK    OK  YES
Package 198/287HostnameOS / ArchINSTALLBUILDCHECKBUILD BIN
raer 1.9.0  (landing page)
Kent Riemondy
git_last_commit: 94ed43d
git_last_commit_date: 2025-10-29 11:26:05 -0400
nebbiolo1Linux (Ubuntu 24.04.3 LTS) / x86_64  OK    OK    OK  NO, package depends on 'BSgenome' which is not available
Package 199/287HostnameOS / ArchINSTALLBUILDCHECKBUILD BIN
ramwas 1.35.0  (landing page)
Andrey A Shabalin
git_last_commit: 4c78862
git_last_commit_date: 2025-10-29 10:36:00 -0400
nebbiolo1Linux (Ubuntu 24.04.3 LTS) / x86_64  OK    OK    OK  YES
Package 200/287HostnameOS / ArchINSTALLBUILDCHECKBUILD BIN
rBLAST 1.7.0  (landing page)
Michael Hahsler
git_last_commit: dcc0f85
git_last_commit_date: 2025-10-29 11:29:56 -0400
nebbiolo1Linux (Ubuntu 24.04.3 LTS) / x86_64  OK    OK    OK  YES
Package 201/287HostnameOS / ArchINSTALLBUILDCHECKBUILD BIN
RCAS 1.37.0  (landing page)
Bora Uyar
git_last_commit: 1a77884
git_last_commit_date: 2025-10-29 10:33:22 -0400
nebbiolo1Linux (Ubuntu 24.04.3 LTS) / x86_64  OK    OK    OK  NO, package depends on 'BSgenome' which is not available
Package 202/287HostnameOS / ArchINSTALLBUILDCHECKBUILD BIN
Rcpi 1.47.0  (landing page)
Nan Xiao
git_last_commit: d010cbe
git_last_commit_date: 2025-10-29 10:18:37 -0400
nebbiolo1Linux (Ubuntu 24.04.3 LTS) / x86_64  OK    OK    OK  YES
Package 203/287HostnameOS / ArchINSTALLBUILDCHECKBUILD BIN
recoup 1.39.0  (landing page)
Panagiotis Moulos
git_last_commit: 66d3f66
git_last_commit_date: 2025-10-29 10:31:02 -0400
nebbiolo1Linux (Ubuntu 24.04.3 LTS) / x86_64  OK    OK    OK  NO, package depends on 'GenomicFeatures' which is not available
Package 204/287HostnameOS / ArchINSTALLBUILDCHECKBUILD BIN
REDseq 1.57.0  (landing page)
Lihua Julie Zhu
git_last_commit: 05ac2ab
git_last_commit_date: 2025-10-29 10:07:45 -0400
nebbiolo1Linux (Ubuntu 24.04.3 LTS) / x86_64  ERROR    ERROR  skipped
Package 205/287HostnameOS / ArchINSTALLBUILDCHECKBUILD BIN
regioneR 1.43.0  (landing page)
Bernat Gel
git_last_commit: a9f7f21
git_last_commit_date: 2025-10-29 10:25:09 -0400
nebbiolo1Linux (Ubuntu 24.04.3 LTS) / x86_64  OK    OK    OK  NO, package depends on 'BSgenome' which is not available
Package 206/287HostnameOS / ArchINSTALLBUILDCHECKBUILD BIN
regutools 1.23.0  (landing page)
Joselyn Chavez
git_last_commit: a894ec8
git_last_commit_date: 2025-10-29 10:59:10 -0400
nebbiolo1Linux (Ubuntu 24.04.3 LTS) / x86_64  OK    OK    OK  NO, package depends on 'Gviz' which is not available
Package 207/287HostnameOS / ArchINSTALLBUILDCHECKBUILD BIN
REMP 1.35.0  (landing page)
Yinan Zheng
git_last_commit: 6cbaa64
git_last_commit_date: 2025-10-29 10:36:53 -0400
nebbiolo1Linux (Ubuntu 24.04.3 LTS) / x86_64  OK    OK    ERROR  
Package 208/287HostnameOS / ArchINSTALLBUILDCHECKBUILD BIN
RESOLVE 1.13.0  (landing page)
Luca De Sano
git_last_commit: 60de66e
git_last_commit_date: 2025-10-29 11:19:27 -0400
nebbiolo1Linux (Ubuntu 24.04.3 LTS) / x86_64  OK    OK    OK  NO, package depends on 'BSgenome' which is not available
Package 209/287HostnameOS / ArchINSTALLBUILDCHECKBUILD BIN
rfaRm 1.23.0  (landing page)
Lara Selles Vidal
git_last_commit: d6208ab
git_last_commit_date: 2025-10-29 10:58:41 -0400
nebbiolo1Linux (Ubuntu 24.04.3 LTS) / x86_64  OK    OK    OK  YES
Package 210/287HostnameOS / ArchINSTALLBUILDCHECKBUILD BIN
rhinotypeR 1.5.0  (landing page)
Martha Luka
git_last_commit: 91c7a4f
git_last_commit_date: 2025-10-29 11:32:16 -0400
nebbiolo1Linux (Ubuntu 24.04.3 LTS) / x86_64  OK    OK    OK  YES
Package 211/287HostnameOS / ArchINSTALLBUILDCHECKBUILD BIN
RiboCrypt 1.17.0  (landing page)
Michal Swirski
git_last_commit: da58451
git_last_commit_date: 2025-10-29 11:13:40 -0400
nebbiolo1Linux (Ubuntu 24.04.3 LTS) / x86_64  OK    OK    OK  NO, package depends on 'ORFik' which is not available
Package 212/287HostnameOS / ArchINSTALLBUILDCHECKBUILD BIN
RiboProfiling 1.41.0  (landing page)
A. Popa
git_last_commit: db90a52
git_last_commit_date: 2025-10-29 10:28:21 -0400
nebbiolo1Linux (Ubuntu 24.04.3 LTS) / x86_64  OK    ERROR  skipped
Package 213/287HostnameOS / ArchINSTALLBUILDCHECKBUILD BIN
ribosomeProfilingQC 1.23.0  (landing page)
Jianhong Ou
git_last_commit: bad02b9
git_last_commit_date: 2025-10-29 10:57:03 -0400
nebbiolo1Linux (Ubuntu 24.04.3 LTS) / x86_64  OK    OK    OK  NO, package depends on 'BSgenome' which is not available
Package 214/287HostnameOS / ArchINSTALLBUILDCHECKBUILD BIN
RNAmodR 1.25.0  (landing page)
Felix G.M. Ernst
git_last_commit: 7e3ea7f
git_last_commit_date: 2025-10-29 10:52:38 -0400
nebbiolo1Linux (Ubuntu 24.04.3 LTS) / x86_64  OK    OK    OK  NO, package depends on 'txdbmaker' which is not available
Package 215/287HostnameOS / ArchINSTALLBUILDCHECKBUILD BIN
rprimer 1.15.0  (landing page)
Sofia Persson
git_last_commit: bc508a0
git_last_commit_date: 2025-10-29 11:13:59 -0400
nebbiolo1Linux (Ubuntu 24.04.3 LTS) / x86_64  OK    OK    OK  YES
Package 216/287HostnameOS / ArchINSTALLBUILDCHECKBUILD BIN
Rqc 1.45.0  (landing page)
Welliton Souza
git_last_commit: 81cf3fd
git_last_commit_date: 2025-10-29 10:22:46 -0400
nebbiolo1Linux (Ubuntu 24.04.3 LTS) / x86_64  OK    OK    OK  NO, package depends on 'biovizBase' which is not available
Package 217/287HostnameOS / ArchINSTALLBUILDCHECKBUILD BIN
Rsamtools 2.27.0  (landing page)
Bioconductor Package Maintainer
git_last_commit: a2c9284
git_last_commit_date: 2025-10-29 10:04:41 -0400
nebbiolo1Linux (Ubuntu 24.04.3 LTS) / x86_64  OK    OK    WARNINGS  YES
Package 218/287HostnameOS / ArchINSTALLBUILDCHECKBUILD BIN
RSVSim 1.51.0  (landing page)
Christoph Bartenhagen
git_last_commit: d131b77
git_last_commit_date: 2025-10-29 10:13:10 -0400
nebbiolo1Linux (Ubuntu 24.04.3 LTS) / x86_64  OK    OK    OK  YES
Package 219/287HostnameOS / ArchINSTALLBUILDCHECKBUILD BIN
rSWeeP 1.23.0  (landing page)
Camila P Perico
git_last_commit: 3b61954
git_last_commit_date: 2025-10-29 10:56:22 -0400
nebbiolo1Linux (Ubuntu 24.04.3 LTS) / x86_64  OK    OK    OK  YES
Package 220/287HostnameOS / ArchINSTALLBUILDCHECKBUILD BIN
rtracklayer 1.71.0  (landing page)
Michael Lawrence
git_last_commit: 65cde22
git_last_commit_date: 2025-10-29 10:00:29 -0400
nebbiolo1Linux (Ubuntu 24.04.3 LTS) / x86_64  OK    ERROR  skipped
Package 221/287HostnameOS / ArchINSTALLBUILDCHECKBUILD BIN
sangeranalyseR 1.21.0  (landing page)
Kuan-Hao Chao
git_last_commit: 7e0ce60
git_last_commit_date: 2025-10-29 10:59:40 -0400
nebbiolo1Linux (Ubuntu 24.04.3 LTS) / x86_64  ERROR    ERROR  skipped
Package 222/287HostnameOS / ArchINSTALLBUILDCHECKBUILD BIN
sangerseqR 1.47.0  (landing page)
Jonathon Hill
git_last_commit: fda56d9
git_last_commit_date: 2025-10-29 10:18:08 -0400
nebbiolo1Linux (Ubuntu 24.04.3 LTS) / x86_64  OK    OK    OK  YES
Package 223/287HostnameOS / ArchINSTALLBUILDCHECKBUILD BIN
sarks 1.23.0  (landing page)
Dennis Wylie
git_last_commit: 5f25697
git_last_commit_date: 2025-10-29 10:57:22 -0400
nebbiolo1Linux (Ubuntu 24.04.3 LTS) / x86_64  OK    OK    OK  YES
Package 224/287HostnameOS / ArchINSTALLBUILDCHECKBUILD BIN
SCAN.UPC 2.53.0  (landing page)
Stephen R. Piccolo
git_last_commit: 89643cf
git_last_commit_date: 2025-10-29 10:12:17 -0400
nebbiolo1Linux (Ubuntu 24.04.3 LTS) / x86_64  OK    OK    OK  YES
Package 225/287HostnameOS / ArchINSTALLBUILDCHECKBUILD BIN
scanMiR 1.17.0  (landing page)
Pierre-Luc Germain
git_last_commit: 6328f02
git_last_commit_date: 2025-10-29 11:10:43 -0400
nebbiolo1Linux (Ubuntu 24.04.3 LTS) / x86_64  OK    OK    OK  YES
Package 226/287HostnameOS / ArchINSTALLBUILDCHECKBUILD BIN
scanMiRApp 1.17.0  (landing page)
Pierre-Luc Germain
git_last_commit: a38fae0
git_last_commit_date: 2025-10-29 11:11:11 -0400
nebbiolo1Linux (Ubuntu 24.04.3 LTS) / x86_64  OK    OK    OK  NO, package depends on 'ensembldb' which is not available
Package 227/287HostnameOS / ArchINSTALLBUILDCHECKBUILD BIN
scifer 1.13.0  (landing page)
Rodrigo Arcoverde Cerveira
git_last_commit: 3d9c52d
git_last_commit_date: 2025-10-29 11:18:43 -0400
nebbiolo1Linux (Ubuntu 24.04.3 LTS) / x86_64  OK    OK    OK  YES
Package 228/287HostnameOS / ArchINSTALLBUILDCHECKBUILD BIN
scmeth 1.31.0  (landing page)
Divy Kangeyan
git_last_commit: 96dcd92
git_last_commit_date: 2025-10-29 10:43:21 -0400
nebbiolo1Linux (Ubuntu 24.04.3 LTS) / x86_64  OK    OK    OK  NO, package depends on 'bsseq' which is not available
Package 229/287HostnameOS / ArchINSTALLBUILDCHECKBUILD BIN
SCOPE 1.23.0  (landing page)
Rujin Wang
git_last_commit: ba69d58
git_last_commit_date: 2025-10-29 10:56:53 -0400
nebbiolo1Linux (Ubuntu 24.04.3 LTS) / x86_64  OK    OK    OK  NO, package depends on 'BSgenome' which is not available
Package 230/287HostnameOS / ArchINSTALLBUILDCHECKBUILD BIN
scoreInvHap 1.33.0  (landing page)
Dolors Pelegri-Siso
git_last_commit: e410f84
git_last_commit_date: 2025-10-29 10:39:17 -0400
nebbiolo1Linux (Ubuntu 24.04.3 LTS) / x86_64  OK    OK    OK  NO, package depends on 'VariantAnnotation' which is not available
Package 231/287HostnameOS / ArchINSTALLBUILDCHECKBUILD BIN
scoup 1.5.0  (landing page)
Hassan Sadiq
git_last_commit: 4b3bf6b
git_last_commit_date: 2025-10-29 11:32:33 -0400
nebbiolo1Linux (Ubuntu 24.04.3 LTS) / x86_64  OK    OK    OK  YES
Package 232/287HostnameOS / ArchINSTALLBUILDCHECKBUILD BIN
scPipe 2.11.0  (landing page)
Shian Su
git_last_commit: fbfb464
git_last_commit_date: 2025-10-29 10:41:32 -0400
nebbiolo1Linux (Ubuntu 24.04.3 LTS) / x86_64  OK    OK    OK  NO, package depends on 'SingleCellExperiment' which is not available
Package 233/287HostnameOS / ArchINSTALLBUILDCHECKBUILD BIN
scruff 1.29.0  (landing page)
Zhe Wang
git_last_commit: e5f29bf
git_last_commit_date: 2025-10-29 10:46:27 -0400
nebbiolo1Linux (Ubuntu 24.04.3 LTS) / x86_64  OK    OK    OK  NO, package depends on 'GenomicFeatures' which is not available
Package 234/287HostnameOS / ArchINSTALLBUILDCHECKBUILD BIN
SELEX 1.43.0  (landing page)
Harmen J. Bussemaker
git_last_commit: a65d5a7
git_last_commit_date: 2025-10-29 10:24:07 -0400
nebbiolo1Linux (Ubuntu 24.04.3 LTS) / x86_64  OK    OK    OK  YES
Package 235/287HostnameOS / ArchINSTALLBUILDCHECKBUILD BIN
SeqArray 1.51.0  (landing page)
Xiuwen Zheng
git_last_commit: bcbe85d
git_last_commit_date: 2025-10-29 10:14:07 -0400
nebbiolo1Linux (Ubuntu 24.04.3 LTS) / x86_64  OK    ERROR  skipped
Package 236/287HostnameOS / ArchINSTALLBUILDCHECKBUILD BIN
seqPattern 1.43.0  (landing page)
Vanja Haberle
git_last_commit: 4b1e21f
git_last_commit_date: 2025-10-29 10:23:35 -0400
nebbiolo1Linux (Ubuntu 24.04.3 LTS) / x86_64  OK    OK    OK  YES
Package 237/287HostnameOS / ArchINSTALLBUILDCHECKBUILD BIN
SGSeq 1.45.0  (landing page)
Leonard Goldstein
git_last_commit: fef2917
git_last_commit_date: 2025-10-29 10:22:27 -0400
nebbiolo1Linux (Ubuntu 24.04.3 LTS) / x86_64  OK    OK    OK  NO, package depends on 'GenomicFeatures' which is not available
Package 238/287HostnameOS / ArchINSTALLBUILDCHECKBUILD BIN
ShortRead 1.69.1  (landing page)
Bioconductor Package Maintainer
git_last_commit: c488f29
git_last_commit_date: 2025-10-31 12:50:57 -0400
nebbiolo1Linux (Ubuntu 24.04.3 LTS) / x86_64  OK    OK    WARNINGS  YES
Package 239/287HostnameOS / ArchINSTALLBUILDCHECKBUILD BIN
SICtools 1.41.0  (landing page)
Xiaobin Xing
git_last_commit: d34246d
git_last_commit_date: 2025-10-29 10:28:10 -0400
nebbiolo1Linux (Ubuntu 24.04.3 LTS) / x86_64  OK    OK    WARNINGS  YES
Package 240/287HostnameOS / ArchINSTALLBUILDCHECKBUILD BIN
signeR 2.13.0  (landing page)
Renan Valieris
git_last_commit: 54b8b4d
git_last_commit_date: 2025-10-29 10:34:16 -0400
nebbiolo1Linux (Ubuntu 24.04.3 LTS) / x86_64  OK    OK    OK  NO, package depends on 'rtracklayer' which is not available
Package 241/287HostnameOS / ArchINSTALLBUILDCHECKBUILD BIN
SigsPack 1.25.0  (landing page)
Franziska Schumann
git_last_commit: 76511e2
git_last_commit_date: 2025-10-29 10:53:42 -0400
nebbiolo1Linux (Ubuntu 24.04.3 LTS) / x86_64  OK    OK    OK  NO, package depends on 'BSgenome' which is not available
Package 242/287HostnameOS / ArchINSTALLBUILDCHECKBUILD BIN
SimFFPE 1.23.0  (landing page)
Lanying Wei
git_last_commit: daeddda
git_last_commit_date: 2025-10-29 10:56:29 -0400
nebbiolo1Linux (Ubuntu 24.04.3 LTS) / x86_64  OK    OK    OK  YES
Package 243/287HostnameOS / ArchINSTALLBUILDCHECKBUILD BIN
SingleMoleculeFootprinting 2.5.0  (landing page)
Guido Barzaghi
git_last_commit: 71598e0
git_last_commit_date: 2025-10-29 11:10:00 -0400
nebbiolo1Linux (Ubuntu 24.04.3 LTS) / x86_64  OK    OK    OK  NO, package depends on 'BSgenome' which is not available
Package 244/287HostnameOS / ArchINSTALLBUILDCHECKBUILD BIN
sitadela 1.19.0  (landing page)
Panagiotis Moulos
git_last_commit: 45b2af3
git_last_commit_date: 2025-10-29 11:07:04 -0400
nebbiolo1Linux (Ubuntu 24.04.3 LTS) / x86_64  OK    OK    OK  NO, package depends on 'GenomicFeatures' which is not available
Package 245/287HostnameOS / ArchINSTALLBUILDCHECKBUILD BIN
SNPhood 1.41.0  (landing page)
Christian Arnold
git_last_commit: 4de7497
git_last_commit_date: 2025-10-29 10:28:24 -0400
nebbiolo1Linux (Ubuntu 24.04.3 LTS) / x86_64  OK    OK    OK  NO, package depends on 'VariantAnnotation' which is not available
Package 246/287HostnameOS / ArchINSTALLBUILDCHECKBUILD BIN
soGGi 1.43.0  (landing page)
Tom Carroll
git_last_commit: c0596bd
git_last_commit_date: 2025-10-29 10:25:37 -0400
nebbiolo1Linux (Ubuntu 24.04.3 LTS) / x86_64  OK    OK    ERROR  
Package 247/287HostnameOS / ArchINSTALLBUILDCHECKBUILD BIN
SomaticSignatures 2.47.0  (landing page)
Julian Gehring
git_last_commit: 97b6de8
git_last_commit_date: 2025-10-29 10:17:57 -0400
nebbiolo1Linux (Ubuntu 24.04.3 LTS) / x86_64  OK    OK    OK  NO, package depends on 'VariantAnnotation' which is not available
Package 248/287HostnameOS / ArchINSTALLBUILDCHECKBUILD BIN
SparseSignatures 2.21.0  (landing page)
Luca De Sano
git_last_commit: 4635876
git_last_commit_date: 2025-10-29 10:44:43 -0400
nebbiolo1Linux (Ubuntu 24.04.3 LTS) / x86_64  OK    OK    OK  NO, package depends on 'BSgenome' which is not available
Package 249/287HostnameOS / ArchINSTALLBUILDCHECKBUILD BIN
spiky 1.17.0  (landing page)
Tim Triche
git_last_commit: 5e5bb23
git_last_commit_date: 2025-10-29 11:10:11 -0400
nebbiolo1Linux (Ubuntu 24.04.3 LTS) / x86_64  OK    OK    OK  NO, package depends on 'BSgenome' which is not available
Package 250/287HostnameOS / ArchINSTALLBUILDCHECKBUILD BIN
SpliceWiz 1.13.0  (landing page)
Alex Chit Hei Wong
git_last_commit: 73b017a
git_last_commit_date: 2025-10-29 11:17:35 -0400
nebbiolo1Linux (Ubuntu 24.04.3 LTS) / x86_64  OK    OK    WARNINGS  NO, package depends on 'BSgenome' which is not available
Package 251/287HostnameOS / ArchINSTALLBUILDCHECKBUILD BIN
SPLINTER 1.37.0  (landing page)
Diana Low
git_last_commit: 2ff2d3c
git_last_commit_date: 2025-10-29 10:34:37 -0400
nebbiolo1Linux (Ubuntu 24.04.3 LTS) / x86_64  OK    OK    OK  NO, package depends on 'GenomicFeatures' which is not available
Package 252/287HostnameOS / ArchINSTALLBUILDCHECKBUILD BIN
sscu 2.41.0  (landing page)
Yu Sun
git_last_commit: 2db5d27
git_last_commit_date: 2025-10-29 10:31:07 -0400
nebbiolo1Linux (Ubuntu 24.04.3 LTS) / x86_64  OK    OK    WARNINGS  YES
Package 253/287HostnameOS / ArchINSTALLBUILDCHECKBUILD BIN
ssviz 1.45.0  (landing page)
Diana Low
git_last_commit: ba9f121
git_last_commit_date: 2025-10-29 10:20:02 -0400
nebbiolo1Linux (Ubuntu 24.04.3 LTS) / x86_64  OK    OK    OK  YES
Package 254/287HostnameOS / ArchINSTALLBUILDCHECKBUILD BIN
Structstrings 1.27.0  (landing page)
Felix G.M. Ernst
git_last_commit: 983c850
git_last_commit_date: 2025-10-29 10:50:44 -0400
nebbiolo1Linux (Ubuntu 24.04.3 LTS) / x86_64  OK    OK    OK  YES
Package 255/287HostnameOS / ArchINSTALLBUILDCHECKBUILD BIN
StructuralVariantAnnotation 1.27.0  (landing page)
Daniel Cameron
git_last_commit: 72cd374
git_last_commit_date: 2025-10-29 10:52:25 -0400
nebbiolo1Linux (Ubuntu 24.04.3 LTS) / x86_64  OK    OK    OK  NO, package depends on 'rtracklayer' which is not available
Package 256/287HostnameOS / ArchINSTALLBUILDCHECKBUILD BIN
supersigs 1.19.0  (landing page)
Albert Kuo
git_last_commit: 281d3c5
git_last_commit_date: 2025-10-29 11:08:53 -0400
nebbiolo1Linux (Ubuntu 24.04.3 LTS) / x86_64  OK    OK    WARNINGS  YES
Package 257/287HostnameOS / ArchINSTALLBUILDCHECKBUILD BIN
surfaltr 1.17.0  (landing page)
Pooja Gangras
git_last_commit: 3063fd2
git_last_commit_date: 2025-10-29 11:12:34 -0400
nebbiolo1Linux (Ubuntu 24.04.3 LTS) / x86_64  OK    OK    OK  YES
Package 258/287HostnameOS / ArchINSTALLBUILDCHECKBUILD BIN
svaNUMT 1.17.0  (landing page)
Ruining Dong
git_last_commit: 798135e
git_last_commit_date: 2025-10-29 11:10:38 -0400
nebbiolo1Linux (Ubuntu 24.04.3 LTS) / x86_64  OK    OK    OK  NO, package depends on 'rtracklayer' which is not available
Package 259/287HostnameOS / ArchINSTALLBUILDCHECKBUILD BIN
svaRetro 1.17.0  (landing page)
Ruining Dong
git_last_commit: be18f25
git_last_commit_date: 2025-10-29 11:11:45 -0400
nebbiolo1Linux (Ubuntu 24.04.3 LTS) / x86_64  OK    ERROR  skipped
Package 260/287HostnameOS / ArchINSTALLBUILDCHECKBUILD BIN
SynExtend 1.23.0  (landing page)
Nicholas Cooley
git_last_commit: 99b8c41
git_last_commit_date: 2025-10-29 10:59:12 -0400
nebbiolo1Linux (Ubuntu 24.04.3 LTS) / x86_64  OK    OK    OK  YES
Package 261/287HostnameOS / ArchINSTALLBUILDCHECKBUILD BIN
SynMut 1.27.0  (landing page)
Haogao Gu
git_last_commit: 0bb1b93
git_last_commit_date: 2025-10-29 10:51:59 -0400
nebbiolo1Linux (Ubuntu 24.04.3 LTS) / x86_64  OK    OK    OK  YES
Package 262/287HostnameOS / ArchINSTALLBUILDCHECKBUILD BIN
syntenet 1.13.0  (landing page)
Fabrício Almeida-Silva
git_last_commit: da094a2
git_last_commit_date: 2025-10-29 11:17:23 -0400
nebbiolo1Linux (Ubuntu 24.04.3 LTS) / x86_64  OK    OK    OK  YES
Package 263/287HostnameOS / ArchINSTALLBUILDCHECKBUILD BIN
systemPipeR 2.17.0  (landing page)
Thomas Girke
git_last_commit: 378a792
git_last_commit_date: 2025-10-29 10:21:27 -0400
nebbiolo1Linux (Ubuntu 24.04.3 LTS) / x86_64  OK    OK    OK  YES
Package 264/287HostnameOS / ArchINSTALLBUILDCHECKBUILD BIN
TAPseq 1.23.0  (landing page)
Andreas R. Gschwind
git_last_commit: 8fcac6c
git_last_commit_date: 2025-10-29 10:57:19 -0400
nebbiolo1Linux (Ubuntu 24.04.3 LTS) / x86_64  OK    OK    WARNINGS  NO, package depends on 'BSgenome' which is not available
Package 265/287HostnameOS / ArchINSTALLBUILDCHECKBUILD BIN
TENET 1.3.0  (landing page)
Rhie Lab at the University of Southern California
git_last_commit: 135855c
git_last_commit_date: 2025-10-29 11:34:59 -0400
nebbiolo1Linux (Ubuntu 24.04.3 LTS) / x86_64  OK    OK    OK  NO, package depends on 'rtracklayer' which is not available
Package 266/287HostnameOS / ArchINSTALLBUILDCHECKBUILD BIN
TFBSTools 1.49.0  (landing page)
Ge Tan
git_last_commit: d5d1319
git_last_commit_date: 2025-10-29 10:16:59 -0400
nebbiolo1Linux (Ubuntu 24.04.3 LTS) / x86_64  OK    OK    OK  NO, package depends on 'BSgenome' which is not available
Package 267/287HostnameOS / ArchINSTALLBUILDCHECKBUILD BIN
topdownr 1.33.0  (landing page)
Sebastian Gibb
git_last_commit: 3979e4f
git_last_commit_date: 2025-10-29 10:41:42 -0400
nebbiolo1Linux (Ubuntu 24.04.3 LTS) / x86_64  OK    OK    OK  YES
Package 268/287HostnameOS / ArchINSTALLBUILDCHECKBUILD BIN
transite 1.29.0  (landing page)
Konstantin Krismer
git_last_commit: 9302edb
git_last_commit_date: 2025-10-29 10:48:14 -0400
nebbiolo1Linux (Ubuntu 24.04.3 LTS) / x86_64  OK    OK    OK  YES
Package 269/287HostnameOS / ArchINSTALLBUILDCHECKBUILD BIN
transmogR 1.7.0  (landing page)
Stevie Pederson
git_last_commit: ad3458d
git_last_commit_date: 2025-10-29 11:27:49 -0400
nebbiolo1Linux (Ubuntu 24.04.3 LTS) / x86_64  OK    OK    OK  NO, package depends on 'BSgenome' which is not available
Package 270/287HostnameOS / ArchINSTALLBUILDCHECKBUILD BIN
TreeSummarizedExperiment 2.19.0  (landing page)
Ruizhu Huang
git_last_commit: d592bc4
git_last_commit_date: 2025-10-29 10:52:27 -0400
nebbiolo1Linux (Ubuntu 24.04.3 LTS) / x86_64  OK    OK    OK  NO, package depends on 'SingleCellExperiment' which is not available
Package 271/287HostnameOS / ArchINSTALLBUILDCHECKBUILD BIN
triplex 1.51.0  (landing page)
Jiri Hon
git_last_commit: 53b853d
git_last_commit_date: 2025-10-29 10:14:42 -0400
nebbiolo1Linux (Ubuntu 24.04.3 LTS) / x86_64  OK    OK    WARNINGS  YES
Package 272/287HostnameOS / ArchINSTALLBUILDCHECKBUILD BIN
tRNA 1.29.0  (landing page)
Felix GM Ernst
git_last_commit: c4fadc0
git_last_commit_date: 2025-10-29 10:48:20 -0400
nebbiolo1Linux (Ubuntu 24.04.3 LTS) / x86_64  OK    OK    OK  YES
Package 273/287HostnameOS / ArchINSTALLBUILDCHECKBUILD BIN
tRNAdbImport 1.29.0  (landing page)
Felix G.M. Ernst
git_last_commit: 4c8ebfd
git_last_commit_date: 2025-10-29 10:48:38 -0400
nebbiolo1Linux (Ubuntu 24.04.3 LTS) / x86_64  OK    OK    OK  YES
Package 274/287HostnameOS / ArchINSTALLBUILDCHECKBUILD BIN
tRNAscanImport 1.31.0  (landing page)
Felix G.M. Ernst
git_last_commit: f9f96ff
git_last_commit_date: 2025-10-29 10:43:40 -0400
nebbiolo1Linux (Ubuntu 24.04.3 LTS) / x86_64  OK    OK    OK  NO, package depends on 'rtracklayer' which is not available
Package 275/287HostnameOS / ArchINSTALLBUILDCHECKBUILD BIN
TVTB 1.37.0  (landing page)
Kevin Rue-Albrecht
git_last_commit: 7c8a13b
git_last_commit_date: 2025-10-29 10:35:21 -0400
nebbiolo1Linux (Ubuntu 24.04.3 LTS) / x86_64  OK    OK    OK  NO, package depends on 'ensembldb' which is not available
Package 276/287HostnameOS / ArchINSTALLBUILDCHECKBUILD BIN
txcutr 1.17.0  (landing page)
Mervin Fansler
git_last_commit: 8127801
git_last_commit_date: 2025-10-29 11:13:37 -0400
nebbiolo1Linux (Ubuntu 24.04.3 LTS) / x86_64  OK    OK    OK  NO, package depends on 'GenomicFeatures' which is not available
Package 277/287HostnameOS / ArchINSTALLBUILDCHECKBUILD BIN
tximeta 1.29.0  (landing page)
Michael Love
git_last_commit: 43586e1
git_last_commit_date: 2025-10-29 10:47:17 -0400
nebbiolo1Linux (Ubuntu 24.04.3 LTS) / x86_64  OK    OK    OK  NO, package depends on 'GenomicFeatures' which is not available
Package 278/287HostnameOS / ArchINSTALLBUILDCHECKBUILD BIN
Ularcirc 1.29.0  (landing page)
David Humphreys
git_last_commit: ff1d0ee
git_last_commit_date: 2025-10-29 10:45:47 -0400
nebbiolo1Linux (Ubuntu 24.04.3 LTS) / x86_64  OK    OK    WARNINGS  NO, package depends on 'BSgenome' which is not available
Package 279/287HostnameOS / ArchINSTALLBUILDCHECKBUILD BIN
UMI4Cats 1.21.0  (landing page)
Mireia Ramos-Rodriguez
git_last_commit: f049a0a
git_last_commit_date: 2025-10-29 11:01:19 -0400
nebbiolo1Linux (Ubuntu 24.04.3 LTS) / x86_64  OK    OK    OK  NO, package depends on 'regioneR' which is not available
Package 280/287HostnameOS / ArchINSTALLBUILDCHECKBUILD BIN
universalmotif 1.29.0  (landing page)
Benjamin Jean-Marie Tremblay
git_last_commit: 6692d9a
git_last_commit_date: 2025-10-29 10:48:50 -0400
nebbiolo1Linux (Ubuntu 24.04.3 LTS) / x86_64  OK    OK    OK  YES
Package 281/287HostnameOS / ArchINSTALLBUILDCHECKBUILD BIN
VarCon 1.19.0  (landing page)
Johannes Ptok
git_last_commit: 479604c
git_last_commit_date: 2025-10-29 11:04:47 -0400
nebbiolo1Linux (Ubuntu 24.04.3 LTS) / x86_64  OK    OK    OK  NO, package depends on 'BSgenome' which is not available
Package 282/287HostnameOS / ArchINSTALLBUILDCHECKBUILD BIN
VariantAnnotation 1.57.0  (landing page)
Bioconductor Package Maintainer
git_last_commit: 0da7ddb
git_last_commit_date: 2025-10-29 10:08:24 -0400
nebbiolo1Linux (Ubuntu 24.04.3 LTS) / x86_64  OK    OK    WARNINGS  NO, package depends on 'rtracklayer' which is not available
Package 283/287HostnameOS / ArchINSTALLBUILDCHECKBUILD BIN
VariantExperiment 1.25.0  (landing page)
Qian Liu
git_last_commit: 230466e
git_last_commit_date: 2025-10-29 10:53:44 -0400
nebbiolo1Linux (Ubuntu 24.04.3 LTS) / x86_64  OK    OK    OK  NO, package depends on 'GDSArray' which is not available
Package 284/287HostnameOS / ArchINSTALLBUILDCHECKBUILD BIN
VariantFiltering 1.47.0  (landing page)
Robert Castelo
git_last_commit: 270d88d
git_last_commit_date: 2025-10-29 10:19:08 -0400
nebbiolo1Linux (Ubuntu 24.04.3 LTS) / x86_64  OK    OK    OK  NO, package depends on 'VariantAnnotation' which is not available
Package 285/287HostnameOS / ArchINSTALLBUILDCHECKBUILD BIN
VariantTools 1.53.0  (landing page)
Michael Lawrence
git_last_commit: 4083347
git_last_commit_date: 2025-10-29 10:12:36 -0400
nebbiolo1Linux (Ubuntu 24.04.3 LTS) / x86_64  OK    ERROR  skipped
Package 286/287HostnameOS / ArchINSTALLBUILDCHECKBUILD BIN
wavClusteR 2.45.0  (landing page)
Federico Comoglio
git_last_commit: f078fce
git_last_commit_date: 2025-10-29 10:19:50 -0400
nebbiolo1Linux (Ubuntu 24.04.3 LTS) / x86_64  ERROR    ERROR  skipped
Package 287/287HostnameOS / ArchINSTALLBUILDCHECKBUILD BIN
YAPSA 1.37.0  (landing page)
Zuguang Gu
git_last_commit: f37ad09
git_last_commit_date: 2025-10-29 10:34:03 -0400
nebbiolo1Linux (Ubuntu 24.04.3 LTS) / x86_64  OK    OK    OK  NO, package depends on 'SomaticSignatures' which is not available