| Back to Multiple platform build/check report for BioC 3.22: simplified long |
|
This page was generated on 2025-10-24 12:03 -0400 (Fri, 24 Oct 2025).
| Hostname | OS | Arch (*) | R version | Installed pkgs |
|---|---|---|---|---|
| nebbiolo2 | Linux (Ubuntu 24.04.3 LTS) | x86_64 | 4.5.1 Patched (2025-08-23 r88802) -- "Great Square Root" | 4898 |
| lconway | macOS 12.7.6 Monterey | x86_64 | 4.5.1 Patched (2025-09-10 r88807) -- "Great Square Root" | 4688 |
| kjohnson3 | macOS 13.7.7 Ventura | arm64 | 4.5.1 Patched (2025-09-10 r88807) -- "Great Square Root" | 4634 |
| taishan | Linux (openEuler 24.03 LTS) | aarch64 | 4.5.0 (2025-04-11) -- "How About a Twenty-Six" | 4658 |
| Click on any hostname to see more info about the system (e.g. compilers) (*) as reported by 'uname -p', except on Windows and Mac OS X | ||||
| Package 418/2359 | Hostname | OS / Arch | INSTALL | BUILD | CHECK | BUILD BIN | ||||||||
| CODEX 1.41.0 (landing page) Yuchao Jiang
| nebbiolo2 | Linux (Ubuntu 24.04.3 LTS) / x86_64 | OK | OK | OK | |||||||||
| lconway | macOS 12.7.6 Monterey / x86_64 | OK | OK | OK | OK | |||||||||
| kjohnson3 | macOS 13.7.7 Ventura / arm64 | OK | OK | OK | OK | |||||||||
| taishan | Linux (openEuler 24.03 LTS) / aarch64 | OK | OK | OK | ||||||||||
|
To the developers/maintainers of the CODEX package: - Allow up to 24 hours (and sometimes 48 hours) for your latest push to git@git.bioconductor.org:packages/CODEX.git to reflect on this report. See Troubleshooting Build Report for more information. - Use the following Renviron settings to reproduce errors and warnings. - If 'R CMD check' started to fail recently on the Linux builder(s) over a missing dependency, add the missing dependency to 'Suggests:' in your DESCRIPTION file. See Renviron.bioc for more information. |
| Package: CODEX |
| Version: 1.41.0 |
| Command: /home/biocbuild/bbs-3.22-bioc/R/bin/R CMD check --install=check:CODEX.install-out.txt --library=/home/biocbuild/bbs-3.22-bioc/R/site-library --timings CODEX_1.41.0.tar.gz |
| StartedAt: 2025-10-23 22:17:40 -0400 (Thu, 23 Oct 2025) |
| EndedAt: 2025-10-23 22:23:02 -0400 (Thu, 23 Oct 2025) |
| EllapsedTime: 322.3 seconds |
| RetCode: 0 |
| Status: OK |
| CheckDir: CODEX.Rcheck |
| Warnings: 0 |
##############################################################################
##############################################################################
###
### Running command:
###
### /home/biocbuild/bbs-3.22-bioc/R/bin/R CMD check --install=check:CODEX.install-out.txt --library=/home/biocbuild/bbs-3.22-bioc/R/site-library --timings CODEX_1.41.0.tar.gz
###
##############################################################################
##############################################################################
* using log directory ‘/home/biocbuild/bbs-3.22-bioc/meat/CODEX.Rcheck’
* using R version 4.5.1 Patched (2025-08-23 r88802)
* using platform: x86_64-pc-linux-gnu
* R was compiled by
gcc (Ubuntu 13.3.0-6ubuntu2~24.04) 13.3.0
GNU Fortran (Ubuntu 13.3.0-6ubuntu2~24.04) 13.3.0
* running under: Ubuntu 24.04.3 LTS
* using session charset: UTF-8
* checking for file ‘CODEX/DESCRIPTION’ ... OK
* checking extension type ... Package
* this is package ‘CODEX’ version ‘1.41.0’
* checking package namespace information ... OK
* checking package dependencies ... INFO
Depends: includes the non-default packages:
'Rsamtools', 'GenomeInfoDb', 'BSgenome.Hsapiens.UCSC.hg19',
'IRanges', 'Biostrings', 'S4Vectors'
Adding so many packages to the search path is excessive and importing
selectively is preferable.
* checking if this is a source package ... OK
* checking if there is a namespace ... OK
* checking for hidden files and directories ... OK
* checking for portable file names ... OK
* checking for sufficient/correct file permissions ... OK
* checking whether package ‘CODEX’ can be installed ... OK
* checking installed package size ... OK
* checking package directory ... OK
* checking ‘build’ directory ... OK
* checking DESCRIPTION meta-information ... OK
* checking top-level files ... OK
* checking for left-over files ... OK
* checking index information ... OK
* checking package subdirectories ... OK
* checking code files for non-ASCII characters ... OK
* checking R files for syntax errors ... OK
* checking whether the package can be loaded ... OK
* checking whether the package can be loaded with stated dependencies ... OK
* checking whether the package can be unloaded cleanly ... OK
* checking whether the namespace can be loaded with stated dependencies ... OK
* checking whether the namespace can be unloaded cleanly ... OK
* checking loading without being on the library search path ... OK
* checking dependencies in R code ... OK
* checking S3 generic/method consistency ... OK
* checking replacement functions ... OK
* checking foreign function calls ... OK
* checking R code for possible problems ... NOTE
choiceofK: no visible global function definition for ‘pdf’
choiceofK: no visible global function definition for ‘par’
choiceofK: no visible global function definition for ‘dev.off’
getbambed: no visible global function definition for ‘read.table’
normalize : <anonymous>: no visible global function definition for
‘smooth.spline’
normalize : <anonymous>: no visible global function definition for
‘predict’
normalize: no visible global function definition for ‘glm’
normalize: no visible binding for global variable ‘poisson’
normalize: no visible global function definition for ‘lm’
normalize2 : <anonymous>: no visible global function definition for
‘smooth.spline’
normalize2 : <anonymous>: no visible global function definition for
‘predict’
normalize2: no visible global function definition for ‘glm’
normalize2: no visible binding for global variable ‘poisson’
normalize2: no visible global function definition for ‘lm’
Undefined global functions or variables:
dev.off glm lm par pdf poisson predict read.table smooth.spline
Consider adding
importFrom("grDevices", "dev.off", "pdf")
importFrom("graphics", "par")
importFrom("stats", "glm", "lm", "poisson", "predict", "smooth.spline")
importFrom("utils", "read.table")
to your NAMESPACE file.
* checking Rd files ... OK
* checking Rd metadata ... OK
* checking Rd cross-references ... OK
* checking for missing documentation entries ... OK
* checking for code/documentation mismatches ... OK
* checking Rd \usage sections ... OK
* checking Rd contents ... OK
* checking for unstated dependencies in examples ... OK
* checking contents of ‘data’ directory ... OK
* checking data for non-ASCII characters ... OK
* checking LazyData ... OK
* checking data for ASCII and uncompressed saves ... OK
* checking files in ‘vignettes’ ... OK
* checking examples ... OK
Examples with CPU (user + system) or elapsed time > 5s
user system elapsed
normalize 17.220 0.004 17.225
normalize2 14.340 0.066 14.407
getcoverage 8.379 0.338 8.746
* checking for unstated dependencies in vignettes ... OK
* checking package vignettes ... OK
* checking re-building of vignette outputs ... OK
* checking PDF version of manual ... OK
* DONE
Status: 1 NOTE
See
‘/home/biocbuild/bbs-3.22-bioc/meat/CODEX.Rcheck/00check.log’
for details.
CODEX.Rcheck/00install.out
############################################################################## ############################################################################## ### ### Running command: ### ### /home/biocbuild/bbs-3.22-bioc/R/bin/R CMD INSTALL CODEX ### ############################################################################## ############################################################################## * installing to library ‘/home/biocbuild/bbs-3.22-bioc/R/site-library’ * installing *source* package ‘CODEX’ ... ** this is package ‘CODEX’ version ‘1.41.0’ ** using staged installation ** R ** data *** moving datasets to lazyload DB ** byte-compile and prepare package for lazy loading ** help *** installing help indices ** building package indices ** installing vignettes ** testing if installed package can be loaded from temporary location ** testing if installed package can be loaded from final location ** testing if installed package keeps a record of temporary installation path * DONE (CODEX)
CODEX.Rcheck/CODEX-Ex.timings
| name | user | system | elapsed | |
| bambedObjDemo | 0.000 | 0.000 | 0.001 | |
| choiceofK | 0.015 | 0.005 | 0.020 | |
| coverageObjDemo | 0 | 0 | 0 | |
| gcDemo | 0.000 | 0.000 | 0.001 | |
| getbambed | 0.014 | 0.002 | 0.018 | |
| getcoverage | 8.379 | 0.338 | 8.746 | |
| getgc | 1.050 | 0.055 | 1.116 | |
| getmapp | 0.028 | 0.000 | 0.028 | |
| mappDemo | 0 | 0 | 0 | |
| mapp_ref | 0.011 | 0.000 | 0.011 | |
| mappability | 0.000 | 0.000 | 0.001 | |
| normObjDemo | 0 | 0 | 0 | |
| normalize | 17.220 | 0.004 | 17.225 | |
| normalize2 | 14.340 | 0.066 | 14.407 | |
| qc | 0.016 | 0.001 | 0.017 | |
| qcObjDemo | 0 | 0 | 0 | |
| segment | 0.115 | 0.007 | 0.122 | |