Back to Multiple platform build/check report for BioC 3.22:   simplified   long
ABCDEFGHIJKL[M]NOPQRSTUVWXYZ

This page was generated on 2025-10-15 12:03 -0400 (Wed, 15 Oct 2025).

HostnameOSArch (*)R versionInstalled pkgs
nebbiolo2Linux (Ubuntu 24.04.3 LTS)x86_644.5.1 Patched (2025-08-23 r88802) -- "Great Square Root" 4866
lconwaymacOS 12.7.6 Montereyx86_644.5.1 Patched (2025-09-10 r88807) -- "Great Square Root" 4653
kjohnson3macOS 13.7.7 Venturaarm644.5.1 Patched (2025-09-10 r88807) -- "Great Square Root" 4598
taishanLinux (openEuler 24.03 LTS)aarch644.5.0 (2025-04-11) -- "How About a Twenty-Six" 4610
Click on any hostname to see more info about the system (e.g. compilers)      (*) as reported by 'uname -p', except on Windows and Mac OS X

Package 1290/2346HostnameOS / ArchINSTALLBUILDCHECKBUILD BIN
MicrobiotaProcess 1.21.2  (landing page)
Shuangbin Xu
Snapshot Date: 2025-10-14 13:45 -0400 (Tue, 14 Oct 2025)
git_url: https://git.bioconductor.org/packages/MicrobiotaProcess
git_branch: devel
git_last_commit: 0822a21
git_last_commit_date: 2025-09-23 21:22:57 -0400 (Tue, 23 Sep 2025)
nebbiolo2Linux (Ubuntu 24.04.3 LTS) / x86_64  OK    OK    OK  UNNEEDED, same version is already published
lconwaymacOS 12.7.6 Monterey / x86_64  OK    OK    OK    OK  UNNEEDED, same version is already published
kjohnson3macOS 13.7.7 Ventura / arm64  OK    OK    OK    OK  UNNEEDED, same version is already published
taishanLinux (openEuler 24.03 LTS) / aarch64  OK    OK    OK  


CHECK results for MicrobiotaProcess on nebbiolo2

To the developers/maintainers of the MicrobiotaProcess package:
- Allow up to 24 hours (and sometimes 48 hours) for your latest push to git@git.bioconductor.org:packages/MicrobiotaProcess.git to reflect on this report. See Troubleshooting Build Report for more information.
- Use the following Renviron settings to reproduce errors and warnings.
- If 'R CMD check' started to fail recently on the Linux builder(s) over a missing dependency, add the missing dependency to 'Suggests:' in your DESCRIPTION file. See Renviron.bioc for more information.

raw results


Summary

Package: MicrobiotaProcess
Version: 1.21.2
Command: /home/biocbuild/bbs-3.22-bioc/R/bin/R CMD check --install=check:MicrobiotaProcess.install-out.txt --library=/home/biocbuild/bbs-3.22-bioc/R/site-library --timings MicrobiotaProcess_1.21.2.tar.gz
StartedAt: 2025-10-15 01:46:56 -0400 (Wed, 15 Oct 2025)
EndedAt: 2025-10-15 01:53:53 -0400 (Wed, 15 Oct 2025)
EllapsedTime: 417.4 seconds
RetCode: 0
Status:   OK  
CheckDir: MicrobiotaProcess.Rcheck
Warnings: 0

Command output

##############################################################################
##############################################################################
###
### Running command:
###
###   /home/biocbuild/bbs-3.22-bioc/R/bin/R CMD check --install=check:MicrobiotaProcess.install-out.txt --library=/home/biocbuild/bbs-3.22-bioc/R/site-library --timings MicrobiotaProcess_1.21.2.tar.gz
###
##############################################################################
##############################################################################


* using log directory ‘/home/biocbuild/bbs-3.22-bioc/meat/MicrobiotaProcess.Rcheck’
* using R version 4.5.1 Patched (2025-08-23 r88802)
* using platform: x86_64-pc-linux-gnu
* R was compiled by
    gcc (Ubuntu 13.3.0-6ubuntu2~24.04) 13.3.0
    GNU Fortran (Ubuntu 13.3.0-6ubuntu2~24.04) 13.3.0
* running under: Ubuntu 24.04.3 LTS
* using session charset: UTF-8
* checking for file ‘MicrobiotaProcess/DESCRIPTION’ ... OK
* checking extension type ... Package
* this is package ‘MicrobiotaProcess’ version ‘1.21.2’
* package encoding: UTF-8
* checking package namespace information ... OK
* checking package dependencies ... INFO
Imports includes 29 non-default packages.
Importing from so many packages makes the package vulnerable to any of
them becoming unavailable.  Move as many as possible to Suggests and
use conditionally.
* checking if this is a source package ... OK
* checking if there is a namespace ... OK
* checking for hidden files and directories ... OK
* checking for portable file names ... OK
* checking for sufficient/correct file permissions ... OK
* checking whether package ‘MicrobiotaProcess’ can be installed ... OK
* checking installed package size ... INFO
  installed size is  5.8Mb
  sub-directories of 1Mb or more:
    R         2.6Mb
    figures   1.9Mb
* checking package directory ... OK
* checking ‘build’ directory ... OK
* checking DESCRIPTION meta-information ... OK
* checking top-level files ... OK
* checking for left-over files ... OK
* checking index information ... OK
* checking package subdirectories ... OK
* checking code files for non-ASCII characters ... OK
* checking R files for syntax errors ... OK
* checking whether the package can be loaded ... OK
* checking whether the package can be loaded with stated dependencies ... OK
* checking whether the package can be unloaded cleanly ... OK
* checking whether the namespace can be loaded with stated dependencies ... OK
* checking whether the namespace can be unloaded cleanly ... OK
* checking loading without being on the library search path ... OK
* checking whether startup messages can be suppressed ... OK
* checking dependencies in R code ... OK
* checking S3 generic/method consistency ... OK
* checking replacement functions ... OK
* checking foreign function calls ... OK
* checking R code for possible problems ... OK
* checking Rd files ... OK
* checking Rd metadata ... OK
* checking Rd cross-references ... NOTE
Non-topic package-anchored link(s) in Rd file 'reexports.Rd':
  ‘[magrittr:compound]{%<>%}’ ‘[magrittr:pipe]{%>%}’
  ‘[magrittr:aliases]{extract}’

See section 'Cross-references' in the 'Writing R Extensions' manual.

Found the following Rd file(s) with Rd \link{} targets missing package
anchors:
  ggrarecurve.Rd: ggplot2
Please provide package anchors for all Rd \link{} targets not in the
package itself and the base packages.
* checking for missing documentation entries ... OK
* checking for code/documentation mismatches ... OK
* checking Rd \usage sections ... OK
* checking Rd contents ... OK
* checking for unstated dependencies in examples ... OK
* checking contents of ‘data’ directory ... OK
* checking data for non-ASCII characters ... OK
* checking data for ASCII and uncompressed saves ... OK
* checking files in ‘vignettes’ ... OK
* checking examples ... OK
Examples with CPU (user + system) or elapsed time > 5s
                                 user system elapsed
mp_cal_abundance-methods       25.439  0.250  11.544
mp_plot_diff_boxplot-methods   11.614  0.047   5.969
mp_diff_analysis-methods       10.962  0.104   5.139
mp_plot_diff_manhattan-methods  8.426  0.033   2.885
mp_stat_taxa-methods            7.347  0.042   1.133
mp_cal_rarecurve-methods        5.413  0.062   5.475
* checking for unstated dependencies in ‘tests’ ... OK
* checking tests ...
  Running ‘testthat.R’
 OK
* checking for unstated dependencies in vignettes ... OK
* checking package vignettes ... OK
* checking re-building of vignette outputs ... OK
* checking PDF version of manual ... OK
* DONE

Status: 1 NOTE
See
  ‘/home/biocbuild/bbs-3.22-bioc/meat/MicrobiotaProcess.Rcheck/00check.log’
for details.


Installation output

MicrobiotaProcess.Rcheck/00install.out

##############################################################################
##############################################################################
###
### Running command:
###
###   /home/biocbuild/bbs-3.22-bioc/R/bin/R CMD INSTALL MicrobiotaProcess
###
##############################################################################
##############################################################################


* installing to library ‘/home/biocbuild/bbs-3.22-bioc/R/site-library’
* installing *source* package ‘MicrobiotaProcess’ ...
** this is package ‘MicrobiotaProcess’ version ‘1.21.2’
** using staged installation
** R
** data
** inst
** byte-compile and prepare package for lazy loading
in method for ‘taxonomy<-’ with signature ‘x="MPSE",value="taxonomyTable"’: no definition for class “taxonomyTable”
Creating a generic function for ‘rownames<-’ from package ‘base’ in package ‘MicrobiotaProcess’
in method for ‘get_alltaxadf’ with signature ‘"phyloseq"’: no definition for class “phyloseq”
in method for ‘get_taxadf’ with signature ‘"phyloseq"’: no definition for class “phyloseq”
in method for ‘get_alphaindex’ with signature ‘"phyloseq"’: no definition for class “phyloseq”
in method for ‘get_NRI_NTI’ with signature ‘"phyloseq"’: no definition for class “phyloseq”
in method for ‘get_rarecurve’ with signature ‘"phyloseq"’: no definition for class “phyloseq”
in method for ‘get_upset’ with signature ‘"phyloseq"’: no definition for class “phyloseq”
in method for ‘get_vennlist’ with signature ‘"phyloseq"’: no definition for class “phyloseq”
in method for ‘drop_taxa’ with signature ‘"phyloseq"’: no definition for class “phyloseq”
** help
*** installing help indices
** building package indices
** installing vignettes
** testing if installed package can be loaded from temporary location
** testing if installed package can be loaded from final location
** testing if installed package keeps a record of temporary installation path
* DONE (MicrobiotaProcess)

Tests output

MicrobiotaProcess.Rcheck/tests/testthat.Rout


R version 4.5.1 Patched (2025-08-23 r88802) -- "Great Square Root"
Copyright (C) 2025 The R Foundation for Statistical Computing
Platform: x86_64-pc-linux-gnu

R is free software and comes with ABSOLUTELY NO WARRANTY.
You are welcome to redistribute it under certain conditions.
Type 'license()' or 'licence()' for distribution details.

R is a collaborative project with many contributors.
Type 'contributors()' for more information and
'citation()' on how to cite R or R packages in publications.

Type 'demo()' for some demos, 'help()' for on-line help, or
'help.start()' for an HTML browser interface to help.
Type 'q()' to quit R.

> library("testthat")
> library("MicrobiotaProcess")
MicrobiotaProcess v1.21.2 For help:
https://github.com/YuLab-SMU/MicrobiotaProcess/issues

If you use MicrobiotaProcess in published research, please cite the
paper:

Shuangbin Xu, Li Zhan, Wenli Tang, Qianwen Wang, Zehan Dai, Lang Zhou,
Tingze Feng, Meijun Chen, Tianzhi Wu, Erqiang Hu, Guangchuang Yu.
MicrobiotaProcess: A comprehensive R package for deep mining
microbiome. The Innovation. 2023, 4(2):100388. doi:
10.1016/j.xinn.2023.100388

Export the citation to BibTex by citation('MicrobiotaProcess')

This message can be suppressed by:
suppressPackageStartupMessages(library(MicrobiotaProcess))

Attaching package: 'MicrobiotaProcess'

The following object is masked from 'package:stats':

    filter

> test_check("MicrobiotaProcess")
[ FAIL 0 | WARN 9 | SKIP 0 | PASS 13 ]

[ FAIL 0 | WARN 9 | SKIP 0 | PASS 13 ]
> 
> proc.time()
   user  system elapsed 
 19.512   0.781  14.022 

Example timings

MicrobiotaProcess.Rcheck/MicrobiotaProcess-Ex.timings

nameusersystemelapsed
ImportDada21.9900.1152.106
ImportQiime22.8960.0622.961
MPSE0.0860.0000.085
as.treedata000
build_tree000
convert_to_treedata000
data-hmp_aerobiosis_small0.0110.0010.011
data-kostic2012crc0.0510.0020.053
data-test_otu_data0.0010.0010.002
diff_analysis0.0010.0000.000
dr_extract000
drop_taxa000
generalizedFC0.0040.0010.006
get_alltaxadf000
get_alphaindex0.0000.0000.001
get_clust000
get_coord000
get_count000
get_dist000
get_mean_median000
get_pca000
get_pcoa000
get_pvalue0.0550.0000.057
get_rarecurve000
get_sampledflist0.0010.0000.000
get_taxadf000
get_upset000
get_varct000
get_vennlist000
ggbartax000
ggbox000
ggclust000
ggdiffbox000
ggdiffclade000
ggdifftaxbar0.0010.0000.000
ggeffectsize000
ggordpoint000
ggrarecurve000
mp_adonis-methods0.0970.0010.098
mp_aggregate-methods0.0000.0000.001
mp_aggregate_clade-methods000
mp_anosim-methods1.1560.0021.159
mp_balance_clade-methods0.0000.0010.000
mp_cal_abundance-methods25.439 0.25011.544
mp_cal_alpha-methods1.2370.0141.252
mp_cal_cca-methods0.9290.0050.936
mp_cal_clust-methods0.5510.0140.566
mp_cal_dist-methods2.7590.0132.773
mp_cal_divergence-methods0.0010.0000.001
mp_cal_nmds-methods0.3060.0040.310
mp_cal_pca-methods1.8840.0011.886
mp_cal_pcoa-methods0.5660.0130.578
mp_cal_pd_metric-methods000
mp_cal_rarecurve-methods5.4130.0625.475
mp_cal_rda-methods0.6950.0380.734
mp_cal_upset-methods2.2930.0111.255
mp_cal_venn-methods1.8220.0090.578
mp_decostand-methods0.3070.0010.308
mp_diff_analysis-methods10.962 0.104 5.139
mp_diff_clade-methods0.0000.0000.001
mp_dmn-methods000
mp_dmngroup-methods000
mp_envfit-methods1.8970.0291.926
mp_filter_taxa-methods0.9100.0040.914
mp_import_metaphlan2.7430.0112.755
mp_mantel-methods0.2460.0010.247
mp_mrpp-methods0.1550.0000.155
mp_plot_abundance-methods0.0010.0000.001
mp_plot_alpha-methods000
mp_plot_diff_boxplot-methods11.614 0.047 5.969
mp_plot_diff_cladogram000
mp_plot_diff_manhattan-methods8.4260.0332.885
mp_plot_dist-methods0.0000.0000.001
mp_plot_ord-methods000
mp_plot_rarecurve-methods000
mp_plot_upset-methods000
mp_plot_venn-methods000
mp_rrarefy-methods0.3720.0010.372
mp_select_as_tip-methods000
mp_stat_taxa-methods7.3470.0421.133
multi_compare0.0080.0000.008
read_qza000
show-methods000
split_data0.0020.0000.002
split_str_to_list000
theme_taxbar000