This page was generated on 2019-01-30 16:00:23 -0500 (Wed, 30 Jan 2019).
[malbec2] |
Linux (Ubuntu 18.04.1 LTS) / x86_64 | | | |
tokay2 |
Windows Server 2012 R2 Standard / x64 | | | |
|
annotation 1.7.0 | Bioconductor Package Maintainer | OK | ERROR | |
arrays 1.9.0 | Bioconductor Package Maintainer | OK | OK | ![UNNEEDED, same version exists in internal repository UNNEEDED, same version exists in internal repository](120px-Blue_Light_Icon.svg.png) |
BiocMetaWorkflow 1.5.0 | Mike Smith | OK | ERROR | |
chipseqDB 1.7.5 | Aaron Lun | OK | ERROR | |
cytofWorkflow 1.7.1 | Malgorzata Nowicka | OK | ERROR | |
EGSEA123 1.7.1 | Matthew Ritchie | OK | OK | ![UNNEEDED, same version exists in internal repository UNNEEDED, same version exists in internal repository](120px-Blue_Light_Icon.svg.png) |
eQTL 1.7.0 | Vincent Carey | OK | OK | ![UNNEEDED, same version exists in internal repository UNNEEDED, same version exists in internal repository](120px-Blue_Light_Icon.svg.png) |
ExpressionNormalizationWorkflow 1.9.1 | Karthikeyan Murugesan | OK | OK | ![UNNEEDED, same version exists in internal repository UNNEEDED, same version exists in internal repository](120px-Blue_Light_Icon.svg.png) |
generegulation 1.7.0 | Bioconductor Package Maintainer | OK | OK | ![UNNEEDED, same version exists in internal repository UNNEEDED, same version exists in internal repository](120px-Blue_Light_Icon.svg.png) |
highthroughputassays 1.7.1 | Bioconductor Package Maintainer | OK | OK | ![UNNEEDED, same version exists in internal repository UNNEEDED, same version exists in internal repository](120px-Blue_Light_Icon.svg.png) |
liftOver 1.7.0 | Bioconductor Package Maintainer | OK | OK | ![UNNEEDED, same version exists in internal repository UNNEEDED, same version exists in internal repository](120px-Blue_Light_Icon.svg.png) |
maEndToEnd 2.3.0 | Bernd Klaus | OK | OK | ![UNNEEDED, same version exists in internal repository UNNEEDED, same version exists in internal repository](120px-Blue_Light_Icon.svg.png) |
methylationArrayAnalysis 1.7.0 | Jovana Maksimovic | OK | OK | ![UNNEEDED, same version exists in internal repository UNNEEDED, same version exists in internal repository](120px-Blue_Light_Icon.svg.png) |
proteomics 1.7.1 | Laurent Gatto | OK | OK | ![UNNEEDED, same version exists in internal repository UNNEEDED, same version exists in internal repository](120px-Blue_Light_Icon.svg.png) |
recountWorkflow 1.7.1 | Leonardo Collado-Torres | OK | ERROR | |
RNAseq123 1.7.2 | Matthew Ritchie | OK | OK | ![UNNEEDED, same version exists in internal repository UNNEEDED, same version exists in internal repository](120px-Blue_Light_Icon.svg.png) |
rnaseqDTU 1.3.1 | Michael Love | OK | OK | ![UNNEEDED, same version exists in internal repository UNNEEDED, same version exists in internal repository](120px-Blue_Light_Icon.svg.png) |
rnaseqGene 1.7.1 | Michael Love | OK | OK | ![UNNEEDED, same version exists in internal repository UNNEEDED, same version exists in internal repository](120px-Blue_Light_Icon.svg.png) |
RnaSeqGeneEdgeRQL 1.7.1 | Yunshun Chen | OK | OK | ![UNNEEDED, same version exists in internal repository UNNEEDED, same version exists in internal repository](120px-Blue_Light_Icon.svg.png) |
sequencing 1.7.1 | Martin Morgan | OK | OK | ![UNNEEDED, same version exists in internal repository UNNEEDED, same version exists in internal repository](120px-Blue_Light_Icon.svg.png) |
simpleSingleCell 1.7.15 | Aaron Lun | OK | OK | ![YES, new version is higher than in internal repository YES, new version is higher than in internal repository](120px-Green_Light_Icon.svg.png) |
TCGAWorkflow 1.7.0 | Tiago Chedraoui Silva | OK | OK | ![UNNEEDED, same version exists in internal repository UNNEEDED, same version exists in internal repository](120px-Blue_Light_Icon.svg.png) |
variants 1.7.1 | Bioconductor Package Maintainer | OK | OK | ![UNNEEDED, same version exists in internal repository UNNEEDED, same version exists in internal repository](120px-Blue_Light_Icon.svg.png) |