Back to Workflows build report for BioC 3.9 |
This page was generated on 2019-10-16 13:50:15 -0400 (Wed, 16 Oct 2019).
Package 18/27 | Hostname | OS / Arch | INSTALL | BUILD | ||||||
recountWorkflow 1.8.1 Leonardo Collado-Torres
| malbec2 | Linux (Ubuntu 18.04.2 LTS) / x86_64 | [ OK ] | OK | ![]() |
Package: recountWorkflow |
Version: 1.8.1 |
Command: /home/biocbuild/bbs-3.9-bioc/R/bin/R CMD INSTALL recountWorkflow |
StartedAt: 2019-10-16 11:56:02 -0400 (Wed, 16 Oct 2019) |
EndedAt: 2019-10-16 11:56:31 -0400 (Wed, 16 Oct 2019) |
EllapsedTime: 29.2 seconds |
RetCode: 0 |
Status: OK |
############################################################################## ############################################################################## ### ### Running command: ### ### /home/biocbuild/bbs-3.9-bioc/R/bin/R CMD INSTALL recountWorkflow ### ############################################################################## ############################################################################## * installing to library ‘/home/biocbuild/bbs-3.9-bioc/R/library’ * installing *source* package ‘recountWorkflow’ ... ** using staged installation ** help No man pages found in package ‘recountWorkflow’ *** installing help indices ** building package indices ** installing vignettes ** testing if installed package can be loaded from temporary location ** testing if installed package can be loaded from final location ** testing if installed package keeps a record of temporary installation path * DONE (recountWorkflow)