This page was generated on 2019-01-30 16:00:23 -0500 (Wed, 30 Jan 2019).
| malbec2 |
Linux (Ubuntu 18.04.1 LTS) / x86_64 | | | |
| [tokay2] |
Windows Server 2012 R2 Standard / x64 | | | |
|
| annotation 1.7.0 | Bioconductor Package Maintainer | OK | OK | |
| arrays 1.9.0 | Bioconductor Package Maintainer | OK | OK | |
| BiocMetaWorkflow 1.5.0 | Mike Smith | OK | ERROR | |
| chipseqDB | | ...NOT SUPPORTED... |
| cytofWorkflow 1.7.1 | Malgorzata Nowicka | OK | ERROR | |
| EGSEA123 1.7.1 | Matthew Ritchie | OK | OK | |
| eQTL 1.7.0 | Vincent Carey | OK | OK | |
| ExpressionNormalizationWorkflow 1.9.1 | Karthikeyan Murugesan | OK | OK | |
| generegulation 1.7.0 | Bioconductor Package Maintainer | OK | OK | |
| highthroughputassays | | ...NOT SUPPORTED... |
| liftOver 1.7.0 | Bioconductor Package Maintainer | OK | OK | |
| maEndToEnd 2.3.0 | Bernd Klaus | OK | OK | |
| methylationArrayAnalysis 1.7.0 | Jovana Maksimovic | OK | OK | |
| proteomics 1.7.1 | Laurent Gatto | OK | ERROR | |
| recountWorkflow 1.7.1 | Leonardo Collado-Torres | OK | OK | |
| RNAseq123 1.7.2 | Matthew Ritchie | OK | OK | |
| rnaseqDTU 1.3.1 | Michael Love | OK | OK | |
| rnaseqGene 1.7.1 | Michael Love | OK | OK | |
| RnaSeqGeneEdgeRQL 1.7.1 | Yunshun Chen | OK | OK | |
| sequencing 1.7.1 | Martin Morgan | OK | OK | |
| simpleSingleCell | | ...NOT SUPPORTED... |
| TCGAWorkflow 1.7.0 | Tiago Chedraoui Silva | OK | ERROR | |
| variants 1.7.1 | Bioconductor Package Maintainer | OK | OK | |