| Back to Workflows build report for BioC 3.9 |
This page was generated on 2019-10-16 13:50:15 -0400 (Wed, 16 Oct 2019).
| Package 12/27 | Hostname | OS / Arch | INSTALL | BUILD | ||||||
| generegulation 1.8.0 Bioconductor Package Maintainer
| malbec2 | Linux (Ubuntu 18.04.2 LTS) / x86_64 | [ OK ] | OK |
| Package: generegulation |
| Version: 1.8.0 |
| Command: /home/biocbuild/bbs-3.9-bioc/R/bin/R CMD INSTALL generegulation |
| StartedAt: 2019-10-16 11:55:33 -0400 (Wed, 16 Oct 2019) |
| EndedAt: 2019-10-16 11:56:00 -0400 (Wed, 16 Oct 2019) |
| EllapsedTime: 27.1 seconds |
| RetCode: 0 |
| Status: OK |
##############################################################################
##############################################################################
###
### Running command:
###
### /home/biocbuild/bbs-3.9-bioc/R/bin/R CMD INSTALL generegulation
###
##############################################################################
##############################################################################
* installing to library ‘/home/biocbuild/bbs-3.9-bioc/R/library’
* installing *source* package ‘generegulation’ ...
** using staged installation
** help
No man pages found in package ‘generegulation’
*** installing help indices
** building package indices
** installing vignettes
** testing if installed package can be loaded from temporary location
See system.file("LICENSE", package="MotifDb") for use restrictions.
** testing if installed package can be loaded from final location
See system.file("LICENSE", package="MotifDb") for use restrictions.
** testing if installed package keeps a record of temporary installation path
* DONE (generegulation)