| Back to Workflows build report for BioC 3.9 |
This page was generated on 2019-10-16 13:50:15 -0400 (Wed, 16 Oct 2019).
| Package 26/27 | Hostname | OS / Arch | INSTALL | BUILD | ||||||
| TCGAWorkflow 1.8.1 Tiago Chedraoui Silva
| malbec2 | Linux (Ubuntu 18.04.2 LTS) / x86_64 | OK | [ OK ] |
| Package: TCGAWorkflow |
| Version: 1.8.1 |
| Command: /home/biocbuild/bbs-3.9-bioc/R/bin/R CMD build --keep-empty-dirs --no-resave-data TCGAWorkflow |
| StartedAt: 2019-10-16 12:07:59 -0400 (Wed, 16 Oct 2019) |
| EndedAt: 2019-10-16 12:19:03 -0400 (Wed, 16 Oct 2019) |
| EllapsedTime: 664.3 seconds |
| RetCode: 0 |
| Status: OK |
| PackageFile: TCGAWorkflow_1.8.1.tar.gz |
| PackageFileSize: 5.152 MiB |
############################################################################## ############################################################################## ### ### Running command: ### ### /home/biocbuild/bbs-3.9-bioc/R/bin/R CMD build --keep-empty-dirs --no-resave-data TCGAWorkflow ### ############################################################################## ############################################################################## * checking for file ‘TCGAWorkflow/DESCRIPTION’ ... OK * preparing ‘TCGAWorkflow’: * checking DESCRIPTION meta-information ... OK * installing the package to build vignettes * creating vignettes ... OK * checking for LF line-endings in source and make files and shell scripts * checking for empty or unneeded directories * building ‘TCGAWorkflow_1.8.1.tar.gz’