| Back to Workflows build report for BioC 3.9 | 
This page was generated on 2019-10-16 13:50:15 -0400 (Wed, 16 Oct 2019).
| Package 21/27 | Hostname | OS / Arch | INSTALL | BUILD | ||||||
| rnaseqGene 1.8.0 Michael Love 
 | malbec2 | Linux (Ubuntu 18.04.2 LTS) / x86_64 | OK | [ OK ] |  | 
| Package: rnaseqGene | 
| Version: 1.8.0 | 
| Command: /home/biocbuild/bbs-3.9-bioc/R/bin/R CMD build --keep-empty-dirs --no-resave-data rnaseqGene | 
| StartedAt: 2019-10-16 12:05:07 -0400 (Wed, 16 Oct 2019) | 
| EndedAt: 2019-10-16 12:07:58 -0400 (Wed, 16 Oct 2019) | 
| EllapsedTime: 171.1 seconds | 
| RetCode: 0 | 
| Status: OK | 
| PackageFile: rnaseqGene_1.8.0.tar.gz | 
| PackageFileSize: 1.205 MiB | 
############################################################################## ############################################################################## ### ### Running command: ### ### /home/biocbuild/bbs-3.9-bioc/R/bin/R CMD build --keep-empty-dirs --no-resave-data rnaseqGene ### ############################################################################## ############################################################################## * checking for file ‘rnaseqGene/DESCRIPTION’ ... OK * preparing ‘rnaseqGene’: * checking DESCRIPTION meta-information ... OK * installing the package to build vignettes * creating vignettes ... OK * checking for LF line-endings in source and make files and shell scripts * checking for empty or unneeded directories * creating default NAMESPACE file * building ‘rnaseqGene_1.8.0.tar.gz’