| Back to Build/check report for BioC 3.22: simplified long |
|
This page was generated on 2025-10-27 12:45 -0400 (Mon, 27 Oct 2025).
| Hostname | OS | Arch (*) | R version | Installed pkgs |
|---|---|---|---|---|
| kjohnson3 | macOS 13.7.7 Ventura | arm64 | 4.5.1 Patched (2025-09-10 r88807) -- "Great Square Root" | 4637 |
| Click on any hostname to see more info about the system (e.g. compilers) (*) as reported by 'uname -p', except on Windows and Mac OS X | ||||
|
To the developers/maintainers of the GenomicFeatures package: - Allow up to 24 hours (and sometimes 48 hours) for your latest push to git@git.bioconductor.org:packages/GenomicFeatures.git to reflect on this report. See Troubleshooting Build Report for more information. - Use the following Renviron settings to reproduce errors and warnings. - If 'R CMD check' started to fail recently on the Linux builder(s) over a missing dependency, add the missing dependency to 'Suggests:' in your DESCRIPTION file. See Renviron.bioc for more information. |
| Package 845/2361 | Hostname | OS / Arch | INSTALL | BUILD | CHECK | BUILD BIN | ||||||||
| GenomicFeatures 1.61.8 (landing page) H. Pagès
| kjohnson3 | macOS 13.7.7 Ventura / arm64 | OK | OK | OK | OK | ||||||||
| QUICK STATS | OS / Arch | INSTALL | BUILD | CHECK | BUILD BIN | |||||||||||||||||
| kjohnson3 | macOS 13.7.7 Ventura / arm64 |
|
|
|
| |||||||||||||||||
| Package 1/142 | Hostname | OS / Arch | INSTALL | BUILD | CHECK | BUILD BIN | ||||||||||||||||
| AllelicImbalance 1.47.0 (landing page) Jesper R Gadin
| kjohnson3 | macOS 13.7.7 Ventura / arm64 | OK | OK | OK | OK | ||||||||||||||||
| Package 2/142 | Hostname | OS / Arch | INSTALL | BUILD | CHECK | BUILD BIN | ||||||||||||||||
| AnnotationHubData 1.39.2 (landing page) Bioconductor Package Maintainer
| kjohnson3 | macOS 13.7.7 Ventura / arm64 | OK | OK | WARNINGS | OK | ||||||||||||||||
| Package 3/142 | Hostname | OS / Arch | INSTALL | BUILD | CHECK | BUILD BIN | ||||||||||||||||
| annotatr 1.35.2 (landing page) Raymond G. Cavalcante
| kjohnson3 | macOS 13.7.7 Ventura / arm64 | OK | OK | OK | OK | ||||||||||||||||
| Package 4/142 | Hostname | OS / Arch | INSTALL | BUILD | CHECK | BUILD BIN | ||||||||||||||||
| APAlyzer 1.23.0 (landing page) Ruijia Wang
| kjohnson3 | macOS 13.7.7 Ventura / arm64 | OK | OK | ERROR | OK | ||||||||||||||||
| Package 5/142 | Hostname | OS / Arch | INSTALL | BUILD | CHECK | BUILD BIN | ||||||||||||||||
| appreci8R 1.27.0 (landing page) Sarah Sandmann
| kjohnson3 | macOS 13.7.7 Ventura / arm64 | OK | OK | OK | OK | ||||||||||||||||
| Package 6/142 | Hostname | OS / Arch | INSTALL | BUILD | CHECK | BUILD BIN | ||||||||||||||||
| ASpli 2.19.0 (landing page) Ariel Chernomoretz
| kjohnson3 | macOS 13.7.7 Ventura / arm64 | OK | OK | WARNINGS | OK | ||||||||||||||||
| Package 7/142 | Hostname | OS / Arch | INSTALL | BUILD | CHECK | BUILD BIN | ||||||||||||||||
| atena 1.15.3 (landing page) Robert Castelo
| kjohnson3 | macOS 13.7.7 Ventura / arm64 | OK | OK | OK | OK | ||||||||||||||||
| Package 8/142 | Hostname | OS / Arch | INSTALL | BUILD | CHECK | BUILD BIN | ||||||||||||||||
| bambu 3.11.2 (landing page) Ying Chen
| kjohnson3 | macOS 13.7.7 Ventura / arm64 | OK | OK | OK | OK | ||||||||||||||||
| Package 9/142 | Hostname | OS / Arch | INSTALL | BUILD | CHECK | BUILD BIN | ||||||||||||||||
| BgeeCall 1.25.1 (landing page) Julien Wollbrett
| kjohnson3 | macOS 13.7.7 Ventura / arm64 | OK | OK | OK | OK | ||||||||||||||||
| Package 10/142 | Hostname | OS / Arch | INSTALL | BUILD | CHECK | BUILD BIN | ||||||||||||||||
| BindingSiteFinder 2.7.1 (landing page) Mirko Brüggemann
| kjohnson3 | macOS 13.7.7 Ventura / arm64 | OK | OK | OK | OK | ||||||||||||||||
| Package 11/142 | Hostname | OS / Arch | INSTALL | BUILD | CHECK | BUILD BIN | ||||||||||||||||
| biovizBase 1.57.1 (landing page) Michael Lawrence
| kjohnson3 | macOS 13.7.7 Ventura / arm64 | OK | OK | WARNINGS | OK | ||||||||||||||||
| Package 12/142 | Hostname | OS / Arch | INSTALL | BUILD | CHECK | BUILD BIN | ||||||||||||||||
| bumphunter 1.51.1 (landing page) Tamilselvi Guharaj
| kjohnson3 | macOS 13.7.7 Ventura / arm64 | OK | OK | OK | OK | ||||||||||||||||
| Package 13/142 | Hostname | OS / Arch | INSTALL | BUILD | CHECK | BUILD BIN | ||||||||||||||||
| BUSpaRse 1.23.2 (landing page) Lambda Moses
| kjohnson3 | macOS 13.7.7 Ventura / arm64 | OK | ERROR | skipped | skipped | ||||||||||||||||
| Package 14/142 | Hostname | OS / Arch | INSTALL | BUILD | CHECK | BUILD BIN | ||||||||||||||||
| CAGEfightR 1.29.1 (landing page) Malte Thodberg
| kjohnson3 | macOS 13.7.7 Ventura / arm64 | OK | OK | OK | OK | ||||||||||||||||
| Package 15/142 | Hostname | OS / Arch | INSTALL | BUILD | CHECK | BUILD BIN | ||||||||||||||||
| CAGEr 2.15.2 (landing page) Charles Plessy
| kjohnson3 | macOS 13.7.7 Ventura / arm64 | OK | OK | OK | OK | ||||||||||||||||
| Package 16/142 | Hostname | OS / Arch | INSTALL | BUILD | CHECK | BUILD BIN | ||||||||||||||||
| casper 2.43.1 (landing page) David Rossell
| kjohnson3 | macOS 13.7.7 Ventura / arm64 | OK | ERROR | skipped | skipped | ||||||||||||||||
| Package 17/142 | Hostname | OS / Arch | INSTALL | BUILD | CHECK | BUILD BIN | ||||||||||||||||
| chevreulProcess 1.1.2 (landing page) Kevin Stachelek
| kjohnson3 | macOS 13.7.7 Ventura / arm64 | OK | OK | OK | OK | ||||||||||||||||
| Package 18/142 | Hostname | OS / Arch | INSTALL | BUILD | CHECK | BUILD BIN | ||||||||||||||||
| ChIPpeakAnno 3.43.2 (landing page) Jianhong Ou
| kjohnson3 | macOS 13.7.7 Ventura / arm64 | OK | ERROR | skipped | skipped | ||||||||||||||||
| Package 19/142 | Hostname | OS / Arch | INSTALL | BUILD | CHECK | BUILD BIN | ||||||||||||||||
| ChIPQC 1.45.0 (landing page) Tom Carroll
| kjohnson3 | macOS 13.7.7 Ventura / arm64 | ERROR | ERROR | skipped | skipped | ||||||||||||||||
| Package 20/142 | Hostname | OS / Arch | INSTALL | BUILD | CHECK | BUILD BIN | ||||||||||||||||
| ChIPseeker 1.45.3 (landing page) Guangchuang Yu
| kjohnson3 | macOS 13.7.7 Ventura / arm64 | OK | ERROR | skipped | skipped | ||||||||||||||||
| Package 21/142 | Hostname | OS / Arch | INSTALL | BUILD | CHECK | BUILD BIN | ||||||||||||||||
| Cogito 1.15.2 (landing page) Annika Bürger
| kjohnson3 | macOS 13.7.7 Ventura / arm64 | OK | OK | OK | OK | ||||||||||||||||
| Package 22/142 | Hostname | OS / Arch | INSTALL | BUILD | CHECK | BUILD BIN | ||||||||||||||||
| compEpiTools 1.43.1 (landing page) Mattia Furlan
| kjohnson3 | macOS 13.7.7 Ventura / arm64 | OK | OK | OK | OK | ||||||||||||||||
| Package 23/142 | Hostname | OS / Arch | INSTALL | BUILD | CHECK | BUILD BIN | ||||||||||||||||
| consensusDE 1.27.0 (landing page) Ashley J. Waardenberg
| kjohnson3 | macOS 13.7.7 Ventura / arm64 | OK | OK | OK | OK | ||||||||||||||||
| Package 24/142 | Hostname | OS / Arch | INSTALL | BUILD | CHECK | BUILD BIN | ||||||||||||||||
| cpvSNP 1.41.0 (landing page) Caitlin McHugh
| kjohnson3 | macOS 13.7.7 Ventura / arm64 | OK | OK | OK | OK | ||||||||||||||||
| Package 25/142 | Hostname | OS / Arch | INSTALL | BUILD | CHECK | BUILD BIN | ||||||||||||||||
| crisprDesign 1.11.1 (landing page) Jean-Philippe Fortin
| kjohnson3 | macOS 13.7.7 Ventura / arm64 | OK | OK | OK | OK | ||||||||||||||||
| Package 26/142 | Hostname | OS / Arch | INSTALL | BUILD | CHECK | BUILD BIN | ||||||||||||||||
| CRISPRseek 1.49.2 (landing page) Lihua Julie Zhu
| kjohnson3 | macOS 13.7.7 Ventura / arm64 | OK | OK | OK | OK | ||||||||||||||||
| Package 27/142 | Hostname | OS / Arch | INSTALL | BUILD | CHECK | BUILD BIN | ||||||||||||||||
| crisprViz 1.11.1 (landing page) Jean-Philippe Fortin
| kjohnson3 | macOS 13.7.7 Ventura / arm64 | OK | OK | OK | OK | ||||||||||||||||
| Package 28/142 | Hostname | OS / Arch | INSTALL | BUILD | CHECK | BUILD BIN | ||||||||||||||||
| crupR 1.1.1 (landing page) Persia Akbari Omgba
| kjohnson3 | macOS 13.7.7 Ventura / arm64 | OK | ERROR | skipped | skipped | ||||||||||||||||
| Package 29/142 | Hostname | OS / Arch | INSTALL | BUILD | CHECK | BUILD BIN | ||||||||||||||||
| CSSQ 1.21.0 (landing page) Fan Lab at Georgia Institute of Technology
| kjohnson3 | macOS 13.7.7 Ventura / arm64 | OK | OK | OK | OK | ||||||||||||||||
| Package 30/142 | Hostname | OS / Arch | INSTALL | BUILD | CHECK | BUILD BIN | ||||||||||||||||
| customProDB 1.49.0 (landing page) Xiaojing Wang
| kjohnson3 | macOS 13.7.7 Ventura / arm64 | OK | OK | ERROR | OK | ||||||||||||||||
| Package 31/142 | Hostname | OS / Arch | INSTALL | BUILD | CHECK | BUILD BIN | ||||||||||||||||
| Damsel 1.5.0 (landing page) Caitlin Page
| kjohnson3 | macOS 13.7.7 Ventura / arm64 | OK | ERROR | skipped | skipped | ||||||||||||||||
| Package 32/142 | Hostname | OS / Arch | INSTALL | BUILD | CHECK | BUILD BIN | ||||||||||||||||
| decompTumor2Sig 2.25.1 (landing page) Rosario M. Piro
| kjohnson3 | macOS 13.7.7 Ventura / arm64 | OK | ERROR | skipped | skipped | ||||||||||||||||
| Package 33/142 | Hostname | OS / Arch | INSTALL | BUILD | CHECK | BUILD BIN | ||||||||||||||||
| DegNorm 1.19.1 (landing page) Ji-Ping Wang
| kjohnson3 | macOS 13.7.7 Ventura / arm64 | OK | OK | OK | OK | ||||||||||||||||
| Package 34/142 | Hostname | OS / Arch | INSTALL | BUILD | CHECK | BUILD BIN | ||||||||||||||||
| derfinder 1.43.1 (landing page) Leonardo Collado-Torres
| kjohnson3 | macOS 13.7.7 Ventura / arm64 | OK | TIMEOUT | skipped | skipped | ||||||||||||||||
| Package 35/142 | Hostname | OS / Arch | INSTALL | BUILD | CHECK | BUILD BIN | ||||||||||||||||
| derfinderPlot 1.43.1 (landing page) Leonardo Collado-Torres
| kjohnson3 | macOS 13.7.7 Ventura / arm64 | OK | OK | OK | OK | ||||||||||||||||
| Package 36/142 | Hostname | OS / Arch | INSTALL | BUILD | CHECK | BUILD BIN | ||||||||||||||||
| DNAfusion 1.11.0 (landing page) Christoffer Trier Maansson
| kjohnson3 | macOS 13.7.7 Ventura / arm64 | OK | OK | OK | OK | ||||||||||||||||
| Package 37/142 | Hostname | OS / Arch | INSTALL | BUILD | CHECK | BUILD BIN | ||||||||||||||||
| doubletrouble 1.9.1 (landing page) Fabrício Almeida-Silva
| kjohnson3 | macOS 13.7.7 Ventura / arm64 | OK | OK | OK | OK | ||||||||||||||||
| Package 38/142 | Hostname | OS / Arch | INSTALL | BUILD | CHECK | BUILD BIN | ||||||||||||||||
| EDASeq 2.43.0 (landing page) Davide Risso
| kjohnson3 | macOS 13.7.7 Ventura / arm64 | OK | OK | OK | OK | ||||||||||||||||
| Package 39/142 | Hostname | OS / Arch | INSTALL | BUILD | CHECK | BUILD BIN | ||||||||||||||||
| ELMER 2.33.1 (landing page) Tiago Chedraoui Silva
| kjohnson3 | macOS 13.7.7 Ventura / arm64 | OK | ERROR | skipped | skipped | ||||||||||||||||
| Package 40/142 | Hostname | OS / Arch | INSTALL | BUILD | CHECK | BUILD BIN | ||||||||||||||||
| ELViS 1.1.12 (landing page) Jin-Young Lee
| kjohnson3 | macOS 13.7.7 Ventura / arm64 | OK | OK | OK | OK | ||||||||||||||||
| Package 41/142 | Hostname | OS / Arch | INSTALL | BUILD | CHECK | BUILD BIN | ||||||||||||||||
| ensembldb 2.33.2 (landing page) Johannes Rainer
| kjohnson3 | macOS 13.7.7 Ventura / arm64 | OK | ERROR | skipped | skipped | ||||||||||||||||
| Package 42/142 | Hostname | OS / Arch | INSTALL | BUILD | CHECK | BUILD BIN | ||||||||||||||||
| EpiMix 1.11.1 (landing page) Yuanning Zheng
| kjohnson3 | macOS 13.7.7 Ventura / arm64 | OK | ERROR | skipped | skipped | ||||||||||||||||
| Package 43/142 | Hostname | OS / Arch | INSTALL | BUILD | CHECK | BUILD BIN | ||||||||||||||||
| epimutacions 1.13.0 (landing page) Dolors Pelegri-Siso
| kjohnson3 | macOS 13.7.7 Ventura / arm64 | OK | ERROR | skipped | skipped | ||||||||||||||||
| Package 44/142 | Hostname | OS / Arch | INSTALL | BUILD | CHECK | BUILD BIN | ||||||||||||||||
| EpiTxDb 1.21.2 (landing page) Felix G.M. Ernst
| kjohnson3 | macOS 13.7.7 Ventura / arm64 | OK | ERROR | skipped | skipped | ||||||||||||||||
| Package 45/142 | Hostname | OS / Arch | INSTALL | BUILD | CHECK | BUILD BIN | ||||||||||||||||
| epivizrData 1.37.2 (landing page) Hector Corrada Bravo
| kjohnson3 | macOS 13.7.7 Ventura / arm64 | OK | OK | OK | OK | ||||||||||||||||
| Package 46/142 | Hostname | OS / Arch | INSTALL | BUILD | CHECK | BUILD BIN | ||||||||||||||||
| epivizrStandalone 1.37.1 (landing page) Hector Corrada Bravo
| kjohnson3 | macOS 13.7.7 Ventura / arm64 | OK | OK | WARNINGS | OK | ||||||||||||||||
| Package 47/142 | Hostname | OS / Arch | INSTALL | BUILD | CHECK | BUILD BIN | ||||||||||||||||
| esATAC 1.31.1 (landing page) Zheng Wei
| kjohnson3 | macOS 13.7.7 Ventura / arm64 | OK | OK | OK | OK | ||||||||||||||||
| Package 48/142 | Hostname | OS / Arch | INSTALL | BUILD | CHECK | BUILD BIN | ||||||||||||||||
| EventPointer 3.17.0 (landing page) Juan A. Ferrer-Bonsoms
| kjohnson3 | macOS 13.7.7 Ventura / arm64 | OK | OK | OK | OK | ||||||||||||||||
| Package 49/142 | Hostname | OS / Arch | INSTALL | BUILD | CHECK | BUILD BIN | ||||||||||||||||
| factR 1.11.0 (landing page) Fursham Hamid
| kjohnson3 | macOS 13.7.7 Ventura / arm64 | OK | ERROR | skipped | skipped | ||||||||||||||||
| Package 50/142 | Hostname | OS / Arch | INSTALL | BUILD | CHECK | BUILD BIN | ||||||||||||||||
| FindIT2 1.15.1 (landing page) Guandong Shang
| kjohnson3 | macOS 13.7.7 Ventura / arm64 | OK | OK | OK | OK | ||||||||||||||||
| Package 51/142 | Hostname | OS / Arch | INSTALL | BUILD | CHECK | BUILD BIN | ||||||||||||||||
| FLAMES 2.3.5 (landing page) Changqing Wang
| kjohnson3 | macOS 13.7.7 Ventura / arm64 | OK | OK | OK | OK | ||||||||||||||||
| Package 52/142 | Hostname | OS / Arch | INSTALL | BUILD | CHECK | BUILD BIN | ||||||||||||||||
| FRASER 2.5.6 (landing page) Christian Mertes
| kjohnson3 | macOS 13.7.7 Ventura / arm64 | OK | OK | OK | OK | ||||||||||||||||
| Package 53/142 | Hostname | OS / Arch | INSTALL | BUILD | CHECK | BUILD BIN | ||||||||||||||||
| GA4GHshiny 1.31.1 (landing page) Welliton Souza
| kjohnson3 | macOS 13.7.7 Ventura / arm64 | OK | OK | OK | OK | ||||||||||||||||
| Package 54/142 | Hostname | OS / Arch | INSTALL | BUILD | CHECK | BUILD BIN | ||||||||||||||||
| gDNAx 1.7.3 (landing page) Robert Castelo
| kjohnson3 | macOS 13.7.7 Ventura / arm64 | OK | ERROR | skipped | skipped | ||||||||||||||||
| Package 55/142 | Hostname | OS / Arch | INSTALL | BUILD | CHECK | BUILD BIN | ||||||||||||||||
| geneAttribution 1.35.1 (landing page) Arthur Wuster
| kjohnson3 | macOS 13.7.7 Ventura / arm64 | OK | OK | OK | OK | ||||||||||||||||
| Package 56/142 | Hostname | OS / Arch | INSTALL | BUILD | CHECK | BUILD BIN | ||||||||||||||||
| GenomicInteractionNodes 1.13.1 (landing page) Jianhong Ou
| kjohnson3 | macOS 13.7.7 Ventura / arm64 | OK | OK | OK | OK | ||||||||||||||||
| Package 57/142 | Hostname | OS / Arch | INSTALL | BUILD | CHECK | BUILD BIN | ||||||||||||||||
| GenomicPlot 1.7.2 (landing page) Shuye Pu
| kjohnson3 | macOS 13.7.7 Ventura / arm64 | OK | TIMEOUT | skipped | skipped | ||||||||||||||||
| Package 58/142 | Hostname | OS / Arch | INSTALL | BUILD | CHECK | BUILD BIN | ||||||||||||||||
| GenVisR 1.41.3 (landing page) Zachary Skidmore
| kjohnson3 | macOS 13.7.7 Ventura / arm64 | OK | OK | ERROR | OK | ||||||||||||||||
| Package 59/142 | Hostname | OS / Arch | INSTALL | BUILD | CHECK | BUILD BIN | ||||||||||||||||
| ggbio 1.57.1 (landing page) Michael Lawrence
| kjohnson3 | macOS 13.7.7 Ventura / arm64 | OK | OK | WARNINGS | OK | ||||||||||||||||
| Package 60/142 | Hostname | OS / Arch | INSTALL | BUILD | CHECK | BUILD BIN | ||||||||||||||||
| gINTomics 1.5.2 (landing page) Angelo Velle
| kjohnson3 | macOS 13.7.7 Ventura / arm64 | OK | ERROR | skipped | skipped | ||||||||||||||||
| Package 61/142 | Hostname | OS / Arch | INSTALL | BUILD | CHECK | BUILD BIN | ||||||||||||||||
| gmapR 1.51.1 (landing page) Michael Lawrence
| kjohnson3 | macOS 13.7.7 Ventura / arm64 | ERROR | ERROR | skipped | skipped | ||||||||||||||||
| Package 62/142 | Hostname | OS / Arch | INSTALL | BUILD | CHECK | BUILD BIN | ||||||||||||||||
| gmoviz 1.21.1 (landing page) Kathleen Zeglinski
| kjohnson3 | macOS 13.7.7 Ventura / arm64 | OK | OK | OK | OK | ||||||||||||||||
| Package 63/142 | Hostname | OS / Arch | INSTALL | BUILD | CHECK | BUILD BIN | ||||||||||||||||
| goseq 1.61.1 (landing page) Federico Marini
| kjohnson3 | macOS 13.7.7 Ventura / arm64 | OK | ERROR | skipped | skipped | ||||||||||||||||
| Package 64/142 | Hostname | OS / Arch | INSTALL | BUILD | CHECK | BUILD BIN | ||||||||||||||||
| GSReg 1.43.0 (landing page) Bahman Afsari
| kjohnson3 | macOS 13.7.7 Ventura / arm64 | OK | OK | WARNINGS | OK | ||||||||||||||||
| Package 65/142 | Hostname | OS / Arch | INSTALL | BUILD | CHECK | BUILD BIN | ||||||||||||||||
| GUIDEseq 1.39.0 (landing page) Lihua Julie Zhu
| kjohnson3 | macOS 13.7.7 Ventura / arm64 | OK | OK | OK | OK | ||||||||||||||||
| Package 66/142 | Hostname | OS / Arch | INSTALL | BUILD | CHECK | BUILD BIN | ||||||||||||||||
| Guitar 2.25.0 (landing page) Jia Meng
| kjohnson3 | macOS 13.7.7 Ventura / arm64 | OK | OK | OK | OK | ||||||||||||||||
| Package 67/142 | Hostname | OS / Arch | INSTALL | BUILD | CHECK | BUILD BIN | ||||||||||||||||
| Gviz 1.53.1 (landing page) Robert Ivanek
| kjohnson3 | macOS 13.7.7 Ventura / arm64 | OK | OK | OK | OK | ||||||||||||||||
| Package 68/142 | Hostname | OS / Arch | INSTALL | BUILD | CHECK | BUILD BIN | ||||||||||||||||
| gwascat 2.41.1 (landing page) VJ Carey
| kjohnson3 | macOS 13.7.7 Ventura / arm64 | OK | OK | OK | OK | ||||||||||||||||
| Package 69/142 | Hostname | OS / Arch | INSTALL | BUILD | CHECK | BUILD BIN | ||||||||||||||||
| HelloRanges 1.35.2 (landing page) Michael Lawrence
| kjohnson3 | macOS 13.7.7 Ventura / arm64 | OK | OK | OK | OK | ||||||||||||||||
| Package 70/142 | Hostname | OS / Arch | INSTALL | BUILD | CHECK | BUILD BIN | ||||||||||||||||
| HiLDA 1.23.0 (landing page) Zhi Yang
| kjohnson3 | macOS 13.7.7 Ventura / arm64 | OK | OK | OK | OK | ||||||||||||||||
| Package 71/142 | Hostname | OS / Arch | INSTALL | BUILD | CHECK | BUILD BIN | ||||||||||||||||
| icetea 1.27.1 (landing page) Vivek Bhardwaj
| kjohnson3 | macOS 13.7.7 Ventura / arm64 | OK | OK | WARNINGS | OK | ||||||||||||||||
| Package 72/142 | Hostname | OS / Arch | INSTALL | BUILD | CHECK | BUILD BIN | ||||||||||||||||
| IMAS 1.33.1 (landing page) Seonggyun Han
| kjohnson3 | macOS 13.7.7 Ventura / arm64 | OK | ERROR | skipped | skipped | ||||||||||||||||
| Package 73/142 | Hostname | OS / Arch | INSTALL | BUILD | CHECK | BUILD BIN | ||||||||||||||||
| InPAS 2.17.1 (landing page) Jianhong Ou
| kjohnson3 | macOS 13.7.7 Ventura / arm64 | OK | OK | WARNINGS | OK | ||||||||||||||||
| Package 74/142 | Hostname | OS / Arch | INSTALL | BUILD | CHECK | BUILD BIN | ||||||||||||||||
| INSPEcT 1.39.1 (landing page) Stefano de Pretis
| kjohnson3 | macOS 13.7.7 Ventura / arm64 | OK | OK | OK | OK | ||||||||||||||||
| Package 75/142 | Hostname | OS / Arch | INSTALL | BUILD | CHECK | BUILD BIN | ||||||||||||||||
| IntEREst 1.33.0 (landing page) Ali Oghabian
| kjohnson3 | macOS 13.7.7 Ventura / arm64 | OK | OK | OK | OK | ||||||||||||||||
| Package 76/142 | Hostname | OS / Arch | INSTALL | BUILD | CHECK | BUILD BIN | ||||||||||||||||
| IVAS 2.29.1 (landing page) Seonggyun Han
| kjohnson3 | macOS 13.7.7 Ventura / arm64 | OK | OK | WARNINGS | OK | ||||||||||||||||
| Package 77/142 | Hostname | OS / Arch | INSTALL | BUILD | CHECK | BUILD BIN | ||||||||||||||||
| karyoploteR 1.35.3 (landing page) Bernat Gel
| kjohnson3 | macOS 13.7.7 Ventura / arm64 | OK | OK | OK | OK | ||||||||||||||||
| Package 78/142 | Hostname | OS / Arch | INSTALL | BUILD | CHECK | BUILD BIN | ||||||||||||||||
| lumi 2.61.0 (landing page) Lei Huang
| kjohnson3 | macOS 13.7.7 Ventura / arm64 | OK | OK | WARNINGS | OK | ||||||||||||||||
| Package 79/142 | Hostname | OS / Arch | INSTALL | BUILD | CHECK | BUILD BIN | ||||||||||||||||
| magpie 1.9.0 (landing page) Daoyu Duan
| kjohnson3 | macOS 13.7.7 Ventura / arm64 | OK | OK | WARNINGS | OK | ||||||||||||||||
| Package 80/142 | Hostname | OS / Arch | INSTALL | BUILD | CHECK | BUILD BIN | ||||||||||||||||
| mCSEA 1.29.0 (landing page) Jordi Martorell-Marugán
| kjohnson3 | macOS 13.7.7 Ventura / arm64 | OK | ERROR | skipped | skipped | ||||||||||||||||
| Package 81/142 | Hostname | OS / Arch | INSTALL | BUILD | CHECK | BUILD BIN | ||||||||||||||||
| metaseqR2 1.21.2 (landing page) Panagiotis Moulos
| kjohnson3 | macOS 13.7.7 Ventura / arm64 | OK | ERROR | skipped | skipped | ||||||||||||||||
| Package 82/142 | Hostname | OS / Arch | INSTALL | BUILD | CHECK | BUILD BIN | ||||||||||||||||
| methylumi 2.55.0 (landing page) Sean Davis
| kjohnson3 | macOS 13.7.7 Ventura / arm64 | OK | OK | OK | OK | ||||||||||||||||
| Package 83/142 | Hostname | OS / Arch | INSTALL | BUILD | CHECK | BUILD BIN | ||||||||||||||||
| msgbsR 1.33.1 (landing page) Benjamin Mayne
| kjohnson3 | macOS 13.7.7 Ventura / arm64 | OK | OK | OK | OK | ||||||||||||||||
| Package 84/142 | Hostname | OS / Arch | INSTALL | BUILD | CHECK | BUILD BIN | ||||||||||||||||
| multicrispr 1.19.1 (landing page) Aditya Bhagwat
| kjohnson3 | macOS 13.7.7 Ventura / arm64 | OK | OK | OK | OK | ||||||||||||||||
| Package 85/142 | Hostname | OS / Arch | INSTALL | BUILD | CHECK | BUILD BIN | ||||||||||||||||
| musicatk 2.3.2 (landing page) Joshua D. Campbell
| kjohnson3 | macOS 13.7.7 Ventura / arm64 | OK | OK | OK | OK | ||||||||||||||||
| Package 86/142 | Hostname | OS / Arch | INSTALL | BUILD | CHECK | BUILD BIN | ||||||||||||||||
| mygene 1.45.0 (landing page) Adam Mark, Cyrus Afrasiabi, Chunlei Wu
| kjohnson3 | macOS 13.7.7 Ventura / arm64 | OK | ERROR | skipped | skipped | ||||||||||||||||
| Package 87/142 | Hostname | OS / Arch | INSTALL | BUILD | CHECK | BUILD BIN | ||||||||||||||||
| NoRCE 1.21.2 (landing page) Gulden Olgun
| kjohnson3 | macOS 13.7.7 Ventura / arm64 | OK | OK | OK | OK | ||||||||||||||||
| Package 88/142 | Hostname | OS / Arch | INSTALL | BUILD | CHECK | BUILD BIN | ||||||||||||||||
| ORFik 1.29.9 (landing page) Haakon Tjeldnes
| kjohnson3 | macOS 13.7.7 Ventura / arm64 | OK | ERROR | skipped | skipped | ||||||||||||||||
| Package 89/142 | Hostname | OS / Arch | INSTALL | BUILD | CHECK | BUILD BIN | ||||||||||||||||
| Organism.dplyr 1.37.1 (landing page) Martin Morgan
| kjohnson3 | macOS 13.7.7 Ventura / arm64 | OK | OK | ERROR | OK | ||||||||||||||||
| Package 90/142 | Hostname | OS / Arch | INSTALL | BUILD | CHECK | BUILD BIN | ||||||||||||||||
| OrganismDbi 1.51.5 (landing page) Bioconductor Package Maintainer
| kjohnson3 | macOS 13.7.7 Ventura / arm64 | OK | OK | OK | OK | ||||||||||||||||
| Package 91/142 | Hostname | OS / Arch | INSTALL | BUILD | CHECK | BUILD BIN | ||||||||||||||||
| OUTRIDER 1.27.4 (landing page) Christian Mertes
| kjohnson3 | macOS 13.7.7 Ventura / arm64 | OK | ERROR | skipped | skipped | ||||||||||||||||
| Package 92/142 | Hostname | OS / Arch | INSTALL | BUILD | CHECK | BUILD BIN | ||||||||||||||||
| OutSplice 1.9.0 (landing page) Theresa Guo
| kjohnson3 | macOS 13.7.7 Ventura / arm64 | OK | OK | OK | OK | ||||||||||||||||
| Package 93/142 | Hostname | OS / Arch | INSTALL | BUILD | CHECK | BUILD BIN | ||||||||||||||||
| proActiv 1.19.3 (landing page) Joseph Lee
| kjohnson3 | macOS 13.7.7 Ventura / arm64 | OK | OK | OK | OK | ||||||||||||||||
| Package 94/142 | Hostname | OS / Arch | INSTALL | BUILD | CHECK | BUILD BIN | ||||||||||||||||
| proBAMr 1.43.1 (landing page) Xiaojing Wang
| kjohnson3 | macOS 13.7.7 Ventura / arm64 | OK | OK | OK | OK | ||||||||||||||||
| Package 95/142 | Hostname | OS / Arch | INSTALL | BUILD | CHECK | BUILD BIN | ||||||||||||||||
| profileplyr 1.25.1 (landing page) Tom Carroll
| kjohnson3 | macOS 13.7.7 Ventura / arm64 | OK | ERROR | skipped | skipped | ||||||||||||||||
| Package 96/142 | Hostname | OS / Arch | INSTALL | BUILD | CHECK | BUILD BIN | ||||||||||||||||
| ProteoDisco 1.15.1 (landing page) Job van Riet
| kjohnson3 | macOS 13.7.7 Ventura / arm64 | OK | OK | WARNINGS | OK | ||||||||||||||||
| Package 97/142 | Hostname | OS / Arch | INSTALL | BUILD | CHECK | BUILD BIN | ||||||||||||||||
| PureCN 2.15.4 (landing page) Markus Riester
| kjohnson3 | macOS 13.7.7 Ventura / arm64 | OK | OK | OK | OK | ||||||||||||||||
| Package 98/142 | Hostname | OS / Arch | INSTALL | BUILD | CHECK | BUILD BIN | ||||||||||||||||
| qpgraph 2.43.1 (landing page) Robert Castelo
| kjohnson3 | macOS 13.7.7 Ventura / arm64 | OK | OK | OK | OK | ||||||||||||||||
| Package 99/142 | Hostname | OS / Arch | INSTALL | BUILD | CHECK | BUILD BIN | ||||||||||||||||
| QuasR 1.49.3 (landing page) Michael Stadler
| kjohnson3 | macOS 13.7.7 Ventura / arm64 | OK | ERROR | skipped | skipped | ||||||||||||||||
| Package 100/142 | Hostname | OS / Arch | INSTALL | BUILD | CHECK | BUILD BIN | ||||||||||||||||
| raer 1.7.2 (landing page) Kent Riemondy
| kjohnson3 | macOS 13.7.7 Ventura / arm64 | OK | ERROR | skipped | skipped | ||||||||||||||||
| Package 101/142 | Hostname | OS / Arch | INSTALL | BUILD | CHECK | BUILD BIN | ||||||||||||||||
| RareVariantVis 2.37.0 (landing page) Tomasz Stokowy
| kjohnson3 | macOS 13.7.7 Ventura / arm64 | OK | OK | OK | OK | ||||||||||||||||
| Package 102/142 | Hostname | OS / Arch | INSTALL | BUILD | CHECK | BUILD BIN | ||||||||||||||||
| RCAS 1.35.0 (landing page) Bora Uyar
| kjohnson3 | macOS 13.7.7 Ventura / arm64 | OK | ERROR | skipped | skipped | ||||||||||||||||
| Package 103/142 | Hostname | OS / Arch | INSTALL | BUILD | CHECK | BUILD BIN | ||||||||||||||||
| rCGH 1.39.1 (landing page) Frederic Commo
| kjohnson3 | macOS 13.7.7 Ventura / arm64 | OK | OK | OK | OK | ||||||||||||||||
| Package 104/142 | Hostname | OS / Arch | INSTALL | BUILD | CHECK | BUILD BIN | ||||||||||||||||
| recoup 1.37.1 (landing page) Panagiotis Moulos
| kjohnson3 | macOS 13.7.7 Ventura / arm64 | OK | OK | OK | OK | ||||||||||||||||
| Package 105/142 | Hostname | OS / Arch | INSTALL | BUILD | CHECK | BUILD BIN | ||||||||||||||||
| RgnTX 1.11.1 (landing page) Yue Wang
| kjohnson3 | macOS 13.7.7 Ventura / arm64 | OK | ERROR | skipped | skipped | ||||||||||||||||
| Package 106/142 | Hostname | OS / Arch | INSTALL | BUILD | CHECK | BUILD BIN | ||||||||||||||||
| rGREAT 2.11.0 (landing page) Zuguang Gu
| kjohnson3 | macOS 13.7.7 Ventura / arm64 | OK | OK | ERROR | OK | ||||||||||||||||
| Package 107/142 | Hostname | OS / Arch | INSTALL | BUILD | CHECK | BUILD BIN | ||||||||||||||||
| RiboCrypt 1.15.4 (landing page) Michal Swirski
| kjohnson3 | macOS 13.7.7 Ventura / arm64 | OK | OK | OK | OK | ||||||||||||||||
| Package 108/142 | Hostname | OS / Arch | INSTALL | BUILD | CHECK | BUILD BIN | ||||||||||||||||
| RiboDiPA 1.17.1 (landing page) Ji-Ping Wang
| kjohnson3 | macOS 13.7.7 Ventura / arm64 | OK | OK | OK | OK | ||||||||||||||||
| Package 109/142 | Hostname | OS / Arch | INSTALL | BUILD | CHECK | BUILD BIN | ||||||||||||||||
| RiboProfiling 1.39.1 (landing page) A. Popa
| kjohnson3 | macOS 13.7.7 Ventura / arm64 | OK | ERROR | skipped | skipped | ||||||||||||||||
| Package 110/142 | Hostname | OS / Arch | INSTALL | BUILD | CHECK | BUILD BIN | ||||||||||||||||
| ribosomeProfilingQC 1.21.2 (landing page) Jianhong Ou
| kjohnson3 | macOS 13.7.7 Ventura / arm64 | OK | OK | OK | OK | ||||||||||||||||
| Package 111/142 | Hostname | OS / Arch | INSTALL | BUILD | CHECK | BUILD BIN | ||||||||||||||||
| RITAN 1.33.0 (landing page) Michael Zimmermann
| kjohnson3 | macOS 13.7.7 Ventura / arm64 | OK | OK | WARNINGS | OK | ||||||||||||||||
| Package 112/142 | Hostname | OS / Arch | INSTALL | BUILD | CHECK | BUILD BIN | ||||||||||||||||
| RNAmodR 1.23.2 (landing page) Felix G.M. Ernst
| kjohnson3 | macOS 13.7.7 Ventura / arm64 | OK | ERROR | skipped | skipped | ||||||||||||||||
| Package 113/142 | Hostname | OS / Arch | INSTALL | BUILD | CHECK | BUILD BIN | ||||||||||||||||
Krutik Patel
| kjohnson3 | macOS 13.7.7 Ventura / arm64 | OK | OK | ERROR | OK | ||||||||||||||||
| Package 114/142 | Hostname | OS / Arch | INSTALL | BUILD | CHECK | BUILD BIN | ||||||||||||||||
| saseR 1.5.1 (landing page) Alexandre Segers
| kjohnson3 | macOS 13.7.7 Ventura / arm64 | OK | OK | WARNINGS | OK | ||||||||||||||||
| Package 115/142 | Hostname | OS / Arch | INSTALL | BUILD | CHECK | BUILD BIN | ||||||||||||||||
| scanMiRApp 1.15.1 (landing page) Pierre-Luc Germain
| kjohnson3 | macOS 13.7.7 Ventura / arm64 | OK | OK | OK | OK | ||||||||||||||||
| Package 116/142 | Hostname | OS / Arch | INSTALL | BUILD | CHECK | BUILD BIN | ||||||||||||||||
| scruff 1.27.1 (landing page) Zhe Wang
| kjohnson3 | macOS 13.7.7 Ventura / arm64 | OK | OK | OK | OK | ||||||||||||||||
| Package 117/142 | Hostname | OS / Arch | INSTALL | BUILD | CHECK | BUILD BIN | ||||||||||||||||
| SGSeq 1.43.1 (landing page) Leonard Goldstein
| kjohnson3 | macOS 13.7.7 Ventura / arm64 | OK | OK | OK | OK | ||||||||||||||||
| Package 118/142 | Hostname | OS / Arch | INSTALL | BUILD | CHECK | BUILD BIN | ||||||||||||||||
| sitadela 1.17.1 (landing page) Panagiotis Moulos
| kjohnson3 | macOS 13.7.7 Ventura / arm64 | OK | ERROR | skipped | skipped | ||||||||||||||||
| Package 119/142 | Hostname | OS / Arch | INSTALL | BUILD | CHECK | BUILD BIN | ||||||||||||||||
| spatzie 1.15.1 (landing page) Jennifer Hammelman
| kjohnson3 | macOS 13.7.7 Ventura / arm64 | OK | OK | ERROR | OK | ||||||||||||||||
| Package 120/142 | Hostname | OS / Arch | INSTALL | BUILD | CHECK | BUILD BIN | ||||||||||||||||
| SPICEY 0.99.5 (landing page) Georgina Fuentes-Páez
| kjohnson3 | macOS 13.7.7 Ventura / arm64 | OK | OK | OK | OK | ||||||||||||||||
| Package 121/142 | Hostname | OS / Arch | INSTALL | BUILD | CHECK | BUILD BIN | ||||||||||||||||
| SplicingGraphs 1.49.1 (landing page) H. Pagès
| kjohnson3 | macOS 13.7.7 Ventura / arm64 | OK | ERROR | skipped | skipped | ||||||||||||||||
| Package 122/142 | Hostname | OS / Arch | INSTALL | BUILD | CHECK | BUILD BIN | ||||||||||||||||
| SPLINTER 1.35.1 (landing page) Diana Low
| kjohnson3 | macOS 13.7.7 Ventura / arm64 | OK | ERROR | skipped | skipped | ||||||||||||||||
| Package 123/142 | Hostname | OS / Arch | INSTALL | BUILD | CHECK | BUILD BIN | ||||||||||||||||
| srnadiff 1.29.1 (landing page) Zytnicki Matthias
| kjohnson3 | macOS 13.7.7 Ventura / arm64 | OK | OK | WARNINGS | OK | ||||||||||||||||
| Package 124/142 | Hostname | OS / Arch | INSTALL | BUILD | CHECK | BUILD BIN | ||||||||||||||||
| StructuralVariantAnnotation 1.25.0 (landing page) Daniel Cameron
| kjohnson3 | macOS 13.7.7 Ventura / arm64 | OK | OK | OK | OK | ||||||||||||||||
| Package 125/142 | Hostname | OS / Arch | INSTALL | BUILD | CHECK | BUILD BIN | ||||||||||||||||
| svaNUMT 1.15.1 (landing page) Ruining Dong
| kjohnson3 | macOS 13.7.7 Ventura / arm64 | OK | OK | OK | OK | ||||||||||||||||
| Package 126/142 | Hostname | OS / Arch | INSTALL | BUILD | CHECK | BUILD BIN | ||||||||||||||||
| svaRetro 1.15.1 (landing page) Ruining Dong
| kjohnson3 | macOS 13.7.7 Ventura / arm64 | OK | ERROR | skipped | skipped | ||||||||||||||||
| Package 127/142 | Hostname | OS / Arch | INSTALL | BUILD | CHECK | BUILD BIN | ||||||||||||||||
| TAPseq 1.21.0 (landing page) Andreas R. Gschwind
| kjohnson3 | macOS 13.7.7 Ventura / arm64 | OK | OK | WARNINGS | OK | ||||||||||||||||
| Package 128/142 | Hostname | OS / Arch | INSTALL | BUILD | CHECK | BUILD BIN | ||||||||||||||||
| TCGAutils 1.29.5 (landing page) Marcel Ramos
| kjohnson3 | macOS 13.7.7 Ventura / arm64 | OK | ERROR | skipped | skipped | ||||||||||||||||
| Package 129/142 | Hostname | OS / Arch | INSTALL | BUILD | CHECK | BUILD BIN | ||||||||||||||||
| TFEA.ChIP 1.29.4 (landing page) Yosra Berrouayel
| kjohnson3 | macOS 13.7.7 Ventura / arm64 | OK | OK | OK | OK | ||||||||||||||||
| Package 130/142 | Hostname | OS / Arch | INSTALL | BUILD | CHECK | BUILD BIN | ||||||||||||||||
| trackViewer 1.45.3 (landing page) Jianhong Ou
| kjohnson3 | macOS 13.7.7 Ventura / arm64 | OK | OK | OK | OK | ||||||||||||||||
| Package 131/142 | Hostname | OS / Arch | INSTALL | BUILD | CHECK | BUILD BIN | ||||||||||||||||
| transcriptR 1.37.0 (landing page) Armen R. Karapetyan
| kjohnson3 | macOS 13.7.7 Ventura / arm64 | OK | OK | ERROR | OK | ||||||||||||||||
| Package 132/142 | Hostname | OS / Arch | INSTALL | BUILD | CHECK | BUILD BIN | ||||||||||||||||
| transmogR 1.5.3 (landing page) Stevie Pederson
| kjohnson3 | macOS 13.7.7 Ventura / arm64 | OK | OK | OK | OK | ||||||||||||||||
| Package 133/142 | Hostname | OS / Arch | INSTALL | BUILD | CHECK | BUILD BIN | ||||||||||||||||
| TRESS 1.15.0 (landing page) Zhenxing Guo
| kjohnson3 | macOS 13.7.7 Ventura / arm64 | OK | OK | OK | OK | ||||||||||||||||
| Package 134/142 | Hostname | OS / Arch | INSTALL | BUILD | CHECK | BUILD BIN | ||||||||||||||||
| txcutr 1.15.2 (landing page) Mervin Fansler
| kjohnson3 | macOS 13.7.7 Ventura / arm64 | OK | OK | OK | OK | ||||||||||||||||
| Package 135/142 | Hostname | OS / Arch | INSTALL | BUILD | CHECK | BUILD BIN | ||||||||||||||||
| txdbmaker 1.5.7 (landing page) H. Pagès
| kjohnson3 | macOS 13.7.7 Ventura / arm64 | OK | OK | OK | OK | ||||||||||||||||
| Package 136/142 | Hostname | OS / Arch | INSTALL | BUILD | CHECK | BUILD BIN | ||||||||||||||||
| tximeta 1.27.16 (landing page) Michael Love
| kjohnson3 | macOS 13.7.7 Ventura / arm64 | OK | OK | OK | OK | ||||||||||||||||
| Package 137/142 | Hostname | OS / Arch | INSTALL | BUILD | CHECK | BUILD BIN | ||||||||||||||||
| Ularcirc 1.27.2 (landing page) David Humphreys
| kjohnson3 | macOS 13.7.7 Ventura / arm64 | OK | OK | WARNINGS | OK | ||||||||||||||||
| Package 138/142 | Hostname | OS / Arch | INSTALL | BUILD | CHECK | BUILD BIN | ||||||||||||||||
| UMI4Cats 1.19.3 (landing page) Mireia Ramos-Rodriguez
| kjohnson3 | macOS 13.7.7 Ventura / arm64 | OK | OK | OK | OK | ||||||||||||||||
| Package 139/142 | Hostname | OS / Arch | INSTALL | BUILD | CHECK | BUILD BIN | ||||||||||||||||
| VariantAnnotation 1.55.2 (landing page) Bioconductor Package Maintainer
| kjohnson3 | macOS 13.7.7 Ventura / arm64 | OK | OK | WARNINGS | OK | ||||||||||||||||
| Package 140/142 | Hostname | OS / Arch | INSTALL | BUILD | CHECK | BUILD BIN | ||||||||||||||||
| VariantFiltering 1.45.3 (landing page) Robert Castelo
| kjohnson3 | macOS 13.7.7 Ventura / arm64 | OK | OK | OK | OK | ||||||||||||||||
| Package 141/142 | Hostname | OS / Arch | INSTALL | BUILD | CHECK | BUILD BIN | ||||||||||||||||
| VariantTools 1.51.0 (landing page) Michael Lawrence
| kjohnson3 | macOS 13.7.7 Ventura / arm64 | OK | OK | ERROR | OK | ||||||||||||||||
| Package 142/142 | Hostname | OS / Arch | INSTALL | BUILD | CHECK | BUILD BIN | ||||||||||||||||
| wavClusteR 2.43.0 (landing page) Federico Comoglio
| kjohnson3 | macOS 13.7.7 Ventura / arm64 | OK | OK | OK | OK | ||||||||||||||||