Back to Multiple platform build/check report for BioC 3.22:   simplified   long
ABCDEFGHIJKLMN[O]PQRSTUVWXYZ

This page was generated on 2025-11-17 11:58 -0500 (Mon, 17 Nov 2025).

HostnameOSArch (*)R versionInstalled pkgs
nebbiolo2Linux (Ubuntu 24.04.3 LTS)x86_644.5.1 Patched (2025-08-23 r88802) -- "Great Square Root" 4903
taishanLinux (openEuler 24.03 LTS)aarch644.5.0 (2025-04-11) -- "How About a Twenty-Six" 4668
Click on any hostname to see more info about the system (e.g. compilers)      (*) as reported by 'uname -p', except on Windows and Mac OS X

Package 1533/2361HostnameOS / ArchINSTALLBUILDCHECKBUILD BIN
OUTRIDER 1.28.0  (landing page)
Christian Mertes
Snapshot Date: 2025-11-16 13:45 -0500 (Sun, 16 Nov 2025)
git_url: https://git.bioconductor.org/packages/OUTRIDER
git_branch: RELEASE_3_22
git_last_commit: 5a0b0f3
git_last_commit_date: 2025-10-29 10:46:21 -0500 (Wed, 29 Oct 2025)
nebbiolo2Linux (Ubuntu 24.04.3 LTS) / x86_64  OK    OK    ERROR  
taishanLinux (openEuler 24.03 LTS) / aarch64  OK    OK    OK  


CHECK results for OUTRIDER on nebbiolo2

To the developers/maintainers of the OUTRIDER package:
- Allow up to 24 hours (and sometimes 48 hours) for your latest push to git@git.bioconductor.org:packages/OUTRIDER.git to reflect on this report. See Troubleshooting Build Report for more information.
- Use the following Renviron settings to reproduce errors and warnings.
- If 'R CMD check' started to fail recently on the Linux builder(s) over a missing dependency, add the missing dependency to 'Suggests:' in your DESCRIPTION file. See Renviron.bioc for more information.

raw results


Summary

Package: OUTRIDER
Version: 1.28.0
Command: /home/biocbuild/bbs-3.22-bioc/R/bin/R CMD check --install=check:OUTRIDER.install-out.txt --library=/home/biocbuild/bbs-3.22-bioc/R/site-library --timings OUTRIDER_1.28.0.tar.gz
StartedAt: 2025-11-17 02:32:38 -0500 (Mon, 17 Nov 2025)
EndedAt: 2025-11-17 02:48:07 -0500 (Mon, 17 Nov 2025)
EllapsedTime: 929.2 seconds
RetCode: 1
Status:   ERROR  
CheckDir: OUTRIDER.Rcheck
Warnings: NA

Command output

##############################################################################
##############################################################################
###
### Running command:
###
###   /home/biocbuild/bbs-3.22-bioc/R/bin/R CMD check --install=check:OUTRIDER.install-out.txt --library=/home/biocbuild/bbs-3.22-bioc/R/site-library --timings OUTRIDER_1.28.0.tar.gz
###
##############################################################################
##############################################################################


* using log directory ‘/home/biocbuild/bbs-3.22-bioc/meat/OUTRIDER.Rcheck’
* using R version 4.5.1 Patched (2025-08-23 r88802)
* using platform: x86_64-pc-linux-gnu
* R was compiled by
    gcc (Ubuntu 13.3.0-6ubuntu2~24.04) 13.3.0
    GNU Fortran (Ubuntu 13.3.0-6ubuntu2~24.04) 13.3.0
* running under: Ubuntu 24.04.3 LTS
* using session charset: UTF-8
* checking for file ‘OUTRIDER/DESCRIPTION’ ... OK
* checking extension type ... Package
* this is package ‘OUTRIDER’ version ‘1.28.0’
* package encoding: UTF-8
* checking package namespace information ... OK
* checking package dependencies ... INFO
Imports includes 23 non-default packages.
Importing from so many packages makes the package vulnerable to any of
them becoming unavailable.  Move as many as possible to Suggests and
use conditionally.
* checking if this is a source package ... OK
* checking if there is a namespace ... OK
* checking for hidden files and directories ... OK
* checking for portable file names ... OK
* checking for sufficient/correct file permissions ... OK
* checking whether package ‘OUTRIDER’ can be installed ... OK
* used C++ compiler: ‘g++ (Ubuntu 13.3.0-6ubuntu2~24.04) 13.3.0’
* checking installed package size ... OK
* checking package directory ... OK
* checking ‘build’ directory ... OK
* checking DESCRIPTION meta-information ... OK
* checking top-level files ... OK
* checking for left-over files ... OK
* checking index information ... OK
* checking package subdirectories ... OK
* checking code files for non-ASCII characters ... OK
* checking R files for syntax errors ... OK
* checking whether the package can be loaded ... OK
* checking whether the package can be loaded with stated dependencies ... OK
* checking whether the package can be unloaded cleanly ... OK
* checking whether the namespace can be loaded with stated dependencies ... OK
* checking whether the namespace can be unloaded cleanly ... OK
* checking loading without being on the library search path ... OK
* checking dependencies in R code ... NOTE
Unexported object imported by a ':::' call: 'ggbio:::.buildFacetsFromArgs'
  See the note in ?`:::` about the use of this operator.
There are ::: calls to the package's namespace in its code. A package
  almost never needs to use ::: for its own objects:
  'checkOutriderDataSet'
* checking S3 generic/method consistency ... OK
* checking replacement functions ... OK
* checking foreign function calls ... OK
* checking R code for possible problems ... NOTE
estimateBestQ: no visible binding for global variable ‘oht’
plotEncDimSearch.OUTRIDER: no visible binding for global variable ‘oht’
plotEncDimSearch.OUTRIDER: no visible binding for global variable
  ‘singular_values’
plotEncDimSearch,OutriderDataSet: no visible binding for global
  variable ‘oht’
plotEncDimSearch,OutriderDataSet: no visible binding for global
  variable ‘singular_values’
Undefined global functions or variables:
  oht singular_values
* checking Rd files ... OK
* checking Rd metadata ... OK
* checking Rd cross-references ... NOTE
Non-topic package-anchored link(s) in Rd file 'getter_setter_functions.Rd':
  ‘[DESeq2]{estimateDispersions}’

Non-topic package-anchored link(s) in Rd file 'sizeFactors.Rd':
  ‘[DESeq2]{estimateSizeFactors}’

See section 'Cross-references' in the 'Writing R Extensions' manual.
* checking for missing documentation entries ... OK
* checking for code/documentation mismatches ... OK
* checking Rd \usage sections ... OK
* checking Rd contents ... OK
* checking for unstated dependencies in examples ... OK
* checking line endings in C/C++/Fortran sources/headers ... OK
* checking line endings in Makefiles ... OK
* checking compilation flags in Makevars ... OK
* checking for GNU extensions in Makefiles ... OK
* checking for portable use of $(BLAS_LIBS) and $(LAPACK_LIBS) ... OK
* checking use of PKG_*FLAGS in Makefiles ... OK
* checking compiled code ... NOTE
Note: information on .o files is not available
* checking files in ‘vignettes’ ... OK
* checking examples ... OK
Examples with CPU (user + system) or elapsed time > 5s
                          user system elapsed
plotFunctions           21.694  0.349  22.295
estimateBestQ           15.614  0.655  17.505
OUTRIDER                10.760  3.609  12.933
getter_setter_functions  4.798  0.019   5.149
* checking for unstated dependencies in ‘tests’ ... OK
* checking tests ...
  Running ‘testthat.R’
 ERROR
Running the tests in ‘tests/testthat.R’ failed.
Last 13 lines of output:
  
  ══ Failed tests ════════════════════════════════════════════════════════════════
  ── Error ('test_methods.R:35:5'): result method ────────────────────────────────
  Error in `expect(nrow(results(ods, round = TRUE)), 3)`: `ok` must be `TRUE` or `FALSE`, not the number 1.
  Backtrace:
      ▆
   1. └─testthat::expect(ok = nrow(results(ods, round = TRUE))) at test_methods.R:35:5
   2.   └─testthat:::check_bool(ok)
   3.     └─testthat:::stop_input_type(...)
   4.       └─rlang::abort(message, ..., call = call, arg = arg)
  
  [ FAIL 1 | WARN 12 | SKIP 2 | PASS 130 ]
  Error:
  ! Test failures.
  Execution halted
* checking for unstated dependencies in vignettes ... OK
* checking package vignettes ... OK
* checking re-building of vignette outputs ... OK
* checking PDF version of manual ... OK
* DONE

Status: 1 ERROR, 4 NOTEs
See
  ‘/home/biocbuild/bbs-3.22-bioc/meat/OUTRIDER.Rcheck/00check.log’
for details.


Installation output

OUTRIDER.Rcheck/00install.out

##############################################################################
##############################################################################
###
### Running command:
###
###   /home/biocbuild/bbs-3.22-bioc/R/bin/R CMD INSTALL OUTRIDER
###
##############################################################################
##############################################################################


* installing to library ‘/home/biocbuild/bbs-3.22-bioc/R/site-library’
* installing *source* package ‘OUTRIDER’ ...
** this is package ‘OUTRIDER’ version ‘1.28.0’
** using staged installation
** libs
using C++ compiler: ‘g++ (Ubuntu 13.3.0-6ubuntu2~24.04) 13.3.0’
g++ -std=gnu++17 -I"/home/biocbuild/bbs-3.22-bioc/R/include" -DNDEBUG  -I'/home/biocbuild/bbs-3.22-bioc/R/site-library/Rcpp/include' -I'/home/biocbuild/bbs-3.22-bioc/R/site-library/RcppArmadillo/include' -I/usr/local/include   -fopenmp -DARMA_DONT_USE_OPENMP -fpic  -g -O2  -Wall -Werror=format-security  -c RcppExports.cpp -o RcppExports.o
g++ -std=gnu++17 -I"/home/biocbuild/bbs-3.22-bioc/R/include" -DNDEBUG  -I'/home/biocbuild/bbs-3.22-bioc/R/site-library/Rcpp/include' -I'/home/biocbuild/bbs-3.22-bioc/R/site-library/RcppArmadillo/include' -I/usr/local/include   -fopenmp -DARMA_DONT_USE_OPENMP -fpic  -g -O2  -Wall -Werror=format-security  -c loss_n_gradient_functions.cpp -o loss_n_gradient_functions.o
g++ -std=gnu++17 -shared -L/home/biocbuild/bbs-3.22-bioc/R/lib -L/usr/local/lib -o OUTRIDER.so RcppExports.o loss_n_gradient_functions.o -fopenmp -llapack -L/home/biocbuild/bbs-3.22-bioc/R/lib -lRblas -lgfortran -lm -lquadmath -L/home/biocbuild/bbs-3.22-bioc/R/lib -lR
installing to /home/biocbuild/bbs-3.22-bioc/R/site-library/00LOCK-OUTRIDER/00new/OUTRIDER/libs
** R
** inst
** byte-compile and prepare package for lazy loading
** help
*** installing help indices
** building package indices
** installing vignettes
** testing if installed package can be loaded from temporary location
** checking absolute paths in shared objects and dynamic libraries
** testing if installed package can be loaded from final location
** testing if installed package keeps a record of temporary installation path
* DONE (OUTRIDER)

Tests output

OUTRIDER.Rcheck/tests/testthat.Rout.fail


R version 4.5.1 Patched (2025-08-23 r88802) -- "Great Square Root"
Copyright (C) 2025 The R Foundation for Statistical Computing
Platform: x86_64-pc-linux-gnu

R is free software and comes with ABSOLUTELY NO WARRANTY.
You are welcome to redistribute it under certain conditions.
Type 'license()' or 'licence()' for distribution details.

R is a collaborative project with many contributors.
Type 'contributors()' for more information and
'citation()' on how to cite R or R packages in publications.

Type 'demo()' for some demos, 'help()' for on-line help, or
'help.start()' for an HTML browser interface to help.
Type 'q()' to quit R.

> library(testthat)
> library(OUTRIDER)
Loading required package: BiocParallel
Loading required package: GenomicFeatures
Loading required package: BiocGenerics
Loading required package: generics

Attaching package: 'generics'

The following objects are masked from 'package:base':

    as.difftime, as.factor, as.ordered, intersect, is.element, setdiff,
    setequal, union


Attaching package: 'BiocGenerics'

The following objects are masked from 'package:stats':

    IQR, mad, sd, var, xtabs

The following objects are masked from 'package:base':

    Filter, Find, Map, Position, Reduce, anyDuplicated, aperm, append,
    as.data.frame, basename, cbind, colnames, dirname, do.call,
    duplicated, eval, evalq, get, grep, grepl, is.unsorted, lapply,
    mapply, match, mget, order, paste, pmax, pmax.int, pmin, pmin.int,
    rank, rbind, rownames, sapply, saveRDS, table, tapply, unique,
    unsplit, which.max, which.min

Loading required package: S4Vectors
Loading required package: stats4

Attaching package: 'S4Vectors'

The following object is masked from 'package:utils':

    findMatches

The following objects are masked from 'package:base':

    I, expand.grid, unname

Loading required package: IRanges
Loading required package: Seqinfo
Loading required package: GenomicRanges
Loading required package: AnnotationDbi
Loading required package: Biobase
Welcome to Bioconductor

    Vignettes contain introductory material; view with
    'browseVignettes()'. To cite Bioconductor, see
    'citation("Biobase")', and for packages 'citation("pkgname")'.

Loading required package: SummarizedExperiment
Loading required package: MatrixGenerics
Loading required package: matrixStats

Attaching package: 'matrixStats'

The following objects are masked from 'package:Biobase':

    anyMissing, rowMedians


Attaching package: 'MatrixGenerics'

The following objects are masked from 'package:matrixStats':

    colAlls, colAnyNAs, colAnys, colAvgsPerRowSet, colCollapse,
    colCounts, colCummaxs, colCummins, colCumprods, colCumsums,
    colDiffs, colIQRDiffs, colIQRs, colLogSumExps, colMadDiffs,
    colMads, colMaxs, colMeans2, colMedians, colMins, colOrderStats,
    colProds, colQuantiles, colRanges, colRanks, colSdDiffs, colSds,
    colSums2, colTabulates, colVarDiffs, colVars, colWeightedMads,
    colWeightedMeans, colWeightedMedians, colWeightedSds,
    colWeightedVars, rowAlls, rowAnyNAs, rowAnys, rowAvgsPerColSet,
    rowCollapse, rowCounts, rowCummaxs, rowCummins, rowCumprods,
    rowCumsums, rowDiffs, rowIQRDiffs, rowIQRs, rowLogSumExps,
    rowMadDiffs, rowMads, rowMaxs, rowMeans2, rowMedians, rowMins,
    rowOrderStats, rowProds, rowQuantiles, rowRanges, rowRanks,
    rowSdDiffs, rowSds, rowSums2, rowTabulates, rowVarDiffs, rowVars,
    rowWeightedMads, rowWeightedMeans, rowWeightedMedians,
    rowWeightedSds, rowWeightedVars

The following object is masked from 'package:Biobase':

    rowMedians

> 
> register(SerialParam())
> 
> test_check("OUTRIDER")
[1] "Mon Nov 17 02:42:49 2025: Initial PCA loss: 6.06051558809381"
[1] "Mon Nov 17 02:42:51 2025: Iteration: 1 loss: 4.41854473790925"
[1] "Mon Nov 17 02:42:52 2025: Iteration: 2 loss: 4.34531430105207"
[1] "Mon Nov 17 02:42:53 2025: Iteration: 3 loss: 4.30600248072287"
[1] "Mon Nov 17 02:42:54 2025: Iteration: 4 loss: 4.27843786795963"
[1] "Mon Nov 17 02:42:57 2025: Iteration: 5 loss: 4.26447541609296"
[1] "Mon Nov 17 02:42:58 2025: Iteration: 6 loss: 4.26133214571175"
Time difference of 8.70759 secs
[1] "Mon Nov 17 02:42:58 2025: 6 Final nb-AE loss: 4.26133214571175"
[1] "Mon Nov 17 02:43:01 2025: Initial PCA loss: 6.06051558809381"
[1] "Mon Nov 17 02:43:03 2025: Iteration: 1 loss: 4.41854473790925"
[1] "Mon Nov 17 02:43:03 2025: Iteration: 2 loss: 4.34531430105207"
[1] "Mon Nov 17 02:43:04 2025: Iteration: 3 loss: 4.30600248072287"
[1] "Mon Nov 17 02:43:04 2025: Iteration: 4 loss: 4.27843786795963"
[1] "Mon Nov 17 02:43:05 2025: Iteration: 5 loss: 4.26447541609296"
[1] "Mon Nov 17 02:43:06 2025: Iteration: 6 loss: 4.26133214571175"
Time difference of 3.967005 secs
[1] "Mon Nov 17 02:43:06 2025: 6 Final nb-AE loss: 4.26133214571175"
class: OutriderDataSet
class: RangedSummarizedExperiment 
dim: 100 50 
metadata(1): version
assays(1): counts
rownames(100): ENSG00000223972.4 ENSG00000227232.4 ...
  ENSG00000107404.13 ENSG00000162576.12
rowData names(0):
colnames(50): GTEX.UPK5.0426.SM.3GAEK GTEX.WFG7.2026.SM.3GIL7 ...
  GTEX.11UD2.2526.SM.5CVNU GTEX.13O61.1426.SM.5KM3D
colData names(1): sampleID
[1] "Mon Nov 17 02:43:11 2025: Initial PCA loss: 4.4740623537275"
[1] "Mon Nov 17 02:43:12 2025: Iteration: 1 loss: 4.12611883013972"
[1] "Mon Nov 17 02:43:13 2025: Iteration: 2 loss: 4.10942333528266"
Time difference of 1.201919 secs
[1] "Mon Nov 17 02:43:13 2025: 2 Final nb-AE loss: 4.10942333528266"
[1] "Evaluation loss: 0.430718406116377 for q=3"
[1] "Mon Nov 17 02:43:14 2025: Initial PCA loss: 4.44364492504666"
[1] "Mon Nov 17 02:43:15 2025: Iteration: 1 loss: 4.05073264539186"
[1] "Mon Nov 17 02:43:15 2025: Iteration: 2 loss: 4.03586395816522"
Time difference of 1.210441 secs
[1] "Mon Nov 17 02:43:15 2025: 2 Final nb-AE loss: 4.03586395816522"
[1] "Evaluation loss: 0.382261547904147 for q=4"
[1] "Mon Nov 17 02:43:16 2025: Initial PCA loss: 4.42147835133445"
[1] "Mon Nov 17 02:43:17 2025: Iteration: 1 loss: 3.96685554193129"
[1] "Mon Nov 17 02:43:18 2025: Iteration: 2 loss: 3.94629678092387"
Time difference of 1.229545 secs
[1] "Mon Nov 17 02:43:18 2025: 2 Final nb-AE loss: 3.94629678092387"
[1] "Evaluation loss: 0.342144740538213 for q=5"
Optimal encoding dimension: 4 
Optimal encoding dimension: 50 
Optimal encoding dimension: 20 
Optimal encoding dimension: 2 
Optimal encoding dimension: 4 
[1] "Mon Nov 17 02:43:45 2025: Initial PCA loss: 7.16457134714849"
[1] "Mon Nov 17 02:43:46 2025: Iteration: 1 loss: 6.82914112812595"
[1] "Mon Nov 17 02:43:47 2025: Iteration: 2 loss: 6.82749097859465"
Time difference of 1.439757 secs
[1] "Mon Nov 17 02:43:47 2025: 2 Final nb-AE loss: 6.82749097859465"
Saving _problems/test_methods-35.R
[ FAIL 1 | WARN 12 | SKIP 2 | PASS 130 ]

══ Skipped tests (2) ═══════════════════════════════════════════════════════════
• empty test (2): ,

══ Failed tests ════════════════════════════════════════════════════════════════
── Error ('test_methods.R:35:5'): result method ────────────────────────────────
Error in `expect(nrow(results(ods, round = TRUE)), 3)`: `ok` must be `TRUE` or `FALSE`, not the number 1.
Backtrace:
    ▆
 1. └─testthat::expect(ok = nrow(results(ods, round = TRUE))) at test_methods.R:35:5
 2.   └─testthat:::check_bool(ok)
 3.     └─testthat:::stop_input_type(...)
 4.       └─rlang::abort(message, ..., call = call, arg = arg)

[ FAIL 1 | WARN 12 | SKIP 2 | PASS 130 ]
Error:
! Test failures.
Execution halted

Example timings

OUTRIDER.Rcheck/OUTRIDER-Ex.timings

nameusersystemelapsed
OUTRIDER10.760 3.60912.933
OutriderDataSet-class0.7060.0540.760
aberrant1.6270.8341.698
computeGeneLength1.2630.1741.438
computeLatentSpace0.7300.0430.772
computePvalues2.0742.1842.472
computeZscores0.8030.1550.957
controlForConfounders1.0510.1221.173
counts0.5090.0260.535
estimateBestQ15.614 0.65517.505
filterExpression1.6540.0111.665
fit0.8650.0070.872
fpkm0.7740.0160.790
getter_setter_functions4.7980.0195.149
makeExampleOutriderDataSet1.2780.0061.287
normalizationFactors0.6730.0180.690
plotFunctions21.694 0.34922.295
results4.4090.0024.510
sampleExclusionMask0.4160.0000.417
sizeFactors0.6270.0010.629