Back to Multiple platform build/check report for BioC 3.22:   simplified   long
A[B]CDEFGHIJKLMNOPQRSTUVWXYZ

This page was generated on 2025-11-15 11:58 -0500 (Sat, 15 Nov 2025).

HostnameOSArch (*)R versionInstalled pkgs
nebbiolo2Linux (Ubuntu 24.04.3 LTS)x86_644.5.1 Patched (2025-08-23 r88802) -- "Great Square Root" 4903
taishanLinux (openEuler 24.03 LTS)aarch644.5.0 (2025-04-11) -- "How About a Twenty-Six" 4668
Click on any hostname to see more info about the system (e.g. compilers)      (*) as reported by 'uname -p', except on Windows and Mac OS X

Package 177/2361HostnameOS / ArchINSTALLBUILDCHECKBUILD BIN
BindingSiteFinder 2.8.0  (landing page)
Mirko Brüggemann
Snapshot Date: 2025-11-14 13:45 -0500 (Fri, 14 Nov 2025)
git_url: https://git.bioconductor.org/packages/BindingSiteFinder
git_branch: RELEASE_3_22
git_last_commit: 74a4d9c
git_last_commit_date: 2025-10-29 11:10:55 -0500 (Wed, 29 Oct 2025)
nebbiolo2Linux (Ubuntu 24.04.3 LTS) / x86_64  OK    OK    OK  UNNEEDED, same version is already published
taishanLinux (openEuler 24.03 LTS) / aarch64  OK    OK    ERROR  


CHECK results for BindingSiteFinder on nebbiolo2

To the developers/maintainers of the BindingSiteFinder package:
- Allow up to 24 hours (and sometimes 48 hours) for your latest push to git@git.bioconductor.org:packages/BindingSiteFinder.git to reflect on this report. See Troubleshooting Build Report for more information.
- Use the following Renviron settings to reproduce errors and warnings.
- If 'R CMD check' started to fail recently on the Linux builder(s) over a missing dependency, add the missing dependency to 'Suggests:' in your DESCRIPTION file. See Renviron.bioc for more information.

raw results


Summary

Package: BindingSiteFinder
Version: 2.8.0
Command: /home/biocbuild/bbs-3.22-bioc/R/bin/R CMD check --install=check:BindingSiteFinder.install-out.txt --library=/home/biocbuild/bbs-3.22-bioc/R/site-library --timings BindingSiteFinder_2.8.0.tar.gz
StartedAt: 2025-11-14 21:34:58 -0500 (Fri, 14 Nov 2025)
EndedAt: 2025-11-14 21:51:39 -0500 (Fri, 14 Nov 2025)
EllapsedTime: 1001.3 seconds
RetCode: 0
Status:   OK  
CheckDir: BindingSiteFinder.Rcheck
Warnings: 0

Command output

##############################################################################
##############################################################################
###
### Running command:
###
###   /home/biocbuild/bbs-3.22-bioc/R/bin/R CMD check --install=check:BindingSiteFinder.install-out.txt --library=/home/biocbuild/bbs-3.22-bioc/R/site-library --timings BindingSiteFinder_2.8.0.tar.gz
###
##############################################################################
##############################################################################


* using log directory ‘/home/biocbuild/bbs-3.22-bioc/meat/BindingSiteFinder.Rcheck’
* using R version 4.5.1 Patched (2025-08-23 r88802)
* using platform: x86_64-pc-linux-gnu
* R was compiled by
    gcc (Ubuntu 13.3.0-6ubuntu2~24.04) 13.3.0
    GNU Fortran (Ubuntu 13.3.0-6ubuntu2~24.04) 13.3.0
* running under: Ubuntu 24.04.3 LTS
* using session charset: UTF-8
* checking for file ‘BindingSiteFinder/DESCRIPTION’ ... OK
* checking extension type ... Package
* this is package ‘BindingSiteFinder’ version ‘2.8.0’
* package encoding: UTF-8
* checking package namespace information ... OK
* checking package dependencies ... OK
* checking if this is a source package ... OK
* checking if there is a namespace ... OK
* checking for hidden files and directories ... OK
* checking for portable file names ... OK
* checking for sufficient/correct file permissions ... OK
* checking whether package ‘BindingSiteFinder’ can be installed ... OK
* checking installed package size ... OK
* checking package directory ... OK
* checking ‘build’ directory ... OK
* checking DESCRIPTION meta-information ... OK
* checking top-level files ... OK
* checking for left-over files ... OK
* checking index information ... OK
* checking package subdirectories ... OK
* checking code files for non-ASCII characters ... OK
* checking R files for syntax errors ... OK
* checking whether the package can be loaded ... OK
* checking whether the package can be loaded with stated dependencies ... OK
* checking whether the package can be unloaded cleanly ... OK
* checking whether the namespace can be loaded with stated dependencies ... OK
* checking whether the namespace can be unloaded cleanly ... OK
* checking loading without being on the library search path ... OK
* checking dependencies in R code ... OK
* checking S3 generic/method consistency ... OK
* checking replacement functions ... OK
* checking foreign function calls ... OK
* checking R code for possible problems ... OK
* checking Rd files ... OK
* checking Rd metadata ... OK
* checking Rd cross-references ... NOTE
Found the following Rd file(s) with Rd \link{} targets missing package
anchors:
  BSFind.Rd: GenomicRanges, CompressedGRangesList
  annotateWithScore.Rd: GenomicRanges
  assignToGenes.Rd: GenomicRanges, overlaps
  assignToTranscriptRegions.Rd: CompressedGRangesList, overlaps
  bindingSiteDefinednessPlot.Rd: ggplot
  calculateBsBackground.Rd: GenomicRanges
  duplicatedSitesPlot.Rd: ggplot
  estimateBsWidth.Rd: GenomicRanges
  estimateBsWidthPlot.Rd: ggplot
  geneOverlapsPlot.Rd: ggplot
  geneRegulationPlot.Rd: GenomicRanges
  globalScorePlot.Rd: ggplot
  makeBsSummaryPlot.Rd: ggplot
  mergeCrosslinkDiagnosticsPlot.Rd: ggplot
  plotBsBackgroundFilter.Rd: ggplot
  plotBsMA.Rd: ggplot
  plotBsVolcano.Rd: ggplot
  processingStepsFlowChart.Rd: ggplot
  pureClipGeneWiseFilter.Rd: GenomicRanges, overlaps
  pureClipGlobalFilter.Rd: GenomicRanges
  pureClipGlobalFilterPlot.Rd: ggplot
  reproducibilityFilterPlot.Rd: ggplot
  reproducibilitySamplesPlot.Rd: ggplot
  targetGeneSpectrumPlot.Rd: ggplot
  transcriptRegionOverlapsPlot.Rd: ggplot
  transcriptRegionSpectrumPlot.Rd: ggplot
Please provide package anchors for all Rd \link{} targets not in the
package itself and the base packages.
* checking for missing documentation entries ... OK
* checking for code/documentation mismatches ... OK
* checking Rd \usage sections ... OK
* checking Rd contents ... OK
* checking for unstated dependencies in examples ... OK
* checking files in ‘vignettes’ ... OK
* checking examples ... OK
Examples with CPU (user + system) or elapsed time > 5s
                             user system elapsed
quickFigure                30.425  0.104  30.537
processingStepsFlowChart   27.622  0.125  27.774
BSFind                     27.130  0.443  27.574
bindingSiteDefinednessPlot 26.610  0.307  26.925
bindingSiteCoveragePlot    19.006  0.592  20.470
calculateBsFoldChange      17.442  0.069  17.513
plotBsMA                   11.241  0.091  11.334
plotBsVolcano              11.167  0.109  11.465
assignToTranscriptRegions  10.535  0.124  15.139
geneRegulationPlot         10.557  0.024  10.584
estimateBsWidthPlot        10.185  0.099  10.284
estimateBsWidth             8.551  0.124   8.675
calculateBsBackground       6.058  0.098   6.156
rangeCoveragePlot           5.836  0.046   5.882
plotBsBackgroundFilter      5.044  0.065   5.138
reproducibilityScatterPlot  5.024  0.071   5.096
assignToGenes               4.521  0.014   5.554
* checking for unstated dependencies in ‘tests’ ... OK
* checking tests ...
  Running ‘testthat.R’
 OK
* checking for unstated dependencies in vignettes ... OK
* checking package vignettes ... OK
* checking re-building of vignette outputs ... OK
* checking PDF version of manual ... OK
* DONE

Status: 1 NOTE
See
  ‘/home/biocbuild/bbs-3.22-bioc/meat/BindingSiteFinder.Rcheck/00check.log’
for details.


Installation output

BindingSiteFinder.Rcheck/00install.out

##############################################################################
##############################################################################
###
### Running command:
###
###   /home/biocbuild/bbs-3.22-bioc/R/bin/R CMD INSTALL BindingSiteFinder
###
##############################################################################
##############################################################################


* installing to library ‘/home/biocbuild/bbs-3.22-bioc/R/site-library’
* installing *source* package ‘BindingSiteFinder’ ...
** this is package ‘BindingSiteFinder’ version ‘2.8.0’
** using staged installation
** R
** inst
** byte-compile and prepare package for lazy loading
** help
*** installing help indices
** building package indices
** installing vignettes
** testing if installed package can be loaded from temporary location
** testing if installed package can be loaded from final location
** testing if installed package keeps a record of temporary installation path
* DONE (BindingSiteFinder)

Tests output

BindingSiteFinder.Rcheck/tests/testthat.Rout


R version 4.5.1 Patched (2025-08-23 r88802) -- "Great Square Root"
Copyright (C) 2025 The R Foundation for Statistical Computing
Platform: x86_64-pc-linux-gnu

R is free software and comes with ABSOLUTELY NO WARRANTY.
You are welcome to redistribute it under certain conditions.
Type 'license()' or 'licence()' for distribution details.

R is a collaborative project with many contributors.
Type 'contributors()' for more information and
'citation()' on how to cite R or R packages in publications.

Type 'demo()' for some demos, 'help()' for on-line help, or
'help.start()' for an HTML browser interface to help.
Type 'q()' to quit R.

> library("testthat")
> library("BindingSiteFinder")
Loading required package: GenomicRanges
Loading required package: stats4
Loading required package: BiocGenerics
Loading required package: generics

Attaching package: 'generics'

The following objects are masked from 'package:base':

    as.difftime, as.factor, as.ordered, intersect, is.element, setdiff,
    setequal, union


Attaching package: 'BiocGenerics'

The following objects are masked from 'package:stats':

    IQR, mad, sd, var, xtabs

The following objects are masked from 'package:base':

    Filter, Find, Map, Position, Reduce, anyDuplicated, aperm, append,
    as.data.frame, basename, cbind, colnames, dirname, do.call,
    duplicated, eval, evalq, get, grep, grepl, is.unsorted, lapply,
    mapply, match, mget, order, paste, pmax, pmax.int, pmin, pmin.int,
    rank, rbind, rownames, sapply, saveRDS, table, tapply, unique,
    unsplit, which.max, which.min

Loading required package: S4Vectors

Attaching package: 'S4Vectors'

The following object is masked from 'package:utils':

    findMatches

The following objects are masked from 'package:base':

    I, expand.grid, unname

Loading required package: IRanges
Loading required package: Seqinfo
> test_check("BindingSiteFinder")
[1] "make bs"
[1] "calc ratio"
[1] "make bs"
[1] "calc ratio"
[ FAIL 0 | WARN 0 | SKIP 0 | PASS 240 ]
> 
> proc.time()
   user  system elapsed 
267.103   2.345 269.448 

Example timings

BindingSiteFinder.Rcheck/BindingSiteFinder-Ex.timings

nameusersystemelapsed
BSFDataSet0.2340.0050.240
BSFind27.130 0.44327.574
add-BSFDataSet2.4120.0162.428
annotateWithScore1.9540.0052.097
assignToGenes4.5210.0145.554
assignToTranscriptRegions10.535 0.12415.139
bindingSiteCoveragePlot19.006 0.59220.470
bindingSiteDefinednessPlot26.610 0.30726.925
calculateBsBackground6.0580.0986.156
calculateBsFoldChange17.442 0.06917.513
calculateSignalToFlankScore1.5510.0071.558
clipCoverage1.8250.0051.830
collapseReplicates0.2050.0040.209
combineBSF4.4360.1204.556
coverageOverRanges0.9600.0040.964
duplicatedSitesPlot0.6890.0030.691
estimateBsWidth8.5510.1248.675
estimateBsWidthPlot10.185 0.09910.284
exportTargetGenes0.0480.0060.054
exportToBED0.0510.0000.052
filterBsBackground3.5790.0373.617
geneOverlapsPlot2.6690.0072.678
geneRegulationPlot10.557 0.02410.584
getMeta0.0530.0040.058
getName0.0530.0020.056
getRanges0.0690.0040.073
getSignal0.1100.0050.115
getSummary1.1560.0001.156
globalScorePlot1.5780.0041.582
imputeBsDifferencesForTestdata2.1570.0242.182
makeBindingSites2.5330.0052.538
makeBsSummaryPlot1.3880.0021.391
mergeCrosslinkDiagnosticsPlot1.4610.0041.464
mergeSummaryPlot4.2260.0254.251
plotBsBackgroundFilter5.0440.0655.138
plotBsMA11.241 0.09111.334
plotBsVolcano11.167 0.10911.465
processingStepsFlowChart27.622 0.12527.774
processingStepsTable0.0880.0000.088
pureClipGeneWiseFilter0.3780.0000.379
pureClipGlobalFilter0.1080.0040.112
pureClipGlobalFilterPlot0.4260.0030.429
quickFigure30.425 0.10430.537
rangeCoveragePlot5.8360.0465.882
reproducibilityCutoffPlot2.9230.0262.949
reproducibilityFilter1.5800.0341.614
reproducibilityFilterPlot2.1260.0022.128
reproducibilitySamplesPlot2.9470.1403.088
reproducibilityScatterPlot5.0240.0715.096
setMeta0.0540.0030.056
setName0.0510.0030.054
setRanges0.0740.0040.078
setSignal0.0770.0040.081
setSummary0.0510.0040.054
show0.0490.0050.054
subset-BSFDataSet0.0620.0040.066
summary0.0680.0060.074
supportRatio3.3810.0363.417
supportRatioPlot3.6650.0283.694
targetGeneSpectrumPlot2.3390.0042.344
transcriptRegionOverlapsPlot2.7080.0192.727
transcriptRegionSpectrumPlot2.6550.0072.662