This page was generated on 2024-04-16 14:51:29 -0400 (Tue, 16 Apr 2024).
|
Hostname | OS | Arch (*) | R version | Installed pkgs |
---|---|---|---|---|
nebbiolo2 | Linux (Ubuntu 22.04.3 LTS) | x86_64 | 4.3.3 (2024-02-29) -- "Angel Food Cake" | 4676 |
Click on any hostname to see more info about the system (e.g. compilers) (*) as reported by 'uname -p', except on Windows and Mac OS X |
A |
QUICK STATS | OS / Arch | INSTALL | BUILD | CHECK | |||||||||||||||||||||||||||||||
nebbiolo2 | Linux (Ubuntu 22.04.3 LTS) / x86_64 |
|
|
| |||||||||||||||||||||||||||||||
|
| ||||||||||||||||||||||||||||||||||
Package | Maintainer | INSTALL | BUILD | CHECK | |||||||||||||||||||||||||||||||
1/429 | adductData 1.18.0 (landing page) | Josie Hayes | OK | OK | OK | ![]() | |||||||||||||||||||||||||||||
2/429 | affycompData 1.40.0 (landing page) | Robert D Shear | OK | OK | OK | ![]() | |||||||||||||||||||||||||||||
3/429 | affydata 1.50.0 (landing page) | Robert D Shear | OK | OK | WARNINGS | ![]() | |||||||||||||||||||||||||||||
4/429 | Affyhgu133A2Expr 1.38.0 (landing page) | Zhicheng Ji | OK | OK | OK | ![]() | |||||||||||||||||||||||||||||
5/429 | Affyhgu133aExpr 1.40.0 (landing page) | Zhicheng Ji | OK | OK | OK | ![]() | |||||||||||||||||||||||||||||
6/429 | Affyhgu133Plus2Expr 1.36.0 (landing page) | Zhicheng Ji | OK | OK | OK | ![]() | |||||||||||||||||||||||||||||
7/429 | AffymetrixDataTestFiles 0.40.0 (landing page) | Henrik Bengtsson | OK | OK | OK | ![]() | |||||||||||||||||||||||||||||
8/429 | Affymoe4302Expr 1.40.0 (landing page) | Zhicheng Ji | OK | OK | OK | ![]() | |||||||||||||||||||||||||||||
9/429 | airway 1.22.0 (landing page) | Michael Love | OK | OK | WARNINGS | ![]() | |||||||||||||||||||||||||||||
10/429 | ALL 1.44.0 (landing page) | Robert Gentleman | OK | OK | OK | ![]() | |||||||||||||||||||||||||||||
11/429 | ALLMLL 1.42.0 (landing page) | B. M. Bolstad | OK | OK | OK | ![]() | |||||||||||||||||||||||||||||
12/429 | AmpAffyExample 1.42.0 (landing page) | Robert D Shear | OK | OK | WARNINGS | ![]() | |||||||||||||||||||||||||||||
13/429 | AneuFinderData 1.30.0 (landing page) | Aaron Taudt | OK | OK | WARNINGS | ![]() | |||||||||||||||||||||||||||||
14/429 | antiProfilesData 1.38.0 (landing page) | Hector Corrada Bravo | OK | OK | OK | ![]() | |||||||||||||||||||||||||||||
15/429 | aracne.networks 1.28.0 (landing page) | Federico M. Giorgi | OK | OK | WARNINGS | ![]() | |||||||||||||||||||||||||||||
16/429 | ARRmData 1.38.0 (landing page) | Jean-Philippe Fortin | OK | OK | OK | ![]() | |||||||||||||||||||||||||||||
17/429 | AshkenazimSonChr21 1.32.0 (landing page) | Who to complain to | OK | OK | OK | ![]() | |||||||||||||||||||||||||||||
18/429 | ASICSdata 1.22.0 (landing page) | Gaëlle Lefort | OK | OK | OK | ![]() | |||||||||||||||||||||||||||||
19/429 | AssessORFData 1.20.0 (landing page) | Deepank Korandla | OK | OK | OK | ![]() | |||||||||||||||||||||||||||||
|
| ||||||||||||||||||||||||||||||||||
Package | Maintainer | INSTALL | BUILD | CHECK | |||||||||||||||||||||||||||||||
20/429 | bcellViper 1.38.0 (landing page) | Mariano Javier Alvarez | OK | OK | OK | ![]() | |||||||||||||||||||||||||||||
21/429 | beadarrayExampleData 1.40.0 (landing page) | Mark Dunning | OK | OK | OK | ![]() | |||||||||||||||||||||||||||||
22/429 | BeadArrayUseCases 1.40.0 (landing page) | Mike Smith | OK | OK | OK | ![]() | |||||||||||||||||||||||||||||
23/429 | BeadSorted.Saliva.EPIC 1.10.0 (landing page) | Jonah Fisher | OK | OK | OK | ![]() | |||||||||||||||||||||||||||||
24/429 | benchmarkfdrData2019 1.16.0 (landing page) | Stephanie Hicks | OK | OK | OK | ![]() | |||||||||||||||||||||||||||||
25/429 | beta7 1.40.0 (landing page) | Jean Yang | OK | OK | WARNINGS | ![]() | |||||||||||||||||||||||||||||
26/429 | BioImageDbs 1.10.0 (landing page) | Satoshi Kume | OK | OK | OK | ![]() | |||||||||||||||||||||||||||||
27/429 | BioPlex 1.8.0 (landing page) | Ludwig Geistlinger | OK | OK | OK | ![]() | |||||||||||||||||||||||||||||
28/429 | biotmleData 1.26.0 (landing page) | Nima Hejazi | OK | OK | WARNINGS | ![]() | |||||||||||||||||||||||||||||
29/429 | biscuiteerData 1.16.0 (landing page) | "Jacob Morrison" | OK | OK | OK | ![]() | |||||||||||||||||||||||||||||
30/429 | bladderbatch 1.40.0 (landing page) | Jeffrey T. Leek | OK | OK | WARNINGS | ![]() | |||||||||||||||||||||||||||||
31/429 | blimaTestingData 1.22.0 (landing page) | Vojtech Kulvait | OK | OK | OK | ![]() | |||||||||||||||||||||||||||||
32/429 | BloodCancerMultiOmics2017 1.22.1 (landing page) | Malgorzata Oles | OK | OK | WARNINGS | ![]() | |||||||||||||||||||||||||||||
33/429 | bodymapRat 1.18.0 (landing page) | Stephanie Hicks | OK | OK | OK | ![]() | |||||||||||||||||||||||||||||
34/429 | breakpointRdata 1.20.0 (landing page) | David Porubsky | OK | OK | OK | ![]() | |||||||||||||||||||||||||||||
35/429 | breastCancerMAINZ 1.40.0 (landing page) | Markus Schroeder | OK | OK | WARNINGS | ![]() | |||||||||||||||||||||||||||||
36/429 | breastCancerNKI 1.40.0 (landing page) | Markus Schroeder | OK | OK | WARNINGS | ![]() | |||||||||||||||||||||||||||||
37/429 | breastCancerTRANSBIG 1.40.0 (landing page) | Markus Schroeder | OK | OK | WARNINGS | ![]() | |||||||||||||||||||||||||||||
38/429 | breastCancerUNT 1.40.0 (landing page) | Markus Schroeder | OK | OK | WARNINGS | ![]() | |||||||||||||||||||||||||||||
39/429 | breastCancerUPP 1.40.0 (landing page) | Markus Schroeder | OK | OK | WARNINGS | ![]() | |||||||||||||||||||||||||||||
40/429 | breastCancerVDX 1.40.0 (landing page) | Markus Schroeder | OK | OK | WARNINGS | ![]() | |||||||||||||||||||||||||||||
41/429 | brgedata 1.24.0 (landing page) | Dolors Pelegri-Siso | OK | OK | WARNINGS | ![]() | |||||||||||||||||||||||||||||
42/429 | bronchialIL13 1.40.0 (landing page) | Vince Carey | OK | OK | OK | ![]() | |||||||||||||||||||||||||||||
43/429 | bsseqData 0.40.0 (landing page) | Kasper Daniel Hansen | OK | OK | WARNINGS | ![]() | |||||||||||||||||||||||||||||
|
| ||||||||||||||||||||||||||||||||||
Package | Maintainer | INSTALL | BUILD | CHECK | |||||||||||||||||||||||||||||||
44/429 | cancerdata 1.40.0 (landing page) | Daniel Kosztyla | OK | OK | OK | ![]() | |||||||||||||||||||||||||||||
45/429 | CardinalWorkflows 1.34.0 (landing page) | Kylie A. Bemis | OK | OK | OK | ![]() | |||||||||||||||||||||||||||||
46/429 | ccdata 1.28.0 (landing page) | Alex Pickering | OK | OK | WARNINGS | ![]() | |||||||||||||||||||||||||||||
47/429 | CCl4 1.40.0 (landing page) | Audrey Kauffmann | OK | OK | WARNINGS | ![]() | |||||||||||||||||||||||||||||
48/429 | Joern Toedling | OK | OK | WARNINGS | ![]() | ||||||||||||||||||||||||||||||
49/429 | celarefData 1.20.0 (landing page) | Sarah Williams | OK | OK | OK | ![]() | |||||||||||||||||||||||||||||
50/429 | celldex 1.12.0 (landing page) | Aaron Lun | OK | OK | WARNINGS | ![]() | |||||||||||||||||||||||||||||
51/429 | CellMapperData 1.28.0 (landing page) | Brad Nelms | OK | OK | OK | ![]() | |||||||||||||||||||||||||||||
52/429 | cfToolsData 1.0.0 (landing page) | Ran Hu | OK | OK | OK | ![]() | |||||||||||||||||||||||||||||
53/429 | ChAMPdata 2.34.0 (landing page) | Yuan Tian | OK | OK | WARNINGS | ![]() | |||||||||||||||||||||||||||||
54/429 | Carmen Maria Livi | OK | OK | WARNINGS | ![]() | ||||||||||||||||||||||||||||||
55/429 | ChimpHumanBrainData 1.40.0 (landing page) | Sean Davis | OK | OK | ERROR | ||||||||||||||||||||||||||||||
56/429 | chipenrich.data 2.26.0 (landing page) | Kai Wang | OK | OK | WARNINGS | ![]() | |||||||||||||||||||||||||||||
57/429 | ChIPexoQualExample 1.26.0 (landing page) | Rene Welch | OK | OK | OK | ![]() | |||||||||||||||||||||||||||||
58/429 | chipseqDBData 1.18.0 (landing page) | Aaron Lun | OK | OK | OK | ![]() | |||||||||||||||||||||||||||||
59/429 | ChIPXpressData 1.40.0 (landing page) | George Wu | OK | OK | WARNINGS | ![]() | |||||||||||||||||||||||||||||
60/429 | chromstaRData 1.28.0 (landing page) | Aaron Taudt | OK | OK | WARNINGS | ![]() | |||||||||||||||||||||||||||||
61/429 | CLL 1.42.0 (landing page) | Robert Gentleman | OK | OK | OK | ![]() | |||||||||||||||||||||||||||||
62/429 | CLLmethylation 1.22.0 (landing page) | Malgorzata Oles | OK | OK | OK | ![]() | |||||||||||||||||||||||||||||
63/429 | CluMSIDdata 1.18.0 (landing page) | Tobias Depke | OK | OK | OK | ![]() | |||||||||||||||||||||||||||||
64/429 | clustifyrdatahub 1.12.0 (landing page) | Kent Riemondy | OK | OK | OK | ![]() | |||||||||||||||||||||||||||||
65/429 | cMap2data 1.38.0 (landing page) | J. Saez-Rodriguez | OK | OK | WARNINGS | ![]() | |||||||||||||||||||||||||||||
66/429 | cnvGSAdata 1.38.0 (landing page) | Joseph Lugo | OK | OK | WARNINGS | ![]() | |||||||||||||||||||||||||||||
67/429 | COHCAPanno 1.38.0 (landing page) | Charles Warden | OK | OK | OK | ![]() | |||||||||||||||||||||||||||||
68/429 | colonCA 1.44.0 (landing page) | W Sylvia Merk | OK | OK | WARNINGS | ![]() | |||||||||||||||||||||||||||||
69/429 | CONFESSdata 1.30.0 (landing page) | Diana LOW | OK | OK | OK | ![]() | |||||||||||||||||||||||||||||
70/429 | ConnectivityMap 1.38.0 (landing page) | Paul Shannon | OK | OK | OK | ![]() | |||||||||||||||||||||||||||||
71/429 | COPDSexualDimorphism.data 1.38.0 (landing page) | J Fah Sathirapongsasuti | OK | OK | WARNINGS | ![]() | |||||||||||||||||||||||||||||
72/429 | CopyhelpeR 1.34.0 (landing page) | Oscar Krijgsman | OK | OK | OK | ![]() | |||||||||||||||||||||||||||||
73/429 | CopyNeutralIMA 1.20.0 (landing page) | Xavier Pastor Hostench | OK | OK | OK | ![]() | |||||||||||||||||||||||||||||
74/429 | CoSIAdata 1.2.0 (landing page) | Amanda D. Clark | OK | OK | OK | ![]() | |||||||||||||||||||||||||||||
75/429 | COSMIC.67 1.38.0 (landing page) | Julian Gehring | OK | OK | OK | ![]() | |||||||||||||||||||||||||||||
76/429 | CRCL18 1.22.0 (landing page) | Claudio Isella | OK | OK | OK | ![]() | |||||||||||||||||||||||||||||
77/429 | crisprScoreData 1.6.0 (landing page) | Jean-Philippe Fortin | OK | OK | OK | ![]() | |||||||||||||||||||||||||||||
78/429 | curatedAdipoArray 1.14.0 (landing page) | Mahmoud Ahmed | OK | OK | OK | ![]() | |||||||||||||||||||||||||||||
79/429 | curatedAdipoChIP 1.18.0 (landing page) | Mahmoud Ahmed | OK | OK | OK | ![]() | |||||||||||||||||||||||||||||
80/429 | curatedAdipoRNA 1.18.0 (landing page) | Mahmoud Ahmed | OK | OK | WARNINGS | ![]() | |||||||||||||||||||||||||||||
81/429 | curatedBladderData 1.38.0 (landing page) | Markus Riester | OK | OK | OK | ![]() | |||||||||||||||||||||||||||||
82/429 | curatedBreastData 2.30.0 (landing page) | Katie Planey | OK | OK | OK | ![]() | |||||||||||||||||||||||||||||
83/429 | curatedCRCData 2.34.0 (landing page) | Princy Parsana | OK | OK | WARNINGS | ![]() | |||||||||||||||||||||||||||||
84/429 | curatedMetagenomicData 3.10.0 (landing page) | Lucas schiffer | OK | OK | OK | ![]() | |||||||||||||||||||||||||||||
85/429 | curatedOvarianData 1.40.1 (landing page) | Levi Waldron | OK | OK | OK | ![]() | |||||||||||||||||||||||||||||
86/429 | curatedTBData 1.8.0 (landing page) | Xutao Wang | OK | OK | OK | ![]() | |||||||||||||||||||||||||||||
87/429 | curatedTCGAData 1.24.1 (landing page) | Marcel Ramos | OK | OK | OK | ![]() | |||||||||||||||||||||||||||||
|
| ||||||||||||||||||||||||||||||||||
Package | Maintainer | INSTALL | BUILD | CHECK | |||||||||||||||||||||||||||||||
88/429 | DAPARdata 1.32.1 (landing page) | Samuel Wieczorek | OK | OK | WARNINGS | ![]() | |||||||||||||||||||||||||||||
89/429 | davidTiling 1.42.0 (landing page) | Wolfgang Huber | OK | OK | WARNINGS | ![]() | |||||||||||||||||||||||||||||
90/429 | depmap 1.16.0 (landing page) | Laurent Gatto | OK | OK | WARNINGS | ![]() | |||||||||||||||||||||||||||||
91/429 | derfinderData 2.20.0 (landing page) | Leonardo Collado-Torres | OK | OK | OK | ![]() | |||||||||||||||||||||||||||||
92/429 | DeSousa2013 1.38.0 (landing page) | Xin Wang | OK | OK | OK | ![]() | |||||||||||||||||||||||||||||
93/429 | DExMAdata 1.10.0 (landing page) | Juan Antonio Villatoro-García | OK | OK | OK | ![]() | |||||||||||||||||||||||||||||
94/429 | diffloopdata 1.30.0 (landing page) | Caleb Lareau | OK | OK | OK | ![]() | |||||||||||||||||||||||||||||
95/429 | diggitdata 1.34.0 (landing page) | Mariano Javier Alvarez | OK | OK | OK | ![]() | |||||||||||||||||||||||||||||
96/429 | DLBCL 1.42.2 (landing page) | Marcus Dittrich | OK | OK | WARNINGS | ![]() | |||||||||||||||||||||||||||||
97/429 | DmelSGI 1.34.0 (landing page) | Mike Smith | OK | OK | OK | ![]() | |||||||||||||||||||||||||||||
98/429 | DMRcatedata 2.20.3 (landing page) | Tim Peters | OK | OK | OK | ![]() | |||||||||||||||||||||||||||||
99/429 | DNAZooData 1.2.0 (landing page) | Jacques Serizay | OK | OK | OK | ![]() | |||||||||||||||||||||||||||||
100/429 | DonaPLLP2013 1.40.0 (landing page) | Joseph D. Barry | OK | OK | OK | ![]() | |||||||||||||||||||||||||||||
101/429 | dorothea 1.14.1 (landing page) | Pau Badia-i-Mompel | OK | OK | OK | ![]() | |||||||||||||||||||||||||||||
102/429 | dressCheck 0.40.0 (landing page) | Vincent Carey | OK | OK | OK | ![]() | |||||||||||||||||||||||||||||
103/429 | DropletTestFiles 1.12.0 (landing page) | Aaron Lun | OK | OK | OK | ![]() | |||||||||||||||||||||||||||||
104/429 | DrugVsDiseasedata 1.38.0 (landing page) | J. Saez-Rodriguez | OK | OK | OK | ![]() | |||||||||||||||||||||||||||||
105/429 | DuoClustering2018 1.20.0 (landing page) | Angelo Duò | OK | OK | OK | ![]() | |||||||||||||||||||||||||||||
106/429 | DvDdata 1.38.0 (landing page) | J. Saez-Rodriguez | OK | OK | WARNINGS | ![]() | |||||||||||||||||||||||||||||
107/429 | dyebiasexamples 1.42.0 (landing page) | Philip Lijnzaad | OK | OK | WARNINGS | ![]() | |||||||||||||||||||||||||||||
|
| ||||||||||||||||||||||||||||||||||
Package | Maintainer | INSTALL | BUILD | CHECK | |||||||||||||||||||||||||||||||
108/429 | easierData 1.8.0 (landing page) | Oscar Lapuente-Santana | OK | OK | OK | ![]() | |||||||||||||||||||||||||||||
109/429 | EatonEtAlChIPseq 0.40.0 (landing page) | Patrick Aboyoun | OK | OK | WARNINGS | ![]() | |||||||||||||||||||||||||||||
110/429 | ecoliLeucine 1.42.0 (landing page) | Laurent Gautier | OK | OK | WARNINGS | ![]() | |||||||||||||||||||||||||||||
111/429 | EGSEAdata 1.30.0 (landing page) | Monther Alhamdoosh | OK | OK | OK | ![]() | |||||||||||||||||||||||||||||
112/429 | ELMER.data 2.26.0 (landing page) | Tiago Chedraoui Silva | OK | OK | WARNINGS | ![]() | |||||||||||||||||||||||||||||
113/429 | emtdata 1.10.0 (landing page) | Malvika D. Kharbanda | OK | OK | OK | ![]() | |||||||||||||||||||||||||||||
114/429 | EpiMix.data 1.4.0 (landing page) | Yuanning Zheng | OK | OK | WARNINGS | ![]() | |||||||||||||||||||||||||||||
115/429 | epimutacionsData 1.6.0 (landing page) | Leire Abarrategui | OK | OK | OK | ![]() | |||||||||||||||||||||||||||||
116/429 | estrogen 1.48.0 (landing page) | Wolfgang Huber | OK | OK | OK | ![]() | |||||||||||||||||||||||||||||
117/429 | etec16s 1.30.0 (landing page) | Joseph N. Paulson | OK | OK | OK | ![]() | |||||||||||||||||||||||||||||
118/429 | ewceData 1.10.0 (landing page) | Alan Murphy | OK | OK | OK | ![]() | |||||||||||||||||||||||||||||
|
| ||||||||||||||||||||||||||||||||||
Package | Maintainer | INSTALL | BUILD | CHECK | |||||||||||||||||||||||||||||||
119/429 | faahKO 1.42.0 (landing page) | Steffen Neumann | OK | OK | OK | ![]() | |||||||||||||||||||||||||||||
120/429 | fabiaData 1.40.0 (landing page) | Sepp Hochreiter | OK | OK | OK | ![]() | |||||||||||||||||||||||||||||
121/429 | FANTOM3and4CAGE 1.38.0 (landing page) | Vanja Haberle | OK | OK | OK | ![]() | |||||||||||||||||||||||||||||
122/429 | ffpeExampleData 1.40.0 (landing page) | Levi Waldron | OK | OK | OK | ![]() | |||||||||||||||||||||||||||||
123/429 | fibroEset 1.44.0 (landing page) | Sylvia Merk | OK | OK | WARNINGS | ![]() | |||||||||||||||||||||||||||||
124/429 | FieldEffectCrc 1.12.0 (landing page) | Christopher Dampier | OK | OK | OK | ![]() | |||||||||||||||||||||||||||||
125/429 | FIs 1.30.0 (landing page) | Herbert Braselmann | OK | OK | OK | ![]() | |||||||||||||||||||||||||||||
126/429 | fission 1.22.0 (landing page) | Michael Love | OK | OK | OK | ![]() | |||||||||||||||||||||||||||||
127/429 | Fletcher2013a 1.38.0 (landing page) | Mauro Castro | OK | OK | OK | ![]() | |||||||||||||||||||||||||||||
128/429 | Fletcher2013b 1.38.0 (landing page) | Mauro Castro | OK | OK | WARNINGS | ![]() | |||||||||||||||||||||||||||||
129/429 | flowPloidyData 1.28.0 (landing page) | Tyler Smith | OK | OK | OK | ![]() | |||||||||||||||||||||||||||||
130/429 | FlowSorted.Blood.450k 1.40.0 (landing page) | Andrew E Jaffe | OK | OK | WARNINGS | ![]() | |||||||||||||||||||||||||||||
131/429 | FlowSorted.Blood.EPIC 2.6.0 (landing page) | Lucas A. Salas | OK | OK | OK | ![]() | |||||||||||||||||||||||||||||
132/429 | FlowSorted.CordBlood.450k 1.30.0 (landing page) | Shan V. Andrews | OK | OK | WARNINGS | ![]() | |||||||||||||||||||||||||||||
133/429 | FlowSorted.CordBloodCombined.450k 1.18.0 (landing page) | Lucas A. Salas | OK | OK | OK | ![]() | |||||||||||||||||||||||||||||
134/429 | FlowSorted.CordBloodNorway.450k 1.28.0 (landing page) | kristina gervin | OK | OK | WARNINGS | ![]() | |||||||||||||||||||||||||||||
135/429 | FlowSorted.DLPFC.450k 1.38.0 (landing page) | Andrew E Jaffe | OK | OK | WARNINGS | ![]() | |||||||||||||||||||||||||||||
136/429 | flowWorkspaceData 3.14.0 (landing page) | Mike Jiang | OK | OK | OK | ![]() | |||||||||||||||||||||||||||||
137/429 | fourDNData 1.2.0 (landing page) | Jacques Serizay | OK | OK | OK | ![]() | |||||||||||||||||||||||||||||
138/429 | frmaExampleData 1.38.0 (landing page) | Matthew N. McCall | OK | OK | WARNINGS | ![]() | |||||||||||||||||||||||||||||
139/429 | furrowSeg 1.30.0 (landing page) | Joseph Barry | OK | OK | WARNINGS | ![]() | |||||||||||||||||||||||||||||
|
| ||||||||||||||||||||||||||||||||||
Package | Maintainer | INSTALL | BUILD | CHECK | |||||||||||||||||||||||||||||||
140/429 | gageData 2.40.0 (landing page) | Weijun Luo | OK | OK | OK | ![]() | |||||||||||||||||||||||||||||
141/429 | gaschYHS 1.40.0 (landing page) | Vince Carey | OK | OK | OK | ![]() | |||||||||||||||||||||||||||||
142/429 | gcspikelite 1.40.0 (landing page) | Mark Robinson | OK | OK | WARNINGS | ![]() | |||||||||||||||||||||||||||||
143/429 | gDNAinRNAseqData 1.2.0 (landing page) | Robert Castelo | OK | OK | OK | ![]() | |||||||||||||||||||||||||||||
144/429 | gDRtestData 1.0.0 (landing page) | Arkadiusz Gladki | OK | OK | OK | ![]() | |||||||||||||||||||||||||||||
145/429 | geneLenDataBase 1.38.0 (landing page) | Matthew Young | OK | OK | WARNINGS | ![]() | |||||||||||||||||||||||||||||
146/429 | genomationData 1.34.0 (landing page) | Vedran Franke | OK | OK | OK | ![]() | |||||||||||||||||||||||||||||
147/429 | GenomicDistributionsData 1.10.0 (landing page) | Kristyna Kupkova | OK | OK | OK | ![]() | |||||||||||||||||||||||||||||
148/429 | GeuvadisTranscriptExpr 1.30.0 (landing page) | Malgorzata Nowicka | OK | OK | OK | ![]() | |||||||||||||||||||||||||||||
149/429 | GIGSEAdata 1.20.0 (landing page) | Shijia Zhu | OK | OK | WARNINGS | ![]() | |||||||||||||||||||||||||||||
150/429 | golubEsets 1.44.0 (landing page) | Vince Carey | OK | OK | OK | ![]() | |||||||||||||||||||||||||||||
151/429 | gpaExample 1.14.0 (landing page) | Dongjun Chung | OK | OK | OK | ![]() | |||||||||||||||||||||||||||||
152/429 | grndata 1.34.0 (landing page) | Pau Bellot | OK | OK | WARNINGS | ![]() | |||||||||||||||||||||||||||||
153/429 | GSBenchMark 1.22.0 (landing page) | Bahman Afsari | OK | OK | OK | ![]() | |||||||||||||||||||||||||||||
154/429 | GSE103322 1.8.0 (landing page) | Mariano Alvarez | OK | OK | OK | ![]() | |||||||||||||||||||||||||||||
155/429 | GSE13015 1.10.0 (landing page) | Darawan Rinchai | OK | OK | OK | ![]() | |||||||||||||||||||||||||||||
156/429 | GSE159526 1.8.0 (landing page) | Victor Yuan | OK | OK | OK | ![]() | |||||||||||||||||||||||||||||
157/429 | GSE62944 1.30.0 (landing page) | Bioconductor Package Maintainer | OK | OK | OK | ![]() | |||||||||||||||||||||||||||||
158/429 | GSVAdata 1.38.0 (landing page) | Robert Castelo | OK | OK | OK | ![]() | |||||||||||||||||||||||||||||
159/429 | GWASdata 1.40.0 (landing page) | Stephanie Gogarten | OK | OK | OK | ![]() | |||||||||||||||||||||||||||||
|
| ||||||||||||||||||||||||||||||||||
Package | Maintainer | INSTALL | BUILD | CHECK | |||||||||||||||||||||||||||||||
160/429 | h5vcData 2.22.0 (landing page) | Paul Theodor Pyl | OK | OK | OK | ![]() | |||||||||||||||||||||||||||||
161/429 | hapmap100khind 1.44.0 (landing page) | Benilton Carvalho | OK | OK | OK | ![]() | |||||||||||||||||||||||||||||
162/429 | hapmap100kxba 1.44.0 (landing page) | Benilton Carvalho | OK | OK | OK | ![]() | |||||||||||||||||||||||||||||
163/429 | hapmap500knsp 1.44.0 (landing page) | Benilton Carvalho | OK | OK | OK | ![]() | |||||||||||||||||||||||||||||
164/429 | hapmap500ksty 1.44.0 (landing page) | Benilton Carvalho | OK | OK | OK | ![]() | |||||||||||||||||||||||||||||
165/429 | hapmapsnp5 1.44.0 (landing page) | Benilton Carvalho | OK | OK | OK | ![]() | |||||||||||||||||||||||||||||
166/429 | hapmapsnp6 1.44.0 (landing page) | Benilton Carvalho | OK | OK | OK | ![]() | |||||||||||||||||||||||||||||
167/429 | harbChIP 1.40.0 (landing page) | VJ Carey | OK | OK | OK | ![]() | |||||||||||||||||||||||||||||
168/429 | HarmanData 1.30.0 (landing page) | Jason Ross | OK | OK | OK | ![]() | |||||||||||||||||||||||||||||
169/429 | HarmonizedTCGAData 1.24.0 (landing page) | Tianle Ma | OK | OK | OK | ![]() | |||||||||||||||||||||||||||||
170/429 | HCAData 1.18.0 (landing page) | Federico Marini | OK | OK | OK | ![]() | |||||||||||||||||||||||||||||
171/429 | HCATonsilData 1.0.0 (landing page) | Ramon Massoni-Badosa | OK | OK | OK | ![]() | |||||||||||||||||||||||||||||
172/429 | HD2013SGI 1.42.0 (landing page) | Mike Smith | OK | OK | OK | ![]() | |||||||||||||||||||||||||||||
173/429 | HDCytoData 1.22.1 (landing page) | Lukas M. Weber | OK | OK | OK | ![]() | |||||||||||||||||||||||||||||
174/429 | healthyControlsPresenceChecker 1.6.0 (landing page) | Davide Chicco | OK | OK | OK | ![]() | |||||||||||||||||||||||||||||
175/429 | healthyFlowData 1.40.0 (landing page) | Ariful Azad | OK | OK | OK | ![]() | |||||||||||||||||||||||||||||
176/429 | HEEBOdata 1.40.0 (landing page) | Agnes Paquet | OK | OK | WARNINGS | ![]() | |||||||||||||||||||||||||||||
177/429 | HelloRangesData 1.28.0 (landing page) | Michael Lawrence | OK | OK | OK | ![]() | |||||||||||||||||||||||||||||
178/429 | hgu133abarcodevecs 1.40.0 (landing page) | Matthew N. McCall | OK | OK | OK | ![]() | |||||||||||||||||||||||||||||
179/429 | hgu133plus2barcodevecs 1.40.0 (landing page) | Matthew N. McCall | OK | OK | OK | ![]() | |||||||||||||||||||||||||||||
180/429 | hgu133plus2CellScore 1.22.0 (landing page) | Nancy Mah | OK | OK | WARNINGS | ![]() | |||||||||||||||||||||||||||||
181/429 | hgu2beta7 1.42.0 (landing page) | Bioconductor Package Maintainer | OK | OK | WARNINGS | ![]() | |||||||||||||||||||||||||||||
182/429 | HiBED 1.0.0 (landing page) | Ze Zhang | OK | OK | OK | ![]() | |||||||||||||||||||||||||||||
183/429 | HiCDataHumanIMR90 1.22.0 (landing page) | Nicolas Servant | OK | OK | WARNINGS | ![]() | |||||||||||||||||||||||||||||
184/429 | HiCDataLymphoblast 1.38.0 (landing page) | Borbala Mifsud | OK | OK | OK | ![]() | |||||||||||||||||||||||||||||
185/429 | HiContactsData 1.4.0 (landing page) | Jacques Serizay | OK | OK | OK | ![]() | |||||||||||||||||||||||||||||
186/429 | HighlyReplicatedRNASeq 1.14.0 (landing page) | Constantin Ahlmann-Eltze | OK | OK | OK | ![]() | |||||||||||||||||||||||||||||
187/429 | Hiiragi2013 1.38.0 (landing page) | Andrzej Oles | OK | OK | OK | ![]() | |||||||||||||||||||||||||||||
188/429 | HIVcDNAvantWout03 1.42.0 (landing page) | Chris Fraley | OK | OK | WARNINGS | ![]() | |||||||||||||||||||||||||||||
189/429 | HMP16SData 1.22.0 (landing page) | Lucas schiffer | OK | OK | OK | ![]() | |||||||||||||||||||||||||||||
190/429 | HMP2Data 1.16.0 (landing page) | John Stansfield | OK | OK | OK | ![]() | |||||||||||||||||||||||||||||
191/429 | HSMMSingleCell 1.22.0 (landing page) | Cole Trapnell | OK | OK | WARNINGS | ![]() | |||||||||||||||||||||||||||||
192/429 | HumanAffyData 1.28.0 (landing page) | Brad Nelms | OK | OK | OK | ![]() | |||||||||||||||||||||||||||||
193/429 | humanStemCell 0.42.0 (landing page) | R. Gentleman | OK | OK | WARNINGS | ![]() | |||||||||||||||||||||||||||||
|
| ||||||||||||||||||||||||||||||||||
Package | Maintainer | INSTALL | BUILD | CHECK | |||||||||||||||||||||||||||||||
194/429 | IHWpaper 1.30.0 (landing page) | Nikos Ignatiadis | OK | OK | OK | ![]() | |||||||||||||||||||||||||||||
195/429 | Illumina450ProbeVariants.db 1.38.0 (landing page) | Tiffany Morris | OK | OK | OK | ![]() | |||||||||||||||||||||||||||||
196/429 | IlluminaDataTestFiles 1.40.0 (landing page) | Kasper Daniel Hansen | OK | OK | OK | ![]() | |||||||||||||||||||||||||||||
197/429 | imcdatasets 1.10.0 (landing page) | Nicolas Damond | OK | OK | OK | ![]() | |||||||||||||||||||||||||||||
198/429 | ITALICSData 2.40.0 (landing page) | Guillem Rigaill | OK | OK | WARNINGS | ![]() | |||||||||||||||||||||||||||||
199/429 | Iyer517 1.44.0 (landing page) | Vince Carey | OK | OK | OK | ![]() | |||||||||||||||||||||||||||||
|
| ||||||||||||||||||||||||||||||||||
Package | Maintainer | INSTALL | BUILD | CHECK | |||||||||||||||||||||||||||||||
200/429 | JASPAR2014 1.38.0 (landing page) | Ge Tan | OK | OK | WARNINGS | ![]() | |||||||||||||||||||||||||||||
201/429 | JASPAR2016 1.30.0 (landing page) | Ge Tan | OK | OK | OK | ![]() | |||||||||||||||||||||||||||||
|
| ||||||||||||||||||||||||||||||||||
Package | Maintainer | INSTALL | BUILD | CHECK | |||||||||||||||||||||||||||||||
202/429 | KEGGandMetacoreDzPathwaysGEO 1.22.0 (landing page) | Gaurav Bhatti | OK | OK | OK | ![]() | |||||||||||||||||||||||||||||
203/429 | KEGGdzPathwaysGEO 1.40.0 (landing page) | Gaurav Bhatti | OK | OK | OK | ![]() | |||||||||||||||||||||||||||||
204/429 | kidpack 1.44.0 (landing page) | Wolfgang Huber | OK | OK | WARNINGS | ![]() | |||||||||||||||||||||||||||||
205/429 | KOdata 1.28.0 (landing page) | Shana White | OK | OK | WARNINGS | ![]() | |||||||||||||||||||||||||||||
|
| ||||||||||||||||||||||||||||||||||
Package | Maintainer | INSTALL | BUILD | CHECK | |||||||||||||||||||||||||||||||
206/429 | leeBamViews 1.38.0 (landing page) | VJ Carey | OK | OK | OK | ![]() | |||||||||||||||||||||||||||||
207/429 | leukemiasEset 1.38.0 (landing page) | Sara Aibar | OK | OK | OK | ![]() | |||||||||||||||||||||||||||||
208/429 | LiebermanAidenHiC2009 0.40.0 (landing page) | Felix Klein | OK | OK | WARNINGS | ![]() | |||||||||||||||||||||||||||||
209/429 | ListerEtAlBSseq 1.34.0 (landing page) | Mattia Furlan | OK | OK | WARNINGS | ![]() | |||||||||||||||||||||||||||||
210/429 | LRcellTypeMarkers 1.10.0 (landing page) | Wenjing Ma | OK | OK | OK | ![]() | |||||||||||||||||||||||||||||
211/429 | lumiBarnes 1.42.0 (landing page) | Pan Du | OK | OK | WARNINGS | ![]() | |||||||||||||||||||||||||||||
212/429 | LungCancerACvsSCCGEO 1.38.0 (landing page) | Adi Laurentiu Tarca | OK | OK | OK | ![]() | |||||||||||||||||||||||||||||
213/429 | LungCancerLines 0.40.0 (landing page) | Michael Lawrence | OK | OK | OK | ![]() | |||||||||||||||||||||||||||||
214/429 | lungExpression 0.40.0 (landing page) | Robert Scharpf | OK | OK | OK | ![]() | |||||||||||||||||||||||||||||
215/429 | lydata 1.28.0 (landing page) | Alex Pickering | OK | OK | OK | ![]() | |||||||||||||||||||||||||||||
|
| ||||||||||||||||||||||||||||||||||
Package | Maintainer | INSTALL | BUILD | CHECK | |||||||||||||||||||||||||||||||
216/429 | M3DExampleData 1.28.0 (landing page) | Tallulah Andrews | OK | OK | WARNINGS | ![]() | |||||||||||||||||||||||||||||
217/429 | macrophage 1.18.0 (landing page) | Michael Love | OK | OK | WARNINGS | ![]() | |||||||||||||||||||||||||||||
218/429 | MACSdata 1.10.0 (landing page) | Qiang Hu | OK | OK | OK | ![]() | |||||||||||||||||||||||||||||
219/429 | mammaPrintData 1.38.0 (landing page) | Luigi Marchionni | OK | OK | OK | ![]() | |||||||||||||||||||||||||||||
220/429 | mAPKLData 1.34.0 (landing page) | Argiris Sakellariou | OK | OK | WARNINGS | ![]() | |||||||||||||||||||||||||||||
221/429 | maqcExpression4plex 1.46.0 (landing page) | Benilton Carvalho | OK | OK | OK | ![]() | |||||||||||||||||||||||||||||
222/429 | MAQCsubset 1.40.0 (landing page) | VJ Carey | OK | OK | WARNINGS | ![]() | |||||||||||||||||||||||||||||
223/429 | Laurent Gatto | OK | OK | WARNINGS | ![]() | ||||||||||||||||||||||||||||||
224/429 | marinerData 1.2.0 (landing page) | Eric Davis | OK | OK | OK | ![]() | |||||||||||||||||||||||||||||
225/429 | mCSEAdata 1.22.0 (landing page) | Jordi Martorell Marugán | OK | OK | OK | ![]() | |||||||||||||||||||||||||||||
226/429 | mcsurvdata 1.20.0 (landing page) | Adria Caballe Mestres | OK | OK | OK | ![]() | |||||||||||||||||||||||||||||
227/429 | MEDIPSData 1.38.0 (landing page) | Lukas Chavez | OK | OK | WARNINGS | ![]() | |||||||||||||||||||||||||||||
228/429 | MEEBOdata 1.40.0 (landing page) | Agnes Paquet | OK | OK | WARNINGS | ![]() | |||||||||||||||||||||||||||||
229/429 | MerfishData 1.4.1 (landing page) | Ludwig Geistlinger | OK | OK | OK | ![]() | |||||||||||||||||||||||||||||
230/429 | MetaGxBreast 1.22.0 (landing page) | Benjamin Haibe-Kains | OK | OK | OK | ![]() | |||||||||||||||||||||||||||||
231/429 | MetaGxOvarian 1.22.0 (landing page) | Benjamin Haibe-Kains | OK | OK | WARNINGS | ![]() | |||||||||||||||||||||||||||||
232/429 | MetaGxPancreas 1.22.0 (landing page) | Benjamin Haibe-Kains | OK | OK | OK | ![]() | |||||||||||||||||||||||||||||
233/429 | metaMSdata 1.38.0 (landing page) | Yann Guitton | OK | OK | OK | ![]() | |||||||||||||||||||||||||||||
234/429 | MetaScope 1.2.0 (landing page) | Aubrey Odom | ERROR | ERROR | skipped | ||||||||||||||||||||||||||||||
235/429 | MethylAidData 1.34.0 (landing page) | M. van Iterson | OK | OK | OK | ![]() | |||||||||||||||||||||||||||||
236/429 | methylclockData 1.10.0 (landing page) | Dolors Pelegri-Siso | OK | OK | OK | ![]() | |||||||||||||||||||||||||||||
237/429 | MethylSeqData 1.12.0 (landing page) | Peter Hickey | OK | OK | OK | ![]() | |||||||||||||||||||||||||||||
238/429 | MicrobiomeBenchmarkData 1.4.0 (landing page) | Samuel Gamboa | OK | OK | OK | ![]() | |||||||||||||||||||||||||||||
239/429 | microbiomeDataSets 1.10.0 (landing page) | Leo Lahti | OK | OK | OK | ![]() | |||||||||||||||||||||||||||||
240/429 | microRNAome 1.24.0 (landing page) | Matthew N. McCall | OK | OK | WARNINGS | ![]() | |||||||||||||||||||||||||||||
241/429 | Juan C. Rodriguez | OK | OK | ERROR | |||||||||||||||||||||||||||||||
242/429 | minfiData 0.48.0 (landing page) | Kasper Daniel Hansen | OK | OK | WARNINGS | ![]() | |||||||||||||||||||||||||||||
243/429 | minfiDataEPIC 1.28.0 (landing page) | Kasper Daniel Hansen | OK | OK | WARNINGS | ![]() | |||||||||||||||||||||||||||||
244/429 | minionSummaryData 1.32.0 (landing page) | Mike Smith | OK | OK | WARNINGS | ![]() | |||||||||||||||||||||||||||||
245/429 | miRcompData 1.32.0 (landing page) | Matthew N. McCall | OK | OK | OK | ![]() | |||||||||||||||||||||||||||||
246/429 | miRNATarget 1.40.0 (landing page) | Y-h. Taguchi | OK | OK | OK | ![]() | |||||||||||||||||||||||||||||
247/429 | MMAPPR2data 1.16.0 (landing page) | Jonathon Hill | OK | OK | OK | ![]() | |||||||||||||||||||||||||||||
248/429 | MMDiffBamSubset 1.38.0 (landing page) | Gabriele Schweikert | OK | OK | OK | ![]() | |||||||||||||||||||||||||||||
249/429 | MOFAdata 1.18.0 (landing page) | Britta Velten | OK | OK | OK | ![]() | |||||||||||||||||||||||||||||
250/429 | mosaicsExample 1.40.0 (landing page) | Dongjun Chung | OK | OK | WARNINGS | ![]() | |||||||||||||||||||||||||||||
251/429 | mouse4302barcodevecs 1.40.0 (landing page) | Matthew N. McCall | OK | OK | OK | ![]() | |||||||||||||||||||||||||||||
252/429 | MouseGastrulationData 1.16.0 (landing page) | Jonathan Griffiths | OK | OK | OK | ![]() | |||||||||||||||||||||||||||||
253/429 | MouseThymusAgeing 1.10.0 (landing page) | Mike Morgan | OK | OK | OK | ![]() | |||||||||||||||||||||||||||||
254/429 | msd16s 1.22.0 (landing page) | Joseph N. Paulson | OK | OK | OK | ![]() | |||||||||||||||||||||||||||||
255/429 | msdata 0.42.0 (landing page) | Steffen Neumann | OK | OK | OK | ![]() | |||||||||||||||||||||||||||||
256/429 | msigdb 1.10.0 (landing page) | Dharmesh D. Bhuva | OK | OK | WARNINGS | ![]() | |||||||||||||||||||||||||||||
257/429 | MSMB 1.20.0 (landing page) | Wolfgang Huber | OK | OK | OK | ![]() | |||||||||||||||||||||||||||||
258/429 | msPurityData 1.30.0 (landing page) | Thomas N. Lawson | OK | OK | OK | ![]() | |||||||||||||||||||||||||||||
259/429 | msqc1 1.30.0 (landing page) | Christian Panse | OK | OK | OK | ![]() | |||||||||||||||||||||||||||||
260/429 | mtbls2 1.32.0 (landing page) | Steffen Neumann | OK | OK | WARNINGS | ![]() | |||||||||||||||||||||||||||||
261/429 | MUGAExampleData 1.22.0 (landing page) | Daniel Gatti | OK | OK | OK | ![]() | |||||||||||||||||||||||||||||
262/429 | multiWGCNAdata 1.0.0 (landing page) | Dario Tommasini | OK | OK | OK | ![]() | |||||||||||||||||||||||||||||
263/429 | muscData 1.16.0 (landing page) | Helena L. Crowell | OK | OK | WARNINGS | ![]() | |||||||||||||||||||||||||||||
264/429 | mvoutData 1.38.0 (landing page) | VJ Carey | OK | OK | OK | ![]() | |||||||||||||||||||||||||||||
|
| ||||||||||||||||||||||||||||||||||
Package | Maintainer | INSTALL | BUILD | CHECK | |||||||||||||||||||||||||||||||
265/429 | NanoporeRNASeq 1.12.0 (landing page) | Ying Chen | OK | OK | OK | ![]() | |||||||||||||||||||||||||||||
266/429 | nanotubes 1.18.0 (landing page) | Malte Thodberg | OK | OK | OK | ![]() | |||||||||||||||||||||||||||||
267/429 | NCIgraphData 1.38.0 (landing page) | Laurent Jacob | OK | OK | WARNINGS | ![]() | |||||||||||||||||||||||||||||
268/429 | NestLink 1.18.0 (landing page) | Lennart Opitz | OK | OK | OK | ![]() | |||||||||||||||||||||||||||||
269/429 | NetActivityData 1.4.0 (landing page) | Carlos Ruiz-Arenas | OK | OK | OK | ![]() | |||||||||||||||||||||||||||||
270/429 | Neve2006 0.40.0 (landing page) | VJ Carey | OK | OK | OK | ![]() | |||||||||||||||||||||||||||||
271/429 | NGScopyData 1.22.0 (landing page) | Xiaobei Zhao | OK | OK | OK | ![]() | |||||||||||||||||||||||||||||
272/429 | nullrangesData 1.8.0 (landing page) | Michael Love | OK | OK | OK | ![]() | |||||||||||||||||||||||||||||
273/429 | NxtIRFdata 1.8.0 (landing page) | Alex Chit Hei Wong | OK | OK | OK | ![]() | |||||||||||||||||||||||||||||
|
| ||||||||||||||||||||||||||||||||||
Package | Maintainer | INSTALL | BUILD | CHECK | |||||||||||||||||||||||||||||||
274/429 | ObMiTi 1.10.0 (landing page) | Omar Elashkar | OK | OK | OK | ![]() | |||||||||||||||||||||||||||||
275/429 | oct4 1.18.0 (landing page) | Michael Love | OK | OK | OK | ![]() | |||||||||||||||||||||||||||||
276/429 | octad.db 1.4.0 (landing page) | E. Chekalin | OK | OK | OK | ![]() | |||||||||||||||||||||||||||||
277/429 | OMICsPCAdata 1.20.0 (landing page) | Subhadeep Das | OK | OK | WARNINGS | ![]() | |||||||||||||||||||||||||||||
278/429 | OnassisJavaLibs 1.24.0 (landing page) | Eugenia Galeota | OK | OK | OK | ![]() | |||||||||||||||||||||||||||||
279/429 | optimalFlowData 1.14.0 (landing page) | Hristo Inouzhe | OK | OK | WARNINGS | ![]() | |||||||||||||||||||||||||||||
280/429 | orthosData 1.0.0 (landing page) | Panagiotis Papasaikas | OK | OK | OK | ![]() | |||||||||||||||||||||||||||||
|
| ||||||||||||||||||||||||||||||||||
Package | Maintainer | INSTALL | BUILD | CHECK | |||||||||||||||||||||||||||||||
281/429 | parathyroidSE 1.40.0 (landing page) | Michael Love | OK | OK | OK | ![]() | |||||||||||||||||||||||||||||
282/429 | pasilla 1.30.0 (landing page) | Alejandro Reyes | OK | OK | OK | ![]() | |||||||||||||||||||||||||||||
283/429 | pasillaBamSubset 0.40.0 (landing page) | Hervé Pagès | OK | OK | OK | ![]() | |||||||||||||||||||||||||||||
284/429 | PasillaTranscriptExpr 1.30.0 (landing page) | Malgorzata Nowicka | OK | OK | OK | ![]() | |||||||||||||||||||||||||||||
285/429 | PathNetData 1.38.0 (landing page) | Ludwig Geistlinger | OK | OK | OK | ![]() | |||||||||||||||||||||||||||||
286/429 | PCHiCdata 1.30.0 (landing page) | Mikhail Spivakov | OK | OK | WARNINGS | ![]() | |||||||||||||||||||||||||||||
287/429 | pcxnData 2.24.0 (landing page) | Sokratis Kariotis | OK | OK | WARNINGS | ![]() | |||||||||||||||||||||||||||||
288/429 | pd.atdschip.tiling 0.40.0 (landing page) | Kristof De Beuf | OK | OK | WARNINGS | ![]() | |||||||||||||||||||||||||||||
289/429 | pepDat 1.22.0 (landing page) | Renan Sauteraud | OK | OK | OK | ![]() | |||||||||||||||||||||||||||||
290/429 | PepsNMRData 1.20.0 (landing page) | Manon Martin | OK | OK | WARNINGS | ![]() | |||||||||||||||||||||||||||||
291/429 | PhyloProfileData 1.16.0 (landing page) | Vinh Tran | OK | OK | OK | ![]() | |||||||||||||||||||||||||||||
292/429 | plotgardenerData 1.8.0 (landing page) | Nicole Kramer | OK | OK | WARNINGS | ![]() | |||||||||||||||||||||||||||||
293/429 | prebsdata 1.38.0 (landing page) | Karolis Uziela | OK | OK | OK | ![]() | |||||||||||||||||||||||||||||
294/429 | preciseTADhub 1.10.0 (landing page) | Mikhail Dozmorov | OK | OK | OK | ![]() | |||||||||||||||||||||||||||||
295/429 | PREDAsampledata 0.42.0 (landing page) | Francesco Ferrari | OK | OK | OK | ![]() | |||||||||||||||||||||||||||||
296/429 | ProData 1.40.0 (landing page) | Xiaochun Li | OK | OK | OK | ![]() | |||||||||||||||||||||||||||||
297/429 | pRolocdata 1.40.0 (landing page) | Laurent Gatto | OK | OK | OK | ![]() | |||||||||||||||||||||||||||||
298/429 | prostateCancerCamcap 1.30.0 (landing page) | Mark Dunning | OK | OK | WARNINGS | ![]() | |||||||||||||||||||||||||||||
299/429 | prostateCancerGrasso 1.30.0 (landing page) | Mark Dunning | OK | OK | WARNINGS | ![]() | |||||||||||||||||||||||||||||
300/429 | prostateCancerStockholm 1.30.0 (landing page) | Mark Dunning | OK | OK | WARNINGS | ![]() | |||||||||||||||||||||||||||||
301/429 | prostateCancerTaylor 1.30.0 (landing page) | Mark Dunning | OK | OK | WARNINGS | ![]() | |||||||||||||||||||||||||||||
302/429 | prostateCancerVarambally 1.30.0 (landing page) | Mark Dunning | OK | OK | WARNINGS | ![]() | |||||||||||||||||||||||||||||
303/429 | ptairData 1.10.0 (landing page) | camille Roquencourt | OK | OK | OK | ![]() | |||||||||||||||||||||||||||||
304/429 | PtH2O2lipids 1.28.0 (landing page) | James Collins | OK | OK | WARNINGS | ![]() | |||||||||||||||||||||||||||||
305/429 | pumadata 2.38.0 (landing page) | Xuejun liu | OK | OK | OK | ![]() | |||||||||||||||||||||||||||||
306/429 | PWMEnrich.Dmelanogaster.background 4.36.0 (landing page) | Diego Diez | OK | OK | OK | ![]() | |||||||||||||||||||||||||||||
307/429 | PWMEnrich.Hsapiens.background 4.36.0 (landing page) | Diego Diez | OK | OK | OK | ![]() | |||||||||||||||||||||||||||||
308/429 | PWMEnrich.Mmusculus.background 4.36.0 (landing page) | Diego Diez | OK | OK | OK | ![]() | |||||||||||||||||||||||||||||
309/429 | Stefan Graw | OK | OK | ERROR | |||||||||||||||||||||||||||||||
|
| ||||||||||||||||||||||||||||||||||
Package | Maintainer | INSTALL | BUILD | CHECK | |||||||||||||||||||||||||||||||
310/429 | QDNAseq.hg19 1.32.0 (landing page) | Daoud Sie | OK | OK | OK | ![]() | |||||||||||||||||||||||||||||
311/429 | QDNAseq.mm10 1.32.0 (landing page) | Daoud Sie | OK | OK | OK | ![]() | |||||||||||||||||||||||||||||
312/429 | qPLEXdata 1.20.0 (landing page) | Kamal Kishore Developer | OK | OK | WARNINGS | ![]() | |||||||||||||||||||||||||||||
313/429 | QUBICdata 1.30.0 (landing page) | Yu Zhang | OK | OK | OK | ![]() | |||||||||||||||||||||||||||||
|
| ||||||||||||||||||||||||||||||||||
Package | Maintainer | INSTALL | BUILD | CHECK | |||||||||||||||||||||||||||||||
314/429 | raerdata 1.0.0 (landing page) | Kent Riemondy | OK | OK | OK | ![]() | |||||||||||||||||||||||||||||
315/429 | rcellminerData 2.24.0 (landing page) | Augustin Luna | OK | OK | WARNINGS | ![]() | |||||||||||||||||||||||||||||
316/429 | RcisTarget.hg19.motifDBs.cisbpOnly.500bp 1.22.0 (landing page) | Sara Aibar | OK | OK | WARNINGS | ![]() | |||||||||||||||||||||||||||||
317/429 | ReactomeGSA.data 1.16.1 (landing page) | Johannes Griss | OK | OK | WARNINGS | ![]() | |||||||||||||||||||||||||||||
318/429 | RegParallel 1.20.0 (landing page) | Kevin Blighe | OK | OK | OK | ![]() | |||||||||||||||||||||||||||||
319/429 | restfulSEData 1.24.0 (landing page) | Bioconductor Package Maintainer | OK | OK | OK | ![]() | |||||||||||||||||||||||||||||
320/429 | RforProteomics 1.40.0 (landing page) | Laurent Gatto | OK | OK | WARNINGS | ![]() | |||||||||||||||||||||||||||||
321/429 | RGMQLlib 1.22.0 (landing page) | Simone Pallotta | OK | OK | OK | ![]() | |||||||||||||||||||||||||||||
322/429 | rheumaticConditionWOLLBOLD 1.40.0 (landing page) | Alejandro Quiroz-Zarate | OK | OK | OK | ![]() | |||||||||||||||||||||||||||||
323/429 | RITANdata 1.26.0 (landing page) | Michael Zimmermann | OK | OK | OK | ![]() | |||||||||||||||||||||||||||||
324/429 | RLHub 1.8.0 (landing page) | Henry Miller | OK | OK | ERROR | ||||||||||||||||||||||||||||||
325/429 | RMassBankData 1.40.0 (landing page) | Michael Stravs, Emma Schymanski | OK | OK | OK | ![]() | |||||||||||||||||||||||||||||
326/429 | RNAinteractMAPK 1.40.0 (landing page) | Mike Smith | OK | OK | OK | ![]() | |||||||||||||||||||||||||||||
327/429 | RNAmodR.Data 1.16.0 (landing page) | Felix G.M. Ernst | OK | OK | OK | ![]() | |||||||||||||||||||||||||||||
328/429 | RNAseqData.HNRNPC.bam.chr14 0.40.0 (landing page) | Hervé Pagès | OK | OK | OK | ![]() | |||||||||||||||||||||||||||||
329/429 | RnaSeqSampleSizeData 1.34.0 (landing page) | Shilin Zhao | OK | OK | OK | ![]() | |||||||||||||||||||||||||||||
330/429 | RnBeads.hg19 1.34.0 (landing page) | RnBeadsAnnotationCreator | OK | OK | WARNINGS | ![]() | |||||||||||||||||||||||||||||
331/429 | RnBeads.hg38 1.34.0 (landing page) | RnBeadsAnnotationCreator | OK | OK | OK | ![]() | |||||||||||||||||||||||||||||
332/429 | RnBeads.mm10 2.10.0 (landing page) | RnBeads Team | OK | OK | OK | ![]() | |||||||||||||||||||||||||||||
333/429 | RnBeads.mm9 1.34.0 (landing page) | RnBeadsAnnotationCreator | OK | OK | WARNINGS | ![]() | |||||||||||||||||||||||||||||
334/429 | RnBeads.rn5 1.34.0 (landing page) | RnBeadsAnnotationCreator | OK | OK | OK | ![]() | |||||||||||||||||||||||||||||
335/429 | RRBSdata 1.22.0 (landing page) | Katja Hebestreit | OK | OK | OK | ![]() | |||||||||||||||||||||||||||||
336/429 | rRDPData 1.22.0 (landing page) | Michael Hahsler | OK | OK | OK | ![]() | |||||||||||||||||||||||||||||
337/429 | RTCGA.clinical 20151101.32.0 (landing page) | Marcin Kosinski | OK | OK | ERROR | ||||||||||||||||||||||||||||||
338/429 | RTCGA.CNV 1.30.0 (landing page) | Marcin Kosinski | OK | OK | ERROR | ||||||||||||||||||||||||||||||
339/429 | RTCGA.methylation 1.30.0 (landing page) | Marcin Kosinski | OK | OK | ERROR | ||||||||||||||||||||||||||||||
340/429 | RTCGA.miRNASeq 1.30.0 (landing page) | Marcin Kosinski | OK | OK | ERROR | ||||||||||||||||||||||||||||||
341/429 | RTCGA.mRNA 1.30.0 (landing page) | Marcin Kosinski | OK | OK | ERROR | ||||||||||||||||||||||||||||||
342/429 | RTCGA.mutations 20151101.32.0 (landing page) | Marcin Kosinski | OK | OK | ERROR | ||||||||||||||||||||||||||||||
343/429 | RTCGA.PANCAN12 1.30.0 (landing page) | Marcin Kosinski | OK | OK | ERROR | ||||||||||||||||||||||||||||||
344/429 | RTCGA.rnaseq 20151101.32.0 (landing page) | Marcin Kosinski | OK | OK | ERROR | ||||||||||||||||||||||||||||||
345/429 | RTCGA.RPPA 1.30.0 (landing page) | Marcin Kosinski | OK | OK | ERROR | ||||||||||||||||||||||||||||||
346/429 | RUVnormalizeData 1.22.0 (landing page) | Laurent Jacob | OK | OK | OK | ![]() | |||||||||||||||||||||||||||||
|
| ||||||||||||||||||||||||||||||||||
Package | Maintainer | INSTALL | BUILD | CHECK | |||||||||||||||||||||||||||||||
347/429 | sampleClassifierData 1.26.0 (landing page) | Khadija El Amrani | OK | OK | OK | ![]() | |||||||||||||||||||||||||||||
348/429 | SBGNview.data 1.16.0 (landing page) | Weijun Luo | OK | OK | OK | ![]() | |||||||||||||||||||||||||||||
349/429 | scanMiRData 1.8.0 (landing page) | Pierre-Luc Germain | OK | OK | OK | ![]() | |||||||||||||||||||||||||||||
350/429 | scATAC.Explorer 1.8.0 (landing page) | Arrian Gibson-Khademi | OK | OK | OK | ![]() | |||||||||||||||||||||||||||||
351/429 | Wenpin Hou | OK | OK | WARNINGS | ![]() | ||||||||||||||||||||||||||||||
352/429 | SCLCBam 1.34.0 (landing page) | Oscar Krijgsman | OK | OK | OK | ![]() | |||||||||||||||||||||||||||||
353/429 | scMultiome 1.2.0 (landing page) | Xiaosai Yao | OK | OK | OK | ![]() | |||||||||||||||||||||||||||||
354/429 | scpdata 1.10.0 (landing page) | Christophe Vanderaa | OK | OK | OK | ![]() | |||||||||||||||||||||||||||||
355/429 | scRNAseq 2.16.0 (landing page) | Aaron Lun | OK | OK | OK | ![]() | |||||||||||||||||||||||||||||
356/429 | scTHI.data 1.14.0 (landing page) | Michele Ceccarelli | OK | OK | OK | ![]() | |||||||||||||||||||||||||||||
357/429 | seq2pathway.data 1.34.0 (landing page) | Arjun Kinstlick | OK | OK | WARNINGS | ![]() | |||||||||||||||||||||||||||||
358/429 | seqc 1.36.0 (landing page) | Yang Liao | OK | OK | WARNINGS | ![]() | |||||||||||||||||||||||||||||
359/429 | seqCNA.annot 1.38.0 (landing page) | David Mosen-Ansorena | OK | OK | OK | ![]() | |||||||||||||||||||||||||||||
360/429 | serumStimulation 1.38.0 (landing page) | Morten Hansen, | OK | OK | OK | ![]() | |||||||||||||||||||||||||||||
361/429 | sesameData 1.20.0 (landing page) | Wanding Zhou | OK | OK | OK | ![]() | |||||||||||||||||||||||||||||
362/429 | seventyGeneData 1.38.2 (landing page) | Luigi Marchionni | OK | OK | OK | ![]() | |||||||||||||||||||||||||||||
363/429 | SFEData 1.4.0 (landing page) | Lambda Moses | OK | OK | OK | ![]() | |||||||||||||||||||||||||||||
364/429 | shinyMethylData 1.22.0 (landing page) | Jean-Philippe Fortin | OK | OK | WARNINGS | ![]() | |||||||||||||||||||||||||||||
365/429 | signatureSearchData 1.16.0 (landing page) | Brendan Gongol | OK | OK | OK | ![]() | |||||||||||||||||||||||||||||
366/429 | SimBenchData 1.10.0 (landing page) | Yue Cao | OK | OK | OK | ![]() | |||||||||||||||||||||||||||||
367/429 | simpIntLists 1.38.0 (landing page) | Kircicegi Korkmaz | OK | OK | WARNINGS | ![]() | |||||||||||||||||||||||||||||
368/429 | Single.mTEC.Transcriptomes 1.30.0 (landing page) | Alejandro Reyes | OK | OK | ERROR | ||||||||||||||||||||||||||||||
369/429 | SingleCellMultiModal 1.14.0 (landing page) | Marcel Ramos | OK | OK | OK | ![]() | |||||||||||||||||||||||||||||
370/429 | SingleMoleculeFootprintingData 1.10.0 (landing page) | Guido Barzaghi | OK | OK | OK | ![]() | |||||||||||||||||||||||||||||
371/429 | smokingMouse 1.0.0 (landing page) | Daianna Gonzalez-Padilla | OK | OK | OK | ![]() | |||||||||||||||||||||||||||||
372/429 | SNAData 1.48.0 (landing page) | Denise Scholtens | OK | OK | OK | ![]() | |||||||||||||||||||||||||||||
373/429 | SNAGEEdata 1.38.0 (landing page) | David Venet | OK | OK | OK | ![]() | |||||||||||||||||||||||||||||
374/429 | SNPhoodData 1.32.0 (landing page) | Christian Arnold | OK | OK | OK | ![]() | |||||||||||||||||||||||||||||
375/429 | SomatiCAData 1.40.0 (landing page) | Mengjie Chen | OK | OK | WARNINGS | ![]() | |||||||||||||||||||||||||||||
376/429 | SomaticCancerAlterations 1.38.0 (landing page) | Julian Gehring | OK | OK | OK | ![]() | |||||||||||||||||||||||||||||
377/429 | SpatialDatasets 1.0.0 (landing page) | Ellis Patrick | OK | OK | OK | ![]() | |||||||||||||||||||||||||||||
378/429 | spatialDmelxsim 1.8.0 (landing page) | Michael Love | OK | OK | OK | ![]() | |||||||||||||||||||||||||||||
379/429 | spatialLIBD 1.14.1 (landing page) | Leonardo Collado-Torres | OK | OK | OK | ![]() | |||||||||||||||||||||||||||||
380/429 | SpikeIn 1.44.0 (landing page) | Robert D Shear | OK | OK | OK | ![]() | |||||||||||||||||||||||||||||
381/429 | SpikeInSubset 1.42.0 (landing page) | Robert D Shear | OK | OK | WARNINGS | ![]() | |||||||||||||||||||||||||||||
382/429 | spqnData 1.14.0 (landing page) | Yi Wang | OK | OK | OK | ![]() | |||||||||||||||||||||||||||||
383/429 | stemHypoxia 1.38.0 (landing page) | Cristobal Fresno | OK | OK | OK | ![]() | |||||||||||||||||||||||||||||
384/429 | STexampleData 1.10.1 (landing page) | Lukas M. Weber | OK | OK | OK | ![]() | |||||||||||||||||||||||||||||
385/429 | Joern Toedling | OK | OK | WARNINGS | ![]() | ||||||||||||||||||||||||||||||
386/429 | SVM2CRMdata 1.34.0 (landing page) | Guidantonio Malagoli Tagliazucchi | OK | OK | WARNINGS | ![]() | |||||||||||||||||||||||||||||
387/429 | synapterdata 1.40.0 (landing page) | Laurent Gatto | OK | OK | OK | ![]() | |||||||||||||||||||||||||||||
388/429 | systemPipeRdata 2.6.0 (landing page) | Thomas Girke | OK | OK | OK | ![]() | |||||||||||||||||||||||||||||
|
| ||||||||||||||||||||||||||||||||||
Package | Maintainer | INSTALL | BUILD | CHECK | |||||||||||||||||||||||||||||||
389/429 | TabulaMurisData 1.20.0 (landing page) | Charlotte Soneson | OK | OK | OK | ![]() | |||||||||||||||||||||||||||||
390/429 | TabulaMurisSenisData 1.8.0 (landing page) | Charlotte Soneson | OK | OK | OK | ![]() | |||||||||||||||||||||||||||||
391/429 | TargetScoreData 1.38.0 (landing page) | Yue Li | OK | OK | OK | ![]() | |||||||||||||||||||||||||||||
392/429 | TargetSearchData 1.40.0 (landing page) | Alvaro Cuadros-Inostroza | OK | OK | OK | ![]() | |||||||||||||||||||||||||||||
393/429 | tartare 1.16.0 (landing page) | Christian Panse | OK | OK | OK | ![]() | |||||||||||||||||||||||||||||
394/429 | TBX20BamSubset 1.38.0 (landing page) | D. Bindreither | OK | OK | OK | ![]() | |||||||||||||||||||||||||||||
395/429 | TCGAbiolinksGUI.data 1.22.0 (landing page) | Tiago Chedraoui Silva | OK | OK | WARNINGS | ![]() | |||||||||||||||||||||||||||||
396/429 | TCGAcrcmiRNA 1.22.0 (landing page) | Claudio Isella | OK | OK | OK | ![]() | |||||||||||||||||||||||||||||
397/429 | TCGAcrcmRNA 1.22.0 (landing page) | Claudio Isella | OK | OK | OK | ![]() | |||||||||||||||||||||||||||||
398/429 | TCGAMethylation450k 1.38.0 (landing page) | Sean Davis | OK | OK | OK | ![]() | |||||||||||||||||||||||||||||
399/429 | TCGAWorkflowData 1.26.0 (landing page) | Tiago Chedraoui Silva | OK | OK | OK | ![]() | |||||||||||||||||||||||||||||
400/429 | TENxBrainData 1.22.0 (landing page) | Bioconductor Package Maintainer | OK | OK | OK | ![]() | |||||||||||||||||||||||||||||
401/429 | TENxBUSData 1.16.0 (landing page) | Lambda Moses | OK | OK | OK | ![]() | |||||||||||||||||||||||||||||
402/429 | TENxPBMCData 1.20.0 (landing page) | Stephanie Hicks | OK | OK | OK | ![]() | |||||||||||||||||||||||||||||
403/429 | TENxVisiumData 1.10.0 (landing page) | Helena L. Crowell | OK | OK | OK | ![]() | |||||||||||||||||||||||||||||
404/429 | timecoursedata 1.12.0 (landing page) | Nelle Varoquaux | OK | OK | OK | ![]() | |||||||||||||||||||||||||||||
405/429 | TimerQuant 1.32.0 (landing page) | Joseph Barry | OK | OK | OK | ![]() | |||||||||||||||||||||||||||||
406/429 | tinesath1cdf 1.40.0 (landing page) | Tine Casneuf | OK | OK | WARNINGS | ![]() | |||||||||||||||||||||||||||||
407/429 | tinesath1probe 1.40.0 (landing page) | Tine Casneuf | OK | OK | WARNINGS | ![]() | |||||||||||||||||||||||||||||
408/429 | tissueTreg 1.22.0 (landing page) | Charles Imbusch | OK | OK | OK | ![]() | |||||||||||||||||||||||||||||
409/429 | TMExplorer 1.12.0 (landing page) | Erik Christensen | OK | OK | OK | ![]() | |||||||||||||||||||||||||||||
410/429 | tofsimsData 1.30.0 (landing page) | Lorenz Gerber | OK | OK | WARNINGS | ![]() | |||||||||||||||||||||||||||||
411/429 | topdownrdata 1.24.0 (landing page) | Sebastian Gibb | OK | OK | OK | ![]() | |||||||||||||||||||||||||||||
412/429 | tuberculosis 1.8.0 (landing page) | Lucas Schiffer | OK | OK | ERROR | ||||||||||||||||||||||||||||||
413/429 | TumourMethData 1.0.0 (landing page) | Richard Heery | OK | OK | WARNINGS | ![]() | |||||||||||||||||||||||||||||
414/429 | tweeDEseqCountData 1.40.0 (landing page) | Dolors Pelegri-Siso | OK | OK | WARNINGS | ![]() | |||||||||||||||||||||||||||||
415/429 | tximportData 1.30.0 (landing page) | Michael Love | OK | OK | OK | ![]() | |||||||||||||||||||||||||||||
|
| ||||||||||||||||||||||||||||||||||
Package | Maintainer | INSTALL | BUILD | CHECK | |||||||||||||||||||||||||||||||
416/429 | VariantToolsData 1.26.0 (landing page) | Michael Lawrence | OK | OK | OK | ![]() | |||||||||||||||||||||||||||||
417/429 | VectraPolarisData 1.6.0 (landing page) | Wrobel Julia | OK | OK | OK | ![]() | |||||||||||||||||||||||||||||
418/429 | vulcandata 1.24.0 (landing page) | Federico M. Giorgi | OK | OK | WARNINGS | ![]() | |||||||||||||||||||||||||||||
|
| ||||||||||||||||||||||||||||||||||
Package | Maintainer | INSTALL | BUILD | CHECK | |||||||||||||||||||||||||||||||
419/429 | WeberDivechaLCdata 1.4.1 (landing page) | Lukas M. Weber | OK | OK | OK | ![]() | |||||||||||||||||||||||||||||
420/429 | WES.1KG.WUGSC 1.34.0 (landing page) | Yuchao Jiang | OK | OK | OK | ![]() | |||||||||||||||||||||||||||||
421/429 | WGSmapp 1.14.0 (landing page) | Rujin Wang | OK | OK | WARNINGS | ![]() | |||||||||||||||||||||||||||||
|
| ||||||||||||||||||||||||||||||||||
Package | Maintainer | INSTALL | BUILD | CHECK | |||||||||||||||||||||||||||||||
422/429 | xcoredata 1.6.0 (landing page) | Maciej Migdał | OK | OK | OK | ![]() | |||||||||||||||||||||||||||||
423/429 | XhybCasneuf 1.40.0 (landing page) | Tineke Casneuf | OK | OK | WARNINGS | ![]() | |||||||||||||||||||||||||||||
|
| ||||||||||||||||||||||||||||||||||
Package | Maintainer | INSTALL | BUILD | CHECK | |||||||||||||||||||||||||||||||
424/429 | yeastCC 1.42.0 (landing page) | Sandrine Dudoit | OK | OK | WARNINGS | ![]() | |||||||||||||||||||||||||||||
425/429 | yeastExpData 0.48.0 (landing page) | R. Gentleman | OK | OK | WARNINGS | ![]() | |||||||||||||||||||||||||||||
426/429 | yeastGSData 0.40.0 (landing page) | R. Gentleman | OK | OK | WARNINGS | ![]() | |||||||||||||||||||||||||||||
427/429 | yeastNagalakshmi 1.38.0 (landing page) | Bioconductor Package Maintainer | OK | OK | OK | ![]() | |||||||||||||||||||||||||||||
428/429 | yeastRNASeq 0.40.0 (landing page) | J. Bullard | OK | OK | WARNINGS | ![]() | |||||||||||||||||||||||||||||
|
| ||||||||||||||||||||||||||||||||||
Package | Maintainer | INSTALL | BUILD | CHECK | |||||||||||||||||||||||||||||||
429/429 | zebrafishRNASeq 1.22.0 (landing page) | Davide Risso | OK | OK | OK | ![]() |