Back to Build/check report for BioC 3.18 experimental data |
|
This page was generated on 2024-04-16 14:51:29 -0400 (Tue, 16 Apr 2024).
Hostname | OS | Arch (*) | R version | Installed pkgs |
---|---|---|---|---|
nebbiolo2 | Linux (Ubuntu 22.04.3 LTS) | x86_64 | 4.3.3 (2024-02-29) -- "Angel Food Cake" | 4676 |
Click on any hostname to see more info about the system (e.g. compilers) (*) as reported by 'uname -p', except on Windows and Mac OS X |
Package 310/429 | Hostname | OS / Arch | INSTALL | BUILD | CHECK | ||||||||
QDNAseq.hg19 1.32.0 (landing page) Daoud Sie
| nebbiolo2 | Linux (Ubuntu 22.04.3 LTS) / x86_64 | OK | OK | OK | ![]() | |||||||
To the developers/maintainers of the QDNAseq.hg19 package: - Use the following Renviron settings to reproduce errors and warnings. - If 'R CMD check' started to fail recently on the Linux builder(s) over a missing dependency, add the missing dependency to 'Suggests:' in your DESCRIPTION file. See Renviron.bioc for more information. |
Package: QDNAseq.hg19 |
Version: 1.32.0 |
Command: /home/biocbuild/bbs-3.18-bioc/R/bin/R CMD check --install=check:QDNAseq.hg19.install-out.txt --library=/home/biocbuild/bbs-3.18-bioc/R/site-library --timings QDNAseq.hg19_1.32.0.tar.gz |
StartedAt: 2024-04-16 12:07:53 -0400 (Tue, 16 Apr 2024) |
EndedAt: 2024-04-16 12:10:17 -0400 (Tue, 16 Apr 2024) |
EllapsedTime: 144.0 seconds |
RetCode: 0 |
Status: OK |
CheckDir: QDNAseq.hg19.Rcheck |
Warnings: 0 |
############################################################################## ############################################################################## ### ### Running command: ### ### /home/biocbuild/bbs-3.18-bioc/R/bin/R CMD check --install=check:QDNAseq.hg19.install-out.txt --library=/home/biocbuild/bbs-3.18-bioc/R/site-library --timings QDNAseq.hg19_1.32.0.tar.gz ### ############################################################################## ############################################################################## * using log directory ‘/home/biocbuild/bbs-3.18-data-experiment/meat/QDNAseq.hg19.Rcheck’ * using R version 4.3.3 (2024-02-29) * using platform: x86_64-pc-linux-gnu (64-bit) * R was compiled by gcc (Ubuntu 11.4.0-1ubuntu1~22.04) 11.4.0 GNU Fortran (Ubuntu 11.4.0-1ubuntu1~22.04) 11.4.0 * running under: Ubuntu 22.04.4 LTS * using session charset: UTF-8 * checking for file ‘QDNAseq.hg19/DESCRIPTION’ ... OK * checking extension type ... Package * this is package ‘QDNAseq.hg19’ version ‘1.32.0’ * checking package namespace information ... OK * checking package dependencies ... OK * checking if this is a source package ... OK * checking if there is a namespace ... OK * checking for hidden files and directories ... OK * checking for portable file names ... OK * checking for sufficient/correct file permissions ... OK * checking whether package ‘QDNAseq.hg19’ can be installed ... OK * checking installed package size ... NOTE installed size is 35.4Mb sub-directories of 1Mb or more: data 35.3Mb * checking package directory ... OK * checking DESCRIPTION meta-information ... OK * checking top-level files ... OK * checking for left-over files ... OK * checking index information ... OK * checking package subdirectories ... OK * checking R files for non-ASCII characters ... OK * checking R files for syntax errors ... OK * checking whether the package can be loaded ... OK * checking whether the package can be loaded with stated dependencies ... OK * checking whether the package can be unloaded cleanly ... OK * checking whether the namespace can be loaded with stated dependencies ... OK * checking whether the namespace can be unloaded cleanly ... OK * checking loading without being on the library search path ... OK * checking dependencies in R code ... OK * checking S3 generic/method consistency ... OK * checking replacement functions ... OK * checking foreign function calls ... OK * checking R code for possible problems ... OK * checking Rd files ... OK * checking Rd metadata ... OK * checking Rd cross-references ... OK * checking for missing documentation entries ... OK * checking for code/documentation mismatches ... OK * checking Rd \usage sections ... OK * checking Rd contents ... OK * checking for unstated dependencies in examples ... OK * checking contents of ‘data’ directory ... OK * checking data for non-ASCII characters ... OK * checking data for ASCII and uncompressed saves ... OK * checking examples ... OK Examples with CPU (user + system) or elapsed time > 5s user system elapsed hg19.1kbp.SR50 16.301 0.457 16.757 * checking PDF version of manual ... OK * DONE Status: 1 NOTE See ‘/home/biocbuild/bbs-3.18-data-experiment/meat/QDNAseq.hg19.Rcheck/00check.log’ for details.
QDNAseq.hg19.Rcheck/00install.out
############################################################################## ############################################################################## ### ### Running command: ### ### /home/biocbuild/bbs-3.18-bioc/R/bin/R CMD INSTALL QDNAseq.hg19 ### ############################################################################## ############################################################################## * installing to library ‘/home/biocbuild/bbs-3.18-bioc/R/site-library’ * installing *source* package ‘QDNAseq.hg19’ ... ** using staged installation ** R ** data ** byte-compile and prepare package for lazy loading ** help *** installing help indices ** building package indices ** testing if installed package can be loaded from temporary location ** testing if installed package can be loaded from final location ** testing if installed package keeps a record of temporary installation path * DONE (QDNAseq.hg19)
QDNAseq.hg19.Rcheck/QDNAseq.hg19-Ex.timings
name | user | system | elapsed | |
QDNAseq.hg19-package | 0.832 | 0.012 | 0.844 | |
hg19.1000kbp.SR50 | 0.023 | 0.000 | 0.023 | |
hg19.100kbp.SR50 | 0.168 | 0.000 | 0.168 | |
hg19.10kbp.SR50 | 1.609 | 0.035 | 1.646 | |
hg19.15kbp.SR50 | 1.400 | 0.032 | 1.432 | |
hg19.1kbp.SR50 | 16.301 | 0.457 | 16.757 | |
hg19.30kbp.SR50 | 0.443 | 0.020 | 0.463 | |
hg19.500kbp.SR50 | 0.038 | 0.000 | 0.038 | |
hg19.50kbp.SR50 | 0.282 | 0.004 | 0.286 | |
hg19.5kbp.SR50 | 2.831 | 0.140 | 2.972 | |