| Back to Build/check report for BioC 3.18 experimental data |
|
This page was generated on 2024-04-16 14:51:29 -0400 (Tue, 16 Apr 2024).
| Hostname | OS | Arch (*) | R version | Installed pkgs |
|---|---|---|---|---|
| nebbiolo2 | Linux (Ubuntu 22.04.3 LTS) | x86_64 | 4.3.3 (2024-02-29) -- "Angel Food Cake" | 4676 |
| Click on any hostname to see more info about the system (e.g. compilers) (*) as reported by 'uname -p', except on Windows and Mac OS X | ||||
| Package 203/429 | Hostname | OS / Arch | INSTALL | BUILD | CHECK | ||||||||
| KEGGdzPathwaysGEO 1.40.0 (landing page) Gaurav Bhatti
| nebbiolo2 | Linux (Ubuntu 22.04.3 LTS) / x86_64 | OK | OK | OK | ||||||||
|
To the developers/maintainers of the KEGGdzPathwaysGEO package: - Use the following Renviron settings to reproduce errors and warnings. - If 'R CMD check' started to fail recently on the Linux builder(s) over a missing dependency, add the missing dependency to 'Suggests:' in your DESCRIPTION file. See Renviron.bioc for more information. |
| Package: KEGGdzPathwaysGEO |
| Version: 1.40.0 |
| Command: /home/biocbuild/bbs-3.18-bioc/R/bin/R CMD check --install=check:KEGGdzPathwaysGEO.install-out.txt --library=/home/biocbuild/bbs-3.18-bioc/R/site-library --timings KEGGdzPathwaysGEO_1.40.0.tar.gz |
| StartedAt: 2024-04-16 11:46:24 -0400 (Tue, 16 Apr 2024) |
| EndedAt: 2024-04-16 11:51:08 -0400 (Tue, 16 Apr 2024) |
| EllapsedTime: 284.2 seconds |
| RetCode: 0 |
| Status: OK |
| CheckDir: KEGGdzPathwaysGEO.Rcheck |
| Warnings: 0 |
##############################################################################
##############################################################################
###
### Running command:
###
### /home/biocbuild/bbs-3.18-bioc/R/bin/R CMD check --install=check:KEGGdzPathwaysGEO.install-out.txt --library=/home/biocbuild/bbs-3.18-bioc/R/site-library --timings KEGGdzPathwaysGEO_1.40.0.tar.gz
###
##############################################################################
##############################################################################
* using log directory ‘/home/biocbuild/bbs-3.18-data-experiment/meat/KEGGdzPathwaysGEO.Rcheck’
* using R version 4.3.3 (2024-02-29)
* using platform: x86_64-pc-linux-gnu (64-bit)
* R was compiled by
gcc (Ubuntu 11.4.0-1ubuntu1~22.04) 11.4.0
GNU Fortran (Ubuntu 11.4.0-1ubuntu1~22.04) 11.4.0
* running under: Ubuntu 22.04.4 LTS
* using session charset: UTF-8
* checking for file ‘KEGGdzPathwaysGEO/DESCRIPTION’ ... OK
* checking extension type ... Package
* this is package ‘KEGGdzPathwaysGEO’ version ‘1.40.0’
* checking package namespace information ... OK
* checking package dependencies ... OK
* checking if this is a source package ... OK
* checking if there is a namespace ... OK
* checking for hidden files and directories ... OK
* checking for portable file names ... OK
* checking for sufficient/correct file permissions ... OK
* checking whether package ‘KEGGdzPathwaysGEO’ can be installed ... OK
* checking installed package size ... NOTE
installed size is 300.7Mb
sub-directories of 1Mb or more:
data 300.6Mb
* checking package directory ... OK
* checking DESCRIPTION meta-information ... OK
* checking top-level files ... OK
* checking for left-over files ... OK
* checking index information ... OK
* checking package subdirectories ... OK
* checking R files for non-ASCII characters ... OK
* checking R files for syntax errors ... OK
* checking whether the package can be loaded ... OK
* checking whether the package can be loaded with stated dependencies ... OK
* checking whether the package can be unloaded cleanly ... OK
* checking whether the namespace can be loaded with stated dependencies ... OK
* checking whether the namespace can be unloaded cleanly ... OK
* checking loading without being on the library search path ... OK
* checking dependencies in R code ... NOTE
Namespaces in Imports field not imported from:
‘Biobase’ ‘BiocGenerics’
All declared Imports should be used.
* checking S3 generic/method consistency ... OK
* checking replacement functions ... OK
* checking foreign function calls ... OK
* checking R code for possible problems ... OK
* checking Rd files ... OK
* checking Rd metadata ... OK
* checking Rd cross-references ... OK
* checking for missing documentation entries ... OK
* checking for code/documentation mismatches ... OK
* checking Rd \usage sections ... OK
* checking Rd contents ... OK
* checking for unstated dependencies in examples ... OK
* checking contents of ‘data’ directory ... OK
* checking data for non-ASCII characters ... OK
* checking data for ASCII and uncompressed saves ... OK
* checking examples ... OK
* checking PDF version of manual ... OK
* DONE
Status: 2 NOTEs
See
‘/home/biocbuild/bbs-3.18-data-experiment/meat/KEGGdzPathwaysGEO.Rcheck/00check.log’
for details.
KEGGdzPathwaysGEO.Rcheck/00install.out
############################################################################## ############################################################################## ### ### Running command: ### ### /home/biocbuild/bbs-3.18-bioc/R/bin/R CMD INSTALL KEGGdzPathwaysGEO ### ############################################################################## ############################################################################## * installing to library ‘/home/biocbuild/bbs-3.18-bioc/R/site-library’ * installing *source* package ‘KEGGdzPathwaysGEO’ ... ** using staged installation ** R ** data ** byte-compile and prepare package for lazy loading ** help *** installing help indices ** building package indices ** testing if installed package can be loaded from temporary location ** testing if installed package can be loaded from final location ** testing if installed package keeps a record of temporary installation path * DONE (KEGGdzPathwaysGEO)
KEGGdzPathwaysGEO.Rcheck/KEGGdzPathwaysGEO-Ex.timings
| name | user | system | elapsed | |
| GSE1297 | 0.051 | 0.004 | 0.055 | |
| GSE14762 | 0.111 | 0.012 | 0.124 | |
| GSE15471 | 0.281 | 0.012 | 0.292 | |
| GSE16515 | 0.139 | 0.012 | 0.151 | |
| GSE18842 | 0.342 | 0.028 | 0.371 | |
| GSE19188 | 0.592 | 0.052 | 0.644 | |
| GSE19728 | 0.114 | 0.008 | 0.121 | |
| GSE20153 | 0.093 | 0.008 | 0.101 | |
| GSE20291 | 0.065 | 0.004 | 0.068 | |
| GSE21354 | 0.109 | 0.000 | 0.109 | |
| GSE3467 | 0.103 | 0.004 | 0.107 | |
| GSE3585 | 0.038 | 0.000 | 0.037 | |
| GSE3678 | 0.090 | 0.004 | 0.094 | |
| GSE4107 | 0.118 | 0.004 | 0.123 | |
| GSE5281_EC | 0.111 | 0.007 | 0.118 | |
| GSE5281_HIP | 0.13 | 0.00 | 0.13 | |
| GSE5281_VCX | 0.149 | 0.000 | 0.150 | |
| GSE6956AA | 0.034 | 0.000 | 0.034 | |
| GSE6956C | 0.077 | 0.004 | 0.081 | |
| GSE781 | 0.042 | 0.000 | 0.043 | |
| GSE8671 | 0.250 | 0.012 | 0.262 | |
| GSE8762 | 0.120 | 0.004 | 0.123 | |
| GSE9348 | 0.321 | 0.004 | 0.324 | |
| GSE9476 | 0.101 | 0.008 | 0.110 | |
| KEGGdzPathwaysGEO-package | 0.303 | 0.012 | 0.316 | |