| Back to Build/check report for BioC 3.18 experimental data |
|
This page was generated on 2024-04-16 14:51:28 -0400 (Tue, 16 Apr 2024).
| Hostname | OS | Arch (*) | R version | Installed pkgs |
|---|---|---|---|---|
| nebbiolo2 | Linux (Ubuntu 22.04.3 LTS) | x86_64 | 4.3.3 (2024-02-29) -- "Angel Food Cake" | 4676 |
| Click on any hostname to see more info about the system (e.g. compilers) (*) as reported by 'uname -p', except on Windows and Mac OS X | ||||
| Package 102/429 | Hostname | OS / Arch | INSTALL | BUILD | CHECK | ||||||||
| dressCheck 0.40.0 (landing page) Vincent Carey
| nebbiolo2 | Linux (Ubuntu 22.04.3 LTS) / x86_64 | OK | OK | OK | ||||||||
|
To the developers/maintainers of the dressCheck package: - Use the following Renviron settings to reproduce errors and warnings. - If 'R CMD check' started to fail recently on the Linux builder(s) over a missing dependency, add the missing dependency to 'Suggests:' in your DESCRIPTION file. See Renviron.bioc for more information. |
| Package: dressCheck |
| Version: 0.40.0 |
| Command: /home/biocbuild/bbs-3.18-bioc/R/bin/R CMD check --install=check:dressCheck.install-out.txt --library=/home/biocbuild/bbs-3.18-bioc/R/site-library --timings dressCheck_0.40.0.tar.gz |
| StartedAt: 2024-04-16 11:22:45 -0400 (Tue, 16 Apr 2024) |
| EndedAt: 2024-04-16 11:23:38 -0400 (Tue, 16 Apr 2024) |
| EllapsedTime: 52.4 seconds |
| RetCode: 0 |
| Status: OK |
| CheckDir: dressCheck.Rcheck |
| Warnings: 0 |
##############################################################################
##############################################################################
###
### Running command:
###
### /home/biocbuild/bbs-3.18-bioc/R/bin/R CMD check --install=check:dressCheck.install-out.txt --library=/home/biocbuild/bbs-3.18-bioc/R/site-library --timings dressCheck_0.40.0.tar.gz
###
##############################################################################
##############################################################################
* using log directory ‘/home/biocbuild/bbs-3.18-data-experiment/meat/dressCheck.Rcheck’
* using R version 4.3.3 (2024-02-29)
* using platform: x86_64-pc-linux-gnu (64-bit)
* R was compiled by
gcc (Ubuntu 11.4.0-1ubuntu1~22.04) 11.4.0
GNU Fortran (Ubuntu 11.4.0-1ubuntu1~22.04) 11.4.0
* running under: Ubuntu 22.04.4 LTS
* using session charset: UTF-8
* checking for file ‘dressCheck/DESCRIPTION’ ... OK
* this is package ‘dressCheck’ version ‘0.40.0’
* checking package namespace information ... OK
* checking package dependencies ... OK
* checking if this is a source package ... OK
* checking if there is a namespace ... OK
* checking for hidden files and directories ... OK
* checking for portable file names ... OK
* checking for sufficient/correct file permissions ... OK
* checking whether package ‘dressCheck’ can be installed ... OK
* checking installed package size ... NOTE
installed size is 65.8Mb
sub-directories of 1Mb or more:
data 54.4Mb
sampleRemap 11.2Mb
* checking package directory ... OK
* checking ‘build’ directory ... OK
* checking DESCRIPTION meta-information ... NOTE
Malformed Description field: should contain one or more complete sentences.
* checking top-level files ... OK
* checking for left-over files ... OK
* checking index information ... OK
* checking package subdirectories ... OK
* checking whether the package can be loaded ... OK
* checking whether the package can be loaded with stated dependencies ... OK
* checking whether the package can be unloaded cleanly ... OK
* checking whether the namespace can be loaded with stated dependencies ... OK
* checking whether the namespace can be unloaded cleanly ... OK
* checking loading without being on the library search path ... OK
* checking Rd files ... NOTE
prepare_Rd: DrAsGiven.Rd:69-71: Dropping empty section \details
prepare_Rd: DrAsGiven.Rd:72-74: Dropping empty section \source
prepare_Rd: DrAsGiven.Rd:75-77: Dropping empty section \references
prepare_Rd: E2F3sig.probes.Rd:16-18: Dropping empty section \details
prepare_Rd: E2F3sig.probes.Rd:19-21: Dropping empty section \source
prepare_Rd: E2F3sig.probes.Rd:22-24: Dropping empty section \references
prepare_Rd: Src.probes.Rd:17-19: Dropping empty section \details
prepare_Rd: Src.probes.Rd:20-22: Dropping empty section \source
prepare_Rd: Src.probes.Rd:23-25: Dropping empty section \references
prepare_Rd: c119.Rd:97-99: Dropping empty section \source
prepare_Rd: c119.Rd:100-102: Dropping empty section \references
prepare_Rd: corrp116.Rd:71-73: Dropping empty section \details
prepare_Rd: corrp116.Rd:74-76: Dropping empty section \source
prepare_Rd: corrp116.Rd:77-79: Dropping empty section \references
prepare_Rd: e2f3Wts.Rd:19-21: Dropping empty section \details
prepare_Rd: e2f3Wts.Rd:22-24: Dropping empty section \source
prepare_Rd: e2f3Wts.Rd:25-27: Dropping empty section \references
prepare_Rd: platsigprobes.Rd:17-19: Dropping empty section \details
prepare_Rd: platsigprobes.Rd:20-22: Dropping empty section \source
prepare_Rd: platsigprobes.Rd:23-25: Dropping empty section \references
prepare_Rd: pwLines.Rd:127-129: Dropping empty section \details
prepare_Rd: pwLines.Rd:130-132: Dropping empty section \source
prepare_Rd: pwLines.Rd:133-135: Dropping empty section \references
prepare_Rd: srcWts.Rd:19-21: Dropping empty section \details
prepare_Rd: srcWts.Rd:22-24: Dropping empty section \source
prepare_Rd: srcWts.Rd:25-27: Dropping empty section \references
* checking Rd metadata ... OK
* checking Rd cross-references ... OK
* checking for missing documentation entries ... OK
* checking for code/documentation mismatches ... OK
* checking Rd \usage sections ... OK
* checking Rd contents ... OK
* checking for unstated dependencies in examples ... OK
* checking contents of ‘data’ directory ... OK
* checking data for non-ASCII characters ... OK
* checking data for ASCII and uncompressed saves ... OK
* checking files in ‘vignettes’ ... OK
* checking examples ... OK
* checking for unstated dependencies in vignettes ... OK
* checking package vignettes in ‘inst/doc’ ... OK
* checking running R code from vignettes ...
‘short.Rnw’... OK
OK
* checking re-building of vignette outputs ... OK
* checking PDF version of manual ... OK
* DONE
Status: 3 NOTEs
See
‘/home/biocbuild/bbs-3.18-data-experiment/meat/dressCheck.Rcheck/00check.log’
for details.
dressCheck.Rcheck/00install.out
############################################################################## ############################################################################## ### ### Running command: ### ### /home/biocbuild/bbs-3.18-bioc/R/bin/R CMD INSTALL dressCheck ### ############################################################################## ############################################################################## * installing to library ‘/home/biocbuild/bbs-3.18-bioc/R/site-library’ * installing *source* package ‘dressCheck’ ... ** using staged installation ** data ** inst ** help *** installing help indices ** building package indices ** installing vignettes ** testing if installed package can be loaded from temporary location ** testing if installed package can be loaded from final location ** testing if installed package keeps a record of temporary installation path * DONE (dressCheck)
dressCheck.Rcheck/dressCheck-Ex.timings
| name | user | system | elapsed | |
| DrAsGiven | 1.006 | 0.024 | 1.030 | |
| E2F3sig.probes | 0.001 | 0.000 | 0.001 | |
| Src.probes | 0.001 | 0.000 | 0.001 | |
| c119 | 1.686 | 0.048 | 1.734 | |
| corrp116 | 0.950 | 0.028 | 0.978 | |
| e2f3Wts | 0.001 | 0.000 | 0.001 | |
| platsigprobes | 0.002 | 0.000 | 0.001 | |
| pwLines | 1.626 | 0.040 | 1.666 | |
| srcWts | 0.001 | 0.000 | 0.001 | |