Back to Build/check report for BioC 3.18 experimental data |
|
This page was generated on 2024-04-16 14:51:29 -0400 (Tue, 16 Apr 2024).
Hostname | OS | Arch (*) | R version | Installed pkgs |
---|---|---|---|---|
nebbiolo2 | Linux (Ubuntu 22.04.3 LTS) | x86_64 | 4.3.3 (2024-02-29) -- "Angel Food Cake" | 4676 |
Click on any hostname to see more info about the system (e.g. compilers) (*) as reported by 'uname -p', except on Windows and Mac OS X |
Package 252/429 | Hostname | OS / Arch | INSTALL | BUILD | CHECK | ||||||||
MouseGastrulationData 1.16.0 (landing page) Jonathan Griffiths
| nebbiolo2 | Linux (Ubuntu 22.04.3 LTS) / x86_64 | OK | OK | OK | ![]() | |||||||
To the developers/maintainers of the MouseGastrulationData package: - Use the following Renviron settings to reproduce errors and warnings. - If 'R CMD check' started to fail recently on the Linux builder(s) over a missing dependency, add the missing dependency to 'Suggests:' in your DESCRIPTION file. See Renviron.bioc for more information. |
Package: MouseGastrulationData |
Version: 1.16.0 |
Command: /home/biocbuild/bbs-3.18-bioc/R/bin/R CMD check --install=check:MouseGastrulationData.install-out.txt --library=/home/biocbuild/bbs-3.18-bioc/R/site-library --timings MouseGastrulationData_1.16.0.tar.gz |
StartedAt: 2024-04-16 11:57:58 -0400 (Tue, 16 Apr 2024) |
EndedAt: 2024-04-16 12:04:47 -0400 (Tue, 16 Apr 2024) |
EllapsedTime: 408.2 seconds |
RetCode: 0 |
Status: OK |
CheckDir: MouseGastrulationData.Rcheck |
Warnings: 0 |
############################################################################## ############################################################################## ### ### Running command: ### ### /home/biocbuild/bbs-3.18-bioc/R/bin/R CMD check --install=check:MouseGastrulationData.install-out.txt --library=/home/biocbuild/bbs-3.18-bioc/R/site-library --timings MouseGastrulationData_1.16.0.tar.gz ### ############################################################################## ############################################################################## * using log directory ‘/home/biocbuild/bbs-3.18-data-experiment/meat/MouseGastrulationData.Rcheck’ * using R version 4.3.3 (2024-02-29) * using platform: x86_64-pc-linux-gnu (64-bit) * R was compiled by gcc (Ubuntu 11.4.0-1ubuntu1~22.04) 11.4.0 GNU Fortran (Ubuntu 11.4.0-1ubuntu1~22.04) 11.4.0 * running under: Ubuntu 22.04.4 LTS * using session charset: UTF-8 * checking for file ‘MouseGastrulationData/DESCRIPTION’ ... OK * this is package ‘MouseGastrulationData’ version ‘1.16.0’ * package encoding: UTF-8 * checking package namespace information ... OK * checking package dependencies ... OK * checking if this is a source package ... OK * checking if there is a namespace ... OK * checking for hidden files and directories ... OK * checking for portable file names ... OK * checking for sufficient/correct file permissions ... OK * checking whether package ‘MouseGastrulationData’ can be installed ... OK * checking installed package size ... OK * checking package directory ... OK * checking ‘build’ directory ... OK * checking DESCRIPTION meta-information ... OK * checking top-level files ... OK * checking for left-over files ... OK * checking index information ... OK * checking package subdirectories ... OK * checking R files for non-ASCII characters ... OK * checking R files for syntax errors ... OK * checking whether the package can be loaded ... OK * checking whether the package can be loaded with stated dependencies ... OK * checking whether the package can be unloaded cleanly ... OK * checking whether the namespace can be loaded with stated dependencies ... OK * checking whether the namespace can be unloaded cleanly ... OK * checking loading without being on the library search path ... OK * checking dependencies in R code ... OK * checking S3 generic/method consistency ... OK * checking replacement functions ... OK * checking foreign function calls ... OK * checking R code for possible problems ... NOTE .addAltExp: no visible global function definition for ‘assays’ .addAltExp: no visible global function definition for ‘assays<-’ Undefined global functions or variables: assays assays<- * checking Rd files ... OK * checking Rd metadata ... OK * checking Rd cross-references ... OK * checking for missing documentation entries ... OK * checking for code/documentation mismatches ... OK * checking Rd \usage sections ... OK * checking Rd contents ... OK * checking for unstated dependencies in examples ... OK * checking files in ‘vignettes’ ... OK * checking examples ... OK Examples with CPU (user + system) or elapsed time > 5s user system elapsed Tal1ChimeraData 22.669 3.072 27.009 EmbryoAtlasData 19.444 1.812 23.272 TChimeraData 14.404 1.415 17.021 WTChimeraData 13.000 1.505 15.714 LohoffSeqFISHData 11.311 1.004 13.468 RAMultiomeData 8.147 0.924 9.917 GuibentifExtraData 4.923 0.531 6.039 * checking for unstated dependencies in vignettes ... OK * checking package vignettes in ‘inst/doc’ ... OK * checking running R code from vignettes ... ‘MouseGastrulationData.Rmd’ using ‘UTF-8’... OK OK * checking re-building of vignette outputs ... OK * checking PDF version of manual ... OK * DONE Status: 1 NOTE See ‘/home/biocbuild/bbs-3.18-data-experiment/meat/MouseGastrulationData.Rcheck/00check.log’ for details.
MouseGastrulationData.Rcheck/00install.out
############################################################################## ############################################################################## ### ### Running command: ### ### /home/biocbuild/bbs-3.18-bioc/R/bin/R CMD INSTALL MouseGastrulationData ### ############################################################################## ############################################################################## * installing to library ‘/home/biocbuild/bbs-3.18-bioc/R/site-library’ * installing *source* package ‘MouseGastrulationData’ ... ** using staged installation ** R ** inst ** byte-compile and prepare package for lazy loading ** help *** installing help indices ** building package indices ** installing vignettes ** testing if installed package can be loaded from temporary location ** testing if installed package can be loaded from final location ** testing if installed package keeps a record of temporary installation path * DONE (MouseGastrulationData)
MouseGastrulationData.Rcheck/MouseGastrulationData-Ex.timings
name | user | system | elapsed | |
AtlasSampleMetadata | 0.005 | 0.000 | 0.005 | |
BPSATACData | 0 | 0 | 0 | |
EmbryoAtlasData | 19.444 | 1.812 | 23.272 | |
EmbryoCelltypeColours | 0 | 0 | 0 | |
GuibentifExtraData | 4.923 | 0.531 | 6.039 | |
LohoffSeqFISHData | 11.311 | 1.004 | 13.468 | |
RAMultiomeData | 8.147 | 0.924 | 9.917 | |
RASampleMetadata | 0.002 | 0.000 | 0.002 | |
TChimeraData | 14.404 | 1.415 | 17.021 | |
Tal1ChimeraData | 22.669 | 3.072 | 27.009 | |
WTChimeraData | 13.000 | 1.505 | 15.714 | |