| zin1 |
Linux (Ubuntu 12.04.4 LTS) / x86_64 | | | |
| moscato1 |
Windows Server 2008 R2 Enterprise SP1 (64-bit) / x64 | | | |
| perceval |
Mac OS X Snow Leopard (10.6.8) / x86_64 | | | |
affycompData 1.1.6 Harris Jaffee
| Last Changed Rev: 2533 / Revision: 2768 | | Last Changed Date: 2013-10-14 15:00:20 -0700 |
| zin1 | Linux (Ubuntu 12.04.4 LTS) / x86_64 | OK | OK | |
| moscato1 | Windows Server 2008 R2 Enterprise SP1 (64-bit) / x64 | OK | OK | OK |
| perceval | Mac OS X Snow Leopard (10.6.8) / x86_64 | OK | OK | OK |
affydata 1.11.20 Harris Jaffee
| Last Changed Rev: 2557 / Revision: 2768 | | Last Changed Date: 2013-11-01 13:36:05 -0700 |
| zin1 | Linux (Ubuntu 12.04.4 LTS) / x86_64 | OK | WARNINGS | |
| moscato1 | Windows Server 2008 R2 Enterprise SP1 (64-bit) / x64 | OK | WARNINGS | OK |
| perceval | Mac OS X Snow Leopard (10.6.8) / x86_64 | OK | WARNINGS | OK |
AffymetrixDataTestFiles 0.1.7 Henrik Bengtsson
| Last Changed Rev: 2533 / Revision: 2768 | | Last Changed Date: 2013-10-14 15:00:20 -0700 |
| zin1 | Linux (Ubuntu 12.04.4 LTS) / x86_64 | OK | OK | |
| moscato1 | Windows Server 2008 R2 Enterprise SP1 (64-bit) / x64 | OK | OK | OK |
| perceval | Mac OS X Snow Leopard (10.6.8) / x86_64 | OK | OK | OK |
ALL 1.4.16 Robert Gentleman
| Last Changed Rev: 2557 / Revision: 2768 | | Last Changed Date: 2013-11-01 13:36:05 -0700 |
| zin1 | Linux (Ubuntu 12.04.4 LTS) / x86_64 | OK | OK | |
| moscato1 | Windows Server 2008 R2 Enterprise SP1 (64-bit) / x64 | OK | OK | OK |
| perceval | Mac OS X Snow Leopard (10.6.8) / x86_64 | OK | OK | OK |
ALLMLL 1.2.15 B. M. Bolstad
| Last Changed Rev: 2533 / Revision: 2768 | | Last Changed Date: 2013-10-14 15:00:20 -0700 |
| zin1 | Linux (Ubuntu 12.04.4 LTS) / x86_64 | OK | OK | |
| moscato1 | Windows Server 2008 R2 Enterprise SP1 (64-bit) / x64 | OK | OK | OK |
| perceval | Mac OS X Snow Leopard (10.6.8) / x86_64 | OK | OK | OK |
AmpAffyExample 1.2.13 Rafael A. Irizarry
| Last Changed Rev: 2533 / Revision: 2768 | | Last Changed Date: 2013-10-14 15:00:20 -0700 |
| zin1 | Linux (Ubuntu 12.04.4 LTS) / x86_64 | OK | WARNINGS | |
| moscato1 | Windows Server 2008 R2 Enterprise SP1 (64-bit) / x64 | OK | WARNINGS | OK |
| perceval | Mac OS X Snow Leopard (10.6.8) / x86_64 | OK | WARNINGS | OK |
antiProfilesData 0.99.2 Hector Corrada Bravo
| Last Changed Rev: 2533 / Revision: 2768 | | Last Changed Date: 2013-10-14 15:00:20 -0700 |
| zin1 | Linux (Ubuntu 12.04.4 LTS) / x86_64 | OK | OK | |
| moscato1 | Windows Server 2008 R2 Enterprise SP1 (64-bit) / x64 | OK | OK | OK |
| perceval | Mac OS X Snow Leopard (10.6.8) / x86_64 | OK | OK | OK |
ARRmData 0.99.3 Jean-Philippe Fortin
| Last Changed Rev: 2533 / Revision: 2768 | | Last Changed Date: 2013-10-14 15:00:20 -0700 |
| zin1 | Linux (Ubuntu 12.04.4 LTS) / x86_64 | OK | OK | |
| moscato1 | Windows Server 2008 R2 Enterprise SP1 (64-bit) / x64 | OK | OK | OK |
| perceval | Mac OS X Snow Leopard (10.6.8) / x86_64 | OK | OK | OK |
beadarrayExampleData 1.0.8 Mark Dunning
| Last Changed Rev: 2561 / Revision: 2768 | | Last Changed Date: 2013-11-04 05:24:42 -0800 |
| zin1 | Linux (Ubuntu 12.04.4 LTS) / x86_64 | OK | OK | |
| moscato1 | Windows Server 2008 R2 Enterprise SP1 (64-bit) / x64 | OK | OK | OK |
| perceval | Mac OS X Snow Leopard (10.6.8) / x86_64 | OK | OK | OK |
BeadArrayUseCases 1.0.12 Mike Smith
| Last Changed Rev: 2557 / Revision: 2768 | | Last Changed Date: 2013-11-01 13:36:05 -0700 |
| zin1 | Linux (Ubuntu 12.04.4 LTS) / x86_64 | OK | OK | |
| moscato1 | Windows Server 2008 R2 Enterprise SP1 (64-bit) / x64 | OK | OK | OK |
| perceval | Mac OS X Snow Leopard (10.6.8) / x86_64 | OK | OK | OK |
beta7 1.0.6 Jean Yang
| Last Changed Rev: 2533 / Revision: 2768 | | Last Changed Date: 2013-10-14 15:00:20 -0700 |
| zin1 | Linux (Ubuntu 12.04.4 LTS) / x86_64 | OK | WARNINGS | |
| moscato1 | Windows Server 2008 R2 Enterprise SP1 (64-bit) / x64 | OK | WARNINGS | OK |
| perceval | Mac OS X Snow Leopard (10.6.8) / x86_64 | OK | WARNINGS | OK |
bladderbatch 1.0.7 Jeffrey T. Leek
| Last Changed Rev: 2557 / Revision: 2768 | | Last Changed Date: 2013-11-01 13:36:05 -0700 |
| zin1 | Linux (Ubuntu 12.04.4 LTS) / x86_64 | OK | WARNINGS | |
| moscato1 | Windows Server 2008 R2 Enterprise SP1 (64-bit) / x64 | OK | WARNINGS | OK |
| perceval | Mac OS X Snow Leopard (10.6.8) / x86_64 | OK | WARNINGS | OK |
breastCancerMAINZ 1.0.6 Markus Schroeder , Benjamin Haibe-Kains
| Last Changed Rev: 2533 / Revision: 2768 | | Last Changed Date: 2013-10-14 15:00:20 -0700 |
| zin1 | Linux (Ubuntu 12.04.4 LTS) / x86_64 | OK | WARNINGS | |
| moscato1 | Windows Server 2008 R2 Enterprise SP1 (64-bit) / x64 | OK | WARNINGS | OK |
| perceval | Mac OS X Snow Leopard (10.6.8) / x86_64 | OK | WARNINGS | OK |
breastCancerNKI 1.0.6 Markus Schroeder , Benjamin Haibe-Kains
| Last Changed Rev: 2533 / Revision: 2768 | | Last Changed Date: 2013-10-14 15:00:20 -0700 |
| zin1 | Linux (Ubuntu 12.04.4 LTS) / x86_64 | OK | WARNINGS | |
| moscato1 | Windows Server 2008 R2 Enterprise SP1 (64-bit) / x64 | OK | WARNINGS | OK |
| perceval | Mac OS X Snow Leopard (10.6.8) / x86_64 | OK | WARNINGS | OK |
breastCancerTRANSBIG 1.0.6 Markus Schroeder , Benjamin Haibe-Kains
| Last Changed Rev: 2533 / Revision: 2768 | | Last Changed Date: 2013-10-14 15:00:20 -0700 |
| zin1 | Linux (Ubuntu 12.04.4 LTS) / x86_64 | OK | WARNINGS | |
| moscato1 | Windows Server 2008 R2 Enterprise SP1 (64-bit) / x64 | OK | WARNINGS | OK |
| perceval | Mac OS X Snow Leopard (10.6.8) / x86_64 | OK | WARNINGS | OK |
breastCancerUNT 1.0.6 Markus Schroeder , Benjamin Haibe-Kains
| Last Changed Rev: 2533 / Revision: 2768 | | Last Changed Date: 2013-10-14 15:00:20 -0700 |
| zin1 | Linux (Ubuntu 12.04.4 LTS) / x86_64 | OK | WARNINGS | |
| moscato1 | Windows Server 2008 R2 Enterprise SP1 (64-bit) / x64 | OK | WARNINGS | OK |
| perceval | Mac OS X Snow Leopard (10.6.8) / x86_64 | OK | WARNINGS | OK |
breastCancerUPP 1.0.6 Markus Schroeder , Benjamin Haibe-Kains
| Last Changed Rev: 2533 / Revision: 2768 | | Last Changed Date: 2013-10-14 15:00:20 -0700 |
| zin1 | Linux (Ubuntu 12.04.4 LTS) / x86_64 | OK | WARNINGS | |
| moscato1 | Windows Server 2008 R2 Enterprise SP1 (64-bit) / x64 | OK | WARNINGS | OK |
| perceval | Mac OS X Snow Leopard (10.6.8) / x86_64 | OK | WARNINGS | OK |
breastCancerVDX 1.0.6 Markus Schroeder , Benjamin Haibe-Kains
| Last Changed Rev: 2533 / Revision: 2768 | | Last Changed Date: 2013-10-14 15:00:20 -0700 |
| zin1 | Linux (Ubuntu 12.04.4 LTS) / x86_64 | OK | WARNINGS | |
| moscato1 | Windows Server 2008 R2 Enterprise SP1 (64-bit) / x64 | OK | WARNINGS | OK |
| perceval | Mac OS X Snow Leopard (10.6.8) / x86_64 | OK | WARNINGS | OK |
bronchialIL13 1.0.12 Vince Carey
| Last Changed Rev: 2533 / Revision: 2768 | | Last Changed Date: 2013-10-14 15:00:20 -0700 |
| zin1 | Linux (Ubuntu 12.04.4 LTS) / x86_64 | OK | OK | |
| moscato1 | Windows Server 2008 R2 Enterprise SP1 (64-bit) / x64 | OK | OK | OK |
| perceval | Mac OS X Snow Leopard (10.6.8) / x86_64 | OK | OK | OK |
bsseqData 0.1.5 Kasper Daniel Hansen
| Last Changed Rev: 2533 / Revision: 2768 | | Last Changed Date: 2013-10-14 15:00:20 -0700 |
| zin1 | Linux (Ubuntu 12.04.4 LTS) / x86_64 | OK | OK | |
| moscato1 | Windows Server 2008 R2 Enterprise SP1 (64-bit) / x64 | OK | OK | OK |
| perceval | Mac OS X Snow Leopard (10.6.8) / x86_64 | OK | OK | OK |
cancerdata 1.1.3 Daniel Kosztyla
| Last Changed Rev: 2533 / Revision: 2768 | | Last Changed Date: 2013-10-14 15:00:20 -0700 |
| zin1 | Linux (Ubuntu 12.04.4 LTS) / x86_64 | OK | OK | |
| moscato1 | Windows Server 2008 R2 Enterprise SP1 (64-bit) / x64 | OK | OK | OK |
| perceval | Mac OS X Snow Leopard (10.6.8) / x86_64 | OK | OK | OK |
CCl4 1.0.16 Audrey Kauffmann
| Last Changed Rev: 2557 / Revision: 2768 | | Last Changed Date: 2013-11-01 13:36:05 -0700 |
| zin1 | Linux (Ubuntu 12.04.4 LTS) / x86_64 | OK | WARNINGS | |
| moscato1 | Windows Server 2008 R2 Enterprise SP1 (64-bit) / x64 | OK | WARNINGS | OK |
| perceval | Mac OS X Snow Leopard (10.6.8) / x86_64 | OK | WARNINGS | OK |
ccTutorial 1.0.26 Joern Toedling
| Last Changed Rev: 2748 / Revision: 2768 | | Last Changed Date: 2014-03-25 11:32:07 -0700 |
| zin1 | Linux (Ubuntu 12.04.4 LTS) / x86_64 | OK | OK | |
| moscato1 | Windows Server 2008 R2 Enterprise SP1 (64-bit) / x64 | OK | OK | OK |
| perceval | Mac OS X Snow Leopard (10.6.8) / x86_64 | OK | OK | OK |
ceu1kg 0.0.34 VJ Carey
| Last Changed Rev: 2557 / Revision: 2768 | | Last Changed Date: 2013-11-01 13:36:05 -0700 |
| zin1 | Linux (Ubuntu 12.04.4 LTS) / x86_64 | OK | OK | |
| moscato1 | Windows Server 2008 R2 Enterprise SP1 (64-bit) / x64 | OK | OK | OK |
| perceval | Mac OS X Snow Leopard (10.6.8) / x86_64 | OK | OK | OK |
ceu1kgv 0.5.3 VJ Carey
| Last Changed Rev: 2688 / Revision: 2768 | | Last Changed Date: 2014-02-18 14:55:10 -0800 |
| zin1 | Linux (Ubuntu 12.04.4 LTS) / x86_64 | OK | WARNINGS | |
| moscato1 | Windows Server 2008 R2 Enterprise SP1 (64-bit) / x64 | OK | WARNINGS | OK |
| perceval | Mac OS X Snow Leopard (10.6.8) / x86_64 | OK | WARNINGS | OK |
ceuhm3 0.0.16 VJ Carey
| Last Changed Rev: 2533 / Revision: 2768 | | Last Changed Date: 2013-10-14 15:00:20 -0700 |
| zin1 | Linux (Ubuntu 12.04.4 LTS) / x86_64 | OK | OK | |
| moscato1 | Windows Server 2008 R2 Enterprise SP1 (64-bit) / x64 | OK | OK | OK |
| perceval | Mac OS X Snow Leopard (10.6.8) / x86_64 | OK | OK | OK |
cgdv17 0.0.21 VJ Carey
| Last Changed Rev: 2533 / Revision: 2768 | | Last Changed Date: 2013-10-14 15:00:20 -0700 |
| zin1 | Linux (Ubuntu 12.04.4 LTS) / x86_64 | OK | OK | |
| moscato1 | Windows Server 2008 R2 Enterprise SP1 (64-bit) / x64 | OK | OK | OK |
| perceval | Mac OS X Snow Leopard (10.6.8) / x86_64 | OK | OK | OK |
ChAMPdata 0.99.6 Tiffany Morris
| Last Changed Rev: 2533 / Revision: 2768 | | Last Changed Date: 2013-10-14 15:00:20 -0700 |
| zin1 | Linux (Ubuntu 12.04.4 LTS) / x86_64 | OK | OK | |
| moscato1 | Windows Server 2008 R2 Enterprise SP1 (64-bit) / x64 | OK | OK | OK |
| perceval | Mac OS X Snow Leopard (10.6.8) / x86_64 | OK | OK | OK |
charmData 0.99.9 Martin Aryee
| Last Changed Rev: 2533 / Revision: 2768 | | Last Changed Date: 2013-10-14 15:00:20 -0700 |
| zin1 | Linux (Ubuntu 12.04.4 LTS) / x86_64 | OK | WARNINGS | |
| moscato1 | Windows Server 2008 R2 Enterprise SP1 (64-bit) / x64 | OK | WARNINGS | OK |
| perceval | Mac OS X Snow Leopard (10.6.8) / x86_64 | OK | WARNINGS | OK |
cheung2010 0.0.29 Vince Carey
| Last Changed Rev: 2557 / Revision: 2768 | | Last Changed Date: 2013-11-01 13:36:05 -0700 |
| zin1 | Linux (Ubuntu 12.04.4 LTS) / x86_64 | OK | OK | |
| moscato1 | Windows Server 2008 R2 Enterprise SP1 (64-bit) / x64 | OK | OK | OK |
| perceval | Mac OS X Snow Leopard (10.6.8) / x86_64 | OK | OK | OK |
chipenrich.data 0.99.4 Ryan P. Welch
| Last Changed Rev: 2533 / Revision: 2768 | | Last Changed Date: 2013-10-14 15:00:20 -0700 |
| zin1 | Linux (Ubuntu 12.04.4 LTS) / x86_64 | OK | OK | |
| moscato1 | Windows Server 2008 R2 Enterprise SP1 (64-bit) / x64 | OK | OK | OK |
| perceval | Mac OS X Snow Leopard (10.6.8) / x86_64 | OK | OK | OK |
ChIPXpressData 1.0.1 George Wu
| Last Changed Rev: 2533 / Revision: 2768 | | Last Changed Date: 2013-10-14 15:00:20 -0700 |
| zin1 | Linux (Ubuntu 12.04.4 LTS) / x86_64 | OK | WARNINGS | |
| moscato1 | Windows Server 2008 R2 Enterprise SP1 (64-bit) / x64 | N O T S U P P O R T E D |
| perceval | Mac OS X Snow Leopard (10.6.8) / x86_64 | OK | WARNINGS | OK |
CLL 1.2.15 Robert Gentleman
| Last Changed Rev: 2533 / Revision: 2768 | | Last Changed Date: 2013-10-14 15:00:20 -0700 |
| zin1 | Linux (Ubuntu 12.04.4 LTS) / x86_64 | OK | OK | |
| moscato1 | Windows Server 2008 R2 Enterprise SP1 (64-bit) / x64 | OK | OK | OK |
| perceval | Mac OS X Snow Leopard (10.6.8) / x86_64 | OK | OK | OK |
cMap2data 0.99.4 J. Saez-Rodriguez
| Last Changed Rev: 2557 / Revision: 2768 | | Last Changed Date: 2013-11-01 13:36:05 -0700 |
| zin1 | Linux (Ubuntu 12.04.4 LTS) / x86_64 | OK | OK | |
| moscato1 | Windows Server 2008 R2 Enterprise SP1 (64-bit) / x64 | OK | OK | OK |
| perceval | Mac OS X Snow Leopard (10.6.8) / x86_64 | OK | OK | OK |
cnvGSAdata 0.99.5 Robert Ziman
| Last Changed Rev: 2533 / Revision: 2768 | | Last Changed Date: 2013-10-14 15:00:20 -0700 |
| zin1 | Linux (Ubuntu 12.04.4 LTS) / x86_64 | OK | OK | |
| moscato1 | Windows Server 2008 R2 Enterprise SP1 (64-bit) / x64 | OK | OK | OK |
| perceval | Mac OS X Snow Leopard (10.6.8) / x86_64 | OK | OK | OK |
colonCA 1.4.12 W Sylvia Merk
| Last Changed Rev: 2533 / Revision: 2768 | | Last Changed Date: 2013-10-14 15:00:20 -0700 |
| zin1 | Linux (Ubuntu 12.04.4 LTS) / x86_64 | OK | WARNINGS | |
| moscato1 | Windows Server 2008 R2 Enterprise SP1 (64-bit) / x64 | OK | WARNINGS | OK |
| perceval | Mac OS X Snow Leopard (10.6.8) / x86_64 | OK | WARNINGS | OK |
ConnectivityMap 0.99.11 Paul Shannon
| Last Changed Rev: 2533 / Revision: 2768 | | Last Changed Date: 2013-10-14 15:00:20 -0700 |
| zin1 | Linux (Ubuntu 12.04.4 LTS) / x86_64 | OK | OK | |
| moscato1 | Windows Server 2008 R2 Enterprise SP1 (64-bit) / x64 | OK | OK | OK |
| perceval | Mac OS X Snow Leopard (10.6.8) / x86_64 | OK | OK | OK |
curatedBladderData 0.99.2 Markus Riester
| Last Changed Rev: 2557 / Revision: 2768 | | Last Changed Date: 2013-11-01 13:36:05 -0700 |
| zin1 | Linux (Ubuntu 12.04.4 LTS) / x86_64 | OK | OK | |
| moscato1 | Windows Server 2008 R2 Enterprise SP1 (64-bit) / x64 | OK | OK | OK |
| perceval | Mac OS X Snow Leopard (10.6.8) / x86_64 | OK | OK | OK |
curatedOvarianData 1.0.5 Levi Waldron
| Last Changed Rev: 2557 / Revision: 2768 | | Last Changed Date: 2013-11-01 13:36:05 -0700 |
| zin1 | Linux (Ubuntu 12.04.4 LTS) / x86_64 | OK | OK | |
| moscato1 | Windows Server 2008 R2 Enterprise SP1 (64-bit) / x64 | OK | OK | OK |
| perceval | Mac OS X Snow Leopard (10.6.8) / x86_64 | OK | OK | OK |
davidTiling 1.2.19 Wolfgang Huber
| Last Changed Rev: 2557 / Revision: 2768 | | Last Changed Date: 2013-11-01 13:36:05 -0700 |
| zin1 | Linux (Ubuntu 12.04.4 LTS) / x86_64 | OK | OK | |
| moscato1 | Windows Server 2008 R2 Enterprise SP1 (64-bit) / x64 | OK | OK | OK |
| perceval | Mac OS X Snow Leopard (10.6.8) / x86_64 | OK | OK | OK |
DeSousa2013 0.99.3 Xin Wang
| Last Changed Rev: 2557 / Revision: 2768 | | Last Changed Date: 2013-11-01 13:36:05 -0700 |
| zin1 | Linux (Ubuntu 12.04.4 LTS) / x86_64 | OK | OK | |
| moscato1 | Windows Server 2008 R2 Enterprise SP1 (64-bit) / x64 | OK | OK | OK |
| perceval | Mac OS X Snow Leopard (10.6.8) / x86_64 | OK | OK | OK |
DLBCL 1.3.7 Marcus Dittrich
| Last Changed Rev: 2533 / Revision: 2768 | | Last Changed Date: 2013-10-14 15:00:20 -0700 |
| zin1 | Linux (Ubuntu 12.04.4 LTS) / x86_64 | OK | WARNINGS | |
| moscato1 | Windows Server 2008 R2 Enterprise SP1 (64-bit) / x64 | OK | WARNINGS | OK |
| perceval | Mac OS X Snow Leopard (10.6.8) / x86_64 | OK | WARNINGS | OK |
DonaPLLP2013 1.1.6 Joseph D. Barry
| Last Changed Rev: 2533 / Revision: 2768 | | Last Changed Date: 2013-10-14 15:00:20 -0700 |
| zin1 | Linux (Ubuntu 12.04.4 LTS) / x86_64 | OK | OK | |
| moscato1 | Windows Server 2008 R2 Enterprise SP1 (64-bit) / x64 | OK | OK | OK |
| perceval | Mac OS X Snow Leopard (10.6.8) / x86_64 | OK | OK | OK |
DREAM4 0.99.18 Paul Shannon
| Last Changed Rev: 2533 / Revision: 2768 | | Last Changed Date: 2013-10-14 15:00:20 -0700 |
| zin1 | Linux (Ubuntu 12.04.4 LTS) / x86_64 | OK | OK | |
| moscato1 | Windows Server 2008 R2 Enterprise SP1 (64-bit) / x64 | OK | OK | OK |
| perceval | Mac OS X Snow Leopard (10.6.8) / x86_64 | OK | OK | OK |
dressCheck 0.1.9 Vincent Carey
| Last Changed Rev: 2557 / Revision: 2768 | | Last Changed Date: 2013-11-01 13:36:05 -0700 |
| zin1 | Linux (Ubuntu 12.04.4 LTS) / x86_64 | OK | OK | |
| moscato1 | Windows Server 2008 R2 Enterprise SP1 (64-bit) / x64 | OK | OK | OK |
| perceval | Mac OS X Snow Leopard (10.6.8) / x86_64 | OK | OK | OK |
DrugVsDiseasedata 0.99.6 J. Saez-Rodriguez
| Last Changed Rev: 2557 / Revision: 2768 | | Last Changed Date: 2013-11-01 13:36:05 -0700 |
| zin1 | Linux (Ubuntu 12.04.4 LTS) / x86_64 | OK | OK | |
| moscato1 | Windows Server 2008 R2 Enterprise SP1 (64-bit) / x64 | OK | OK | OK |
| perceval | Mac OS X Snow Leopard (10.6.8) / x86_64 | OK | OK | OK |
dsQTL 0.0.24 VJ Carey
| Last Changed Rev: 2533 / Revision: 2768 | | Last Changed Date: 2013-10-14 15:00:20 -0700 |
| zin1 | Linux (Ubuntu 12.04.4 LTS) / x86_64 | OK | OK | |
| moscato1 | Windows Server 2008 R2 Enterprise SP1 (64-bit) / x64 | OK | OK | OK |
| perceval | Mac OS X Snow Leopard (10.6.8) / x86_64 | OK | OK | OK |
DvDdata 0.99.3 J. Saez-Rodriguez
| Last Changed Rev: 2557 / Revision: 2768 | | Last Changed Date: 2013-11-01 13:36:05 -0700 |
| zin1 | Linux (Ubuntu 12.04.4 LTS) / x86_64 | OK | OK | |
| moscato1 | Windows Server 2008 R2 Enterprise SP1 (64-bit) / x64 | OK | OK | OK |
| perceval | Mac OS X Snow Leopard (10.6.8) / x86_64 | OK | OK | OK |
dyebiasexamples 1.0.12 Philip Lijnzaad
| Last Changed Rev: 2557 / Revision: 2768 | | Last Changed Date: 2013-11-01 13:36:05 -0700 |
| zin1 | Linux (Ubuntu 12.04.4 LTS) / x86_64 | OK | WARNINGS | |
| moscato1 | Windows Server 2008 R2 Enterprise SP1 (64-bit) / x64 | OK | WARNINGS | OK |
| perceval | Mac OS X Snow Leopard (10.6.8) / x86_64 | OK | WARNINGS | OK |
EatonEtAlChIPseq 0.0.10 Patrick Aboyoun
| Last Changed Rev: 2533 / Revision: 2768 | | Last Changed Date: 2013-10-14 15:00:20 -0700 |
| zin1 | Linux (Ubuntu 12.04.4 LTS) / x86_64 | OK | OK | |
| moscato1 | Windows Server 2008 R2 Enterprise SP1 (64-bit) / x64 | OK | OK | OK |
| perceval | Mac OS X Snow Leopard (10.6.8) / x86_64 | OK | OK | OK |
ecoliLeucine 1.2.11 Laurent Gautier
| Last Changed Rev: 2533 / Revision: 2768 | | Last Changed Date: 2013-10-14 15:00:20 -0700 |
| zin1 | Linux (Ubuntu 12.04.4 LTS) / x86_64 | OK | WARNINGS | |
| moscato1 | Windows Server 2008 R2 Enterprise SP1 (64-bit) / x64 | OK | WARNINGS | OK |
| perceval | Mac OS X Snow Leopard (10.6.8) / x86_64 | OK | WARNINGS | OK |
encoDnaseI 0.1.18 VJ Carey
| Last Changed Rev: 2557 / Revision: 2768 | | Last Changed Date: 2013-11-01 13:36:05 -0700 |
| zin1 | Linux (Ubuntu 12.04.4 LTS) / x86_64 | OK | OK | |
| moscato1 | Windows Server 2008 R2 Enterprise SP1 (64-bit) / x64 | OK | OK | OK |
| perceval | Mac OS X Snow Leopard (10.6.8) / x86_64 | OK | OK | OK |
estrogen 1.8.12 R. Gentleman
| Last Changed Rev: 2557 / Revision: 2768 | | Last Changed Date: 2013-11-01 13:36:05 -0700 |
| zin1 | Linux (Ubuntu 12.04.4 LTS) / x86_64 | OK | OK | |
| moscato1 | Windows Server 2008 R2 Enterprise SP1 (64-bit) / x64 | OK | OK | OK |
| perceval | Mac OS X Snow Leopard (10.6.8) / x86_64 | OK | OK | OK |
faahKO 1.2.16 Colin A. Smith
| Last Changed Rev: 2533 / Revision: 2768 | | Last Changed Date: 2013-10-14 15:00:20 -0700 |
| zin1 | Linux (Ubuntu 12.04.4 LTS) / x86_64 | OK | WARNINGS | |
| moscato1 | Windows Server 2008 R2 Enterprise SP1 (64-bit) / x64 | OK | WARNINGS | OK |
| perceval | Mac OS X Snow Leopard (10.6.8) / x86_64 | OK | WARNINGS | OK |
fabiaData 1.0.3 Sepp Hochreiter
| Last Changed Rev: 2533 / Revision: 2768 | | Last Changed Date: 2013-10-14 15:00:20 -0700 |
| zin1 | Linux (Ubuntu 12.04.4 LTS) / x86_64 | OK | OK | |
| moscato1 | Windows Server 2008 R2 Enterprise SP1 (64-bit) / x64 | OK | OK | OK |
| perceval | Mac OS X Snow Leopard (10.6.8) / x86_64 | OK | OK | OK |
facsDorit 1.4.9 Florian Hahne
| Last Changed Rev: 2557 / Revision: 2768 | | Last Changed Date: 2013-11-01 13:36:05 -0700 |
| zin1 | Linux (Ubuntu 12.04.4 LTS) / x86_64 | OK | OK | |
| moscato1 | Windows Server 2008 R2 Enterprise SP1 (64-bit) / x64 | OK | OK | OK |
| perceval | Mac OS X Snow Leopard (10.6.8) / x86_64 | OK | OK | OK |
FANTOM3and4CAGE 0.99.3 Vanja Haberle
| Last Changed Rev: 2557 / Revision: 2768 | | Last Changed Date: 2013-11-01 13:36:05 -0700 |
| zin1 | Linux (Ubuntu 12.04.4 LTS) / x86_64 | OK | OK | |
| moscato1 | Windows Server 2008 R2 Enterprise SP1 (64-bit) / x64 | OK | OK | OK |
| perceval | Mac OS X Snow Leopard (10.6.8) / x86_64 | OK | OK | OK |
ffpeExampleData 1.0.4 Levi Waldron
| Last Changed Rev: 2533 / Revision: 2768 | | Last Changed Date: 2013-10-14 15:00:20 -0700 |
| zin1 | Linux (Ubuntu 12.04.4 LTS) / x86_64 | OK | OK | |
| moscato1 | Windows Server 2008 R2 Enterprise SP1 (64-bit) / x64 | OK | OK | OK |
| perceval | Mac OS X Snow Leopard (10.6.8) / x86_64 | OK | OK | OK |
fibroEset 1.4.10 Sylvia Merk
| Last Changed Rev: 2533 / Revision: 2768 | | Last Changed Date: 2013-10-14 15:00:20 -0700 |
| zin1 | Linux (Ubuntu 12.04.4 LTS) / x86_64 | OK | WARNINGS | |
| moscato1 | Windows Server 2008 R2 Enterprise SP1 (64-bit) / x64 | OK | WARNINGS | OK |
| perceval | Mac OS X Snow Leopard (10.6.8) / x86_64 | OK | WARNINGS | OK |
Fletcher2013a 0.99.3 Mauro Castro
| Last Changed Rev: 2557 / Revision: 2768 | | Last Changed Date: 2013-11-01 13:36:05 -0700 |
| zin1 | Linux (Ubuntu 12.04.4 LTS) / x86_64 | OK | OK | |
| moscato1 | Windows Server 2008 R2 Enterprise SP1 (64-bit) / x64 | OK | OK | OK |
| perceval | Mac OS X Snow Leopard (10.6.8) / x86_64 | OK | OK | OK |
Fletcher2013b 0.99.3 Mauro Castro
| Last Changed Rev: 2557 / Revision: 2768 | | Last Changed Date: 2013-11-01 13:36:05 -0700 |
| zin1 | Linux (Ubuntu 12.04.4 LTS) / x86_64 | OK | OK | |
| moscato1 | Windows Server 2008 R2 Enterprise SP1 (64-bit) / x64 | OK | OK | OK |
| perceval | Mac OS X Snow Leopard (10.6.8) / x86_64 | OK | OK | OK |
flowFitExampleData 0.99.2 Davide Rambaldi
| Last Changed Rev: 2557 / Revision: 2768 | | Last Changed Date: 2013-11-01 13:36:05 -0700 |
| zin1 | Linux (Ubuntu 12.04.4 LTS) / x86_64 | OK | OK | |
| moscato1 | Windows Server 2008 R2 Enterprise SP1 (64-bit) / x64 | OK | OK | OK |
| perceval | Mac OS X Snow Leopard (10.6.8) / x86_64 | OK | OK | OK |
FlowSorted.Blood.450k 1.0.2 Andrew E Jaffe
| Last Changed Rev: 2541 / Revision: 2768 | | Last Changed Date: 2013-10-19 17:49:47 -0700 |
| zin1 | Linux (Ubuntu 12.04.4 LTS) / x86_64 | OK | OK | |
| moscato1 | Windows Server 2008 R2 Enterprise SP1 (64-bit) / x64 | OK | OK | OK |
| perceval | Mac OS X Snow Leopard (10.6.8) / x86_64 | OK | OK | OK |
flowWorkspaceData 2.0.0 Mike Jiang
| Last Changed Rev: 2673 / Revision: 2768 | | Last Changed Date: 2014-01-10 15:31:14 -0800 |
| zin1 | Linux (Ubuntu 12.04.4 LTS) / x86_64 | OK | OK | |
| moscato1 | Windows Server 2008 R2 Enterprise SP1 (64-bit) / x64 | OK | OK | OK |
| perceval | Mac OS X Snow Leopard (10.6.8) / x86_64 | OK | OK | OK |
frmaExampleData 0.99.6 Matthew N. McCall
| Last Changed Rev: 2533 / Revision: 2768 | | Last Changed Date: 2013-10-14 15:00:20 -0700 |
| zin1 | Linux (Ubuntu 12.04.4 LTS) / x86_64 | OK | WARNINGS | |
| moscato1 | Windows Server 2008 R2 Enterprise SP1 (64-bit) / x64 | OK | WARNINGS | OK |
| perceval | Mac OS X Snow Leopard (10.6.8) / x86_64 | OK | WARNINGS | OK |
FunciSNP.data 0.99.4 Simon G. Coetzee
| Last Changed Rev: 2557 / Revision: 2768 | | Last Changed Date: 2013-11-01 13:36:05 -0700 |
| zin1 | Linux (Ubuntu 12.04.4 LTS) / x86_64 | OK | OK | |
| moscato1 | Windows Server 2008 R2 Enterprise SP1 (64-bit) / x64 | OK | OK | OK |
| perceval | Mac OS X Snow Leopard (10.6.8) / x86_64 | OK | OK | OK |
gageData 2.0.3 Weijun Luo
| Last Changed Rev: 2533 / Revision: 2768 | | Last Changed Date: 2013-10-14 15:00:20 -0700 |
| zin1 | Linux (Ubuntu 12.04.4 LTS) / x86_64 | OK | OK | |
| moscato1 | Windows Server 2008 R2 Enterprise SP1 (64-bit) / x64 | OK | OK | OK |
| perceval | Mac OS X Snow Leopard (10.6.8) / x86_64 | OK | OK | OK |
gaschYHS 1.0.12 Vince Carey
| Last Changed Rev: 2533 / Revision: 2768 | | Last Changed Date: 2013-10-14 15:00:20 -0700 |
| zin1 | Linux (Ubuntu 12.04.4 LTS) / x86_64 | OK | OK | |
| moscato1 | Windows Server 2008 R2 Enterprise SP1 (64-bit) / x64 | OK | OK | OK |
| perceval | Mac OS X Snow Leopard (10.6.8) / x86_64 | OK | OK | OK |
gatingMLData 2.1.4 J. Spidlen
| Last Changed Rev: 2638 / Revision: 2768 | | Last Changed Date: 2013-12-09 11:55:06 -0800 |
| zin1 | Linux (Ubuntu 12.04.4 LTS) / x86_64 | OK | OK | |
| moscato1 | Windows Server 2008 R2 Enterprise SP1 (64-bit) / x64 | OK | OK | OK |
| perceval | Mac OS X Snow Leopard (10.6.8) / x86_64 | OK | OK | OK |
gcspikelite 1.0.10 Mark Robinson
| Last Changed Rev: 2533 / Revision: 2768 | | Last Changed Date: 2013-10-14 15:00:20 -0700 |
| zin1 | Linux (Ubuntu 12.04.4 LTS) / x86_64 | OK | WARNINGS | |
| moscato1 | Windows Server 2008 R2 Enterprise SP1 (64-bit) / x64 | OK | WARNINGS | OK |
| perceval | Mac OS X Snow Leopard (10.6.8) / x86_64 | OK | WARNINGS | OK |
geneLenDataBase 0.99.12 Matthew Young , Nadia Davidson
| Last Changed Rev: 2533 / Revision: 2768 | | Last Changed Date: 2013-10-14 15:00:20 -0700 |
| zin1 | Linux (Ubuntu 12.04.4 LTS) / x86_64 | OK | WARNINGS | |
| moscato1 | Windows Server 2008 R2 Enterprise SP1 (64-bit) / x64 | OK | WARNINGS | OK |
| perceval | Mac OS X Snow Leopard (10.6.8) / x86_64 | OK | WARNINGS | OK |
GGdata 1.0.22 VJ Carey
| Last Changed Rev: 2533 / Revision: 2768 | | Last Changed Date: 2013-10-14 15:00:20 -0700 |
| zin1 | Linux (Ubuntu 12.04.4 LTS) / x86_64 | OK | OK | |
| moscato1 | Windows Server 2008 R2 Enterprise SP1 (64-bit) / x64 | OK | OK | OK |
| perceval | Mac OS X Snow Leopard (10.6.8) / x86_64 | OK | OK | OK |
ggtut 0.0.46 VJ Carey
| Last Changed Rev: 2557 / Revision: 2768 | | Last Changed Date: 2013-11-01 13:36:05 -0700 |
| zin1 | Linux (Ubuntu 12.04.4 LTS) / x86_64 | OK | OK | |
| moscato1 | Windows Server 2008 R2 Enterprise SP1 (64-bit) / x64 | OK | OK | OK |
| perceval | Mac OS X Snow Leopard (10.6.8) / x86_64 | OK | OK | OK |
golubEsets 1.4.14 Vince Carey
| Last Changed Rev: 2533 / Revision: 2768 | | Last Changed Date: 2013-10-14 15:00:20 -0700 |
| zin1 | Linux (Ubuntu 12.04.4 LTS) / x86_64 | OK | OK | |
| moscato1 | Windows Server 2008 R2 Enterprise SP1 (64-bit) / x64 | OK | OK | OK |
| perceval | Mac OS X Snow Leopard (10.6.8) / x86_64 | OK | OK | OK |
GSVAdata 0.99.11 Robert Castelo
| Last Changed Rev: 2533 / Revision: 2768 | | Last Changed Date: 2013-10-14 15:00:20 -0700 |
| zin1 | Linux (Ubuntu 12.04.4 LTS) / x86_64 | OK | OK | |
| moscato1 | Windows Server 2008 R2 Enterprise SP1 (64-bit) / x64 | OK | OK | OK |
| perceval | Mac OS X Snow Leopard (10.6.8) / x86_64 | OK | OK | OK |
GWASdata 1.0.10 Stephanie Gogarten , Adrienne Stilp
| Last Changed Rev: 2533 / Revision: 2768 | | Last Changed Date: 2013-10-14 15:00:20 -0700 |
| zin1 | Linux (Ubuntu 12.04.4 LTS) / x86_64 | OK | OK | |
| moscato1 | Windows Server 2008 R2 Enterprise SP1 (64-bit) / x64 | OK | OK | OK |
| perceval | Mac OS X Snow Leopard (10.6.8) / x86_64 | OK | OK | OK |
h5vcData 1.0.0 Paul Theodor Pyl
| Last Changed Rev: 2535 / Revision: 2768 | | Last Changed Date: 2013-10-15 23:04:00 -0700 |
| zin1 | Linux (Ubuntu 12.04.4 LTS) / x86_64 | OK | OK | |
| moscato1 | Windows Server 2008 R2 Enterprise SP1 (64-bit) / x64 | OK | OK | OK |
| perceval | Mac OS X Snow Leopard (10.6.8) / x86_64 | OK | OK | OK |
hapmap100khind 1.4.3 Benilton Carvalho
| Last Changed Rev: 2533 / Revision: 2768 | | Last Changed Date: 2013-10-14 15:00:20 -0700 |
| zin1 | Linux (Ubuntu 12.04.4 LTS) / x86_64 | OK | OK | |
| moscato1 | Windows Server 2008 R2 Enterprise SP1 (64-bit) / x64 | OK | OK | OK |
| perceval | Mac OS X Snow Leopard (10.6.8) / x86_64 | OK | OK | OK |
hapmap100kxba 1.4.3 Benilton Carvalho
| Last Changed Rev: 2533 / Revision: 2768 | | Last Changed Date: 2013-10-14 15:00:20 -0700 |
| zin1 | Linux (Ubuntu 12.04.4 LTS) / x86_64 | OK | OK | |
| moscato1 | Windows Server 2008 R2 Enterprise SP1 (64-bit) / x64 | OK | OK | OK |
| perceval | Mac OS X Snow Leopard (10.6.8) / x86_64 | OK | OK | OK |
hapmap500knsp 1.4.3 Benilton Carvalho
| Last Changed Rev: 2533 / Revision: 2768 | | Last Changed Date: 2013-10-14 15:00:20 -0700 |
| zin1 | Linux (Ubuntu 12.04.4 LTS) / x86_64 | OK | OK | |
| moscato1 | Windows Server 2008 R2 Enterprise SP1 (64-bit) / x64 | OK | OK | OK |
| perceval | Mac OS X Snow Leopard (10.6.8) / x86_64 | OK | OK | OK |
hapmap500ksty 1.4.3 Benilton Carvalho
| Last Changed Rev: 2533 / Revision: 2768 | | Last Changed Date: 2013-10-14 15:00:20 -0700 |
| zin1 | Linux (Ubuntu 12.04.4 LTS) / x86_64 | OK | OK | |
| moscato1 | Windows Server 2008 R2 Enterprise SP1 (64-bit) / x64 | OK | OK | OK |
| perceval | Mac OS X Snow Leopard (10.6.8) / x86_64 | OK | OK | OK |
hapmapsnp5 1.4.3 Benilton Carvalho
| Last Changed Rev: 2533 / Revision: 2768 | | Last Changed Date: 2013-10-14 15:00:20 -0700 |
| zin1 | Linux (Ubuntu 12.04.4 LTS) / x86_64 | OK | OK | |
| moscato1 | Windows Server 2008 R2 Enterprise SP1 (64-bit) / x64 | OK | OK | OK |
| perceval | Mac OS X Snow Leopard (10.6.8) / x86_64 | OK | OK | OK |
hapmapsnp6 1.4.3 Benilton Carvalho
| Last Changed Rev: 2533 / Revision: 2768 | | Last Changed Date: 2013-10-14 15:00:20 -0700 |
| zin1 | Linux (Ubuntu 12.04.4 LTS) / x86_64 | OK | OK | |
| moscato1 | Windows Server 2008 R2 Enterprise SP1 (64-bit) / x64 | OK | OK | OK |
| perceval | Mac OS X Snow Leopard (10.6.8) / x86_64 | OK | OK | OK |
harbChIP 1.0.12 VJ Carey
| Last Changed Rev: 2557 / Revision: 2768 | | Last Changed Date: 2013-11-01 13:36:05 -0700 |
| zin1 | Linux (Ubuntu 12.04.4 LTS) / x86_64 | OK | OK | |
| moscato1 | Windows Server 2008 R2 Enterprise SP1 (64-bit) / x64 | OK | OK | OK |
| perceval | Mac OS X Snow Leopard (10.6.8) / x86_64 | OK | OK | OK |
HD2013SGI 1.2.1 Bernd Fischer
| Last Changed Rev: 2684 / Revision: 2768 | | Last Changed Date: 2014-02-10 09:20:46 -0800 |
| zin1 | Linux (Ubuntu 12.04.4 LTS) / x86_64 | OK | OK | |
| moscato1 | Windows Server 2008 R2 Enterprise SP1 (64-bit) / x64 | OK | OK | OK |
| perceval | Mac OS X Snow Leopard (10.6.8) / x86_64 | OK | OK | OK |
HEEBOdata 1.0.6 Agnes Paquet
| Last Changed Rev: 2533 / Revision: 2768 | | Last Changed Date: 2013-10-14 15:00:20 -0700 |
| zin1 | Linux (Ubuntu 12.04.4 LTS) / x86_64 | OK | WARNINGS | |
| moscato1 | Windows Server 2008 R2 Enterprise SP1 (64-bit) / x64 | OK | WARNINGS | OK |
| perceval | Mac OS X Snow Leopard (10.6.8) / x86_64 | OK | WARNINGS | OK |
hgu133abarcodevecs 1.0.7 Matthew N. McCall
| Last Changed Rev: 2533 / Revision: 2768 | | Last Changed Date: 2013-10-14 15:00:20 -0700 |
| zin1 | Linux (Ubuntu 12.04.4 LTS) / x86_64 | OK | OK | |
| moscato1 | Windows Server 2008 R2 Enterprise SP1 (64-bit) / x64 | OK | OK | OK |
| perceval | Mac OS X Snow Leopard (10.6.8) / x86_64 | OK | OK | OK |
hgu133plus2barcodevecs 1.0.7 Matthew N. McCall
| Last Changed Rev: 2533 / Revision: 2768 | | Last Changed Date: 2013-10-14 15:00:20 -0700 |
| zin1 | Linux (Ubuntu 12.04.4 LTS) / x86_64 | OK | OK | |
| moscato1 | Windows Server 2008 R2 Enterprise SP1 (64-bit) / x64 | OK | OK | OK |
| perceval | Mac OS X Snow Leopard (10.6.8) / x86_64 | OK | OK | OK |
hgu2beta7 1.2.9 Bioconductor Package Maintainer
| Last Changed Rev: 2533 / Revision: 2768 | | Last Changed Date: 2013-10-14 15:00:20 -0700 |
| zin1 | Linux (Ubuntu 12.04.4 LTS) / x86_64 | OK | WARNINGS | |
| moscato1 | Windows Server 2008 R2 Enterprise SP1 (64-bit) / x64 | OK | WARNINGS | OK |
| perceval | Mac OS X Snow Leopard (10.6.8) / x86_64 | OK | WARNINGS | OK |
Hiiragi2013 0.99.14 Andrzej Oles
| Last Changed Rev: 2626 / Revision: 2768 | | Last Changed Date: 2013-12-03 05:23:45 -0800 |
| zin1 | Linux (Ubuntu 12.04.4 LTS) / x86_64 | OK | OK | |
| moscato1 | Windows Server 2008 R2 Enterprise SP1 (64-bit) / x64 | OK | OK | OK |
| perceval | Mac OS X Snow Leopard (10.6.8) / x86_64 | OK | OK | OK |
HIVcDNAvantWout03 1.2.10 Chris Fraley
| Last Changed Rev: 2557 / Revision: 2768 | | Last Changed Date: 2013-11-01 13:36:05 -0700 |
| zin1 | Linux (Ubuntu 12.04.4 LTS) / x86_64 | OK | WARNINGS | |
| moscato1 | Windows Server 2008 R2 Enterprise SP1 (64-bit) / x64 | OK | WARNINGS | OK |
| perceval | Mac OS X Snow Leopard (10.6.8) / x86_64 | OK | WARNINGS | OK |
hmyriB36 0.99.18 Vincent Carey
| Last Changed Rev: 2533 / Revision: 2768 | | Last Changed Date: 2013-10-14 15:00:20 -0700 |
| zin1 | Linux (Ubuntu 12.04.4 LTS) / x86_64 | OK | OK | |
| moscato1 | Windows Server 2008 R2 Enterprise SP1 (64-bit) / x64 | OK | OK | OK |
| perceval | Mac OS X Snow Leopard (10.6.8) / x86_64 | OK | OK | OK |
humanStemCell 0.2.9 R. Gentleman
| Last Changed Rev: 2533 / Revision: 2768 | | Last Changed Date: 2013-10-14 15:00:20 -0700 |
| zin1 | Linux (Ubuntu 12.04.4 LTS) / x86_64 | OK | WARNINGS | |
| moscato1 | Windows Server 2008 R2 Enterprise SP1 (64-bit) / x64 | OK | WARNINGS | OK |
| perceval | Mac OS X Snow Leopard (10.6.8) / x86_64 | OK | WARNINGS | OK |
Illumina450ProbeVariants.db 0.99.3 Morris, Tiffany
| Last Changed Rev: 2533 / Revision: 2768 | | Last Changed Date: 2013-10-14 15:00:20 -0700 |
| zin1 | Linux (Ubuntu 12.04.4 LTS) / x86_64 | OK | OK | |
| moscato1 | Windows Server 2008 R2 Enterprise SP1 (64-bit) / x64 | OK | OK | OK |
| perceval | Mac OS X Snow Leopard (10.6.8) / x86_64 | OK | OK | OK |
IlluminaDataTestFiles 1.0.2 Kasper Daniel Hansen
| Last Changed Rev: 2577 / Revision: 2768 | | Last Changed Date: 2013-11-07 20:14:16 -0800 |
| zin1 | Linux (Ubuntu 12.04.4 LTS) / x86_64 | OK | OK | |
| moscato1 | Windows Server 2008 R2 Enterprise SP1 (64-bit) / x64 | OK | OK | OK |
| perceval | Mac OS X Snow Leopard (10.6.8) / x86_64 | OK | OK | OK |
ind1KG 0.1.17 VJ Carey
| Last Changed Rev: 2557 / Revision: 2768 | | Last Changed Date: 2013-11-01 13:36:05 -0700 |
| zin1 | Linux (Ubuntu 12.04.4 LTS) / x86_64 | OK | OK | |
| moscato1 | Windows Server 2008 R2 Enterprise SP1 (64-bit) / x64 | OK | OK | OK |
| perceval | Mac OS X Snow Leopard (10.6.8) / x86_64 | OK | OK | OK |
iontreeData 0.99.9 Mingshu Cao
| Last Changed Rev: 2533 / Revision: 2768 | | Last Changed Date: 2013-10-14 15:00:20 -0700 |
| zin1 | Linux (Ubuntu 12.04.4 LTS) / x86_64 | OK | WARNINGS | |
| moscato1 | Windows Server 2008 R2 Enterprise SP1 (64-bit) / x64 | OK | WARNINGS | OK |
| perceval | Mac OS X Snow Leopard (10.6.8) / x86_64 | OK | WARNINGS | OK |
ITALICSData 2.0.8 Guillem Rigaill
| Last Changed Rev: 2533 / Revision: 2768 | | Last Changed Date: 2013-10-14 15:00:20 -0700 |
| zin1 | Linux (Ubuntu 12.04.4 LTS) / x86_64 | OK | WARNINGS | |
| moscato1 | Windows Server 2008 R2 Enterprise SP1 (64-bit) / x64 | OK | WARNINGS | OK |
| perceval | Mac OS X Snow Leopard (10.6.8) / x86_64 | OK | WARNINGS | OK |
Iyer517 1.4.14 Vince Carey
| Last Changed Rev: 2557 / Revision: 2768 | | Last Changed Date: 2013-11-01 13:36:05 -0700 |
| zin1 | Linux (Ubuntu 12.04.4 LTS) / x86_64 | OK | OK | |
| moscato1 | Windows Server 2008 R2 Enterprise SP1 (64-bit) / x64 | OK | OK | OK |
| perceval | Mac OS X Snow Leopard (10.6.8) / x86_64 | OK | OK | OK |
JASPAR2014 0.99.3 Ge Tan
| Last Changed Rev: 2533 / Revision: 2768 | | Last Changed Date: 2013-10-14 15:00:20 -0700 |
| zin1 | Linux (Ubuntu 12.04.4 LTS) / x86_64 | OK | OK | |
| moscato1 | Windows Server 2008 R2 Enterprise SP1 (64-bit) / x64 | OK | OK | OK |
| perceval | Mac OS X Snow Leopard (10.6.8) / x86_64 | OK | OK | OK |
KEGGdzPathwaysGEO 1.1.3 Gaurav Bhatti
| Last Changed Rev: 2533 / Revision: 2768 | | Last Changed Date: 2013-10-14 15:00:20 -0700 |
| zin1 | Linux (Ubuntu 12.04.4 LTS) / x86_64 | OK | OK | |
| moscato1 | Windows Server 2008 R2 Enterprise SP1 (64-bit) / x64 | OK | OK | OK |
| perceval | Mac OS X Snow Leopard (10.6.8) / x86_64 | OK | OK | OK |
kidpack 1.5.14 Wolfgang Huber
| Last Changed Rev: 2557 / Revision: 2768 | | Last Changed Date: 2013-11-01 13:36:05 -0700 |
| zin1 | Linux (Ubuntu 12.04.4 LTS) / x86_64 | OK | WARNINGS | |
| moscato1 | Windows Server 2008 R2 Enterprise SP1 (64-bit) / x64 | OK | WARNINGS | OK |
| perceval | Mac OS X Snow Leopard (10.6.8) / x86_64 | OK | WARNINGS | OK |
leeBamViews 0.99.24 VJ Carey
| Last Changed Rev: 2558 / Revision: 2768 | | Last Changed Date: 2013-11-01 14:04:26 -0700 |
| zin1 | Linux (Ubuntu 12.04.4 LTS) / x86_64 | OK | OK | |
| moscato1 | Windows Server 2008 R2 Enterprise SP1 (64-bit) / x64 | OK | OK | OK |
| perceval | Mac OS X Snow Leopard (10.6.8) / x86_64 | OK | OK | OK |
leukemiasEset 0.99.4 Sara Aibar
| Last Changed Rev: 2533 / Revision: 2768 | | Last Changed Date: 2013-10-14 15:00:20 -0700 |
| zin1 | Linux (Ubuntu 12.04.4 LTS) / x86_64 | OK | OK | |
| moscato1 | Windows Server 2008 R2 Enterprise SP1 (64-bit) / x64 | OK | OK | OK |
| perceval | Mac OS X Snow Leopard (10.6.8) / x86_64 | OK | OK | OK |
LiebermanAidenHiC2009 0.1.16 Felix Klein
| Last Changed Rev: 2557 / Revision: 2768 | | Last Changed Date: 2013-11-01 13:36:05 -0700 |
| zin1 | Linux (Ubuntu 12.04.4 LTS) / x86_64 | OK | WARNINGS | |
| moscato1 | Windows Server 2008 R2 Enterprise SP1 (64-bit) / x64 | OK | WARNINGS | OK |
| perceval | Mac OS X Snow Leopard (10.6.8) / x86_64 | OK | WARNINGS | OK |
lumiBarnes 1.3.11 Pan Du
| Last Changed Rev: 2533 / Revision: 2768 | | Last Changed Date: 2013-10-14 15:00:20 -0700 |
| zin1 | Linux (Ubuntu 12.04.4 LTS) / x86_64 | OK | WARNINGS | |
| moscato1 | Windows Server 2008 R2 Enterprise SP1 (64-bit) / x64 | OK | WARNINGS | OK |
| perceval | Mac OS X Snow Leopard (10.6.8) / x86_64 | OK | WARNINGS | OK |
LungCancerACvsSCCGEO 0.99.1 Adi Laurentiu Tarca
| Last Changed Rev: 2533 / Revision: 2768 | | Last Changed Date: 2013-10-14 15:00:20 -0700 |
| zin1 | Linux (Ubuntu 12.04.4 LTS) / x86_64 | OK | OK | |
| moscato1 | Windows Server 2008 R2 Enterprise SP1 (64-bit) / x64 | OK | OK | OK |
| perceval | Mac OS X Snow Leopard (10.6.8) / x86_64 | OK | OK | OK |
LungCancerLines 0.0.10 Cory Barr
| Last Changed Rev: 2596 / Revision: 2768 | | Last Changed Date: 2013-11-15 06:36:44 -0800 |
| zin1 | Linux (Ubuntu 12.04.4 LTS) / x86_64 | OK | OK | |
| moscato1 | Windows Server 2008 R2 Enterprise SP1 (64-bit) / x64 | OK | OK | OK |
| perceval | Mac OS X Snow Leopard (10.6.8) / x86_64 | OK | OK | OK |
lungExpression 0.0.16 Robert Scharpf
| Last Changed Rev: 2533 / Revision: 2768 | | Last Changed Date: 2013-10-14 15:00:20 -0700 |
| zin1 | Linux (Ubuntu 12.04.4 LTS) / x86_64 | OK | OK | |
| moscato1 | Windows Server 2008 R2 Enterprise SP1 (64-bit) / x64 | OK | OK | OK |
| perceval | Mac OS X Snow Leopard (10.6.8) / x86_64 | OK | OK | OK |
mammaPrintData 0.99.9 Luigi Marchionni
| Last Changed Rev: 2533 / Revision: 2768 | | Last Changed Date: 2013-10-14 15:00:20 -0700 |
| zin1 | Linux (Ubuntu 12.04.4 LTS) / x86_64 | OK | OK | |
| moscato1 | Windows Server 2008 R2 Enterprise SP1 (64-bit) / x64 | OK | OK | OK |
| perceval | Mac OS X Snow Leopard (10.6.8) / x86_64 | OK | OK | OK |
maqcExpression4plex 1.6.3 Benilton Carvalho
| Last Changed Rev: 2533 / Revision: 2768 | | Last Changed Date: 2013-10-14 15:00:20 -0700 |
| zin1 | Linux (Ubuntu 12.04.4 LTS) / x86_64 | OK | OK | |
| moscato1 | Windows Server 2008 R2 Enterprise SP1 (64-bit) / x64 | OK | OK | OK |
| perceval | Mac OS X Snow Leopard (10.6.8) / x86_64 | OK | OK | OK |
MAQCsubset 1.0.29 VJ Carey
| Last Changed Rev: 2557 / Revision: 2768 | | Last Changed Date: 2013-11-01 13:36:05 -0700 |
| zin1 | Linux (Ubuntu 12.04.4 LTS) / x86_64 | OK | OK | |
| moscato1 | Windows Server 2008 R2 Enterprise SP1 (64-bit) / x64 | OK | OK | OK |
| perceval | Mac OS X Snow Leopard (10.6.8) / x86_64 | OK | OK | OK |
MAQCsubsetAFX 1.0.13 Laurent Gatto
| Last Changed Rev: 2557 / Revision: 2768 | | Last Changed Date: 2013-11-01 13:36:05 -0700 |
| zin1 | Linux (Ubuntu 12.04.4 LTS) / x86_64 | OK | OK | |
| moscato1 | Windows Server 2008 R2 Enterprise SP1 (64-bit) / x64 | OK | OK | OK |
| perceval | Mac OS X Snow Leopard (10.6.8) / x86_64 | OK | OK | OK |
MAQCsubsetILM 1.0.12 Laurent Gatto
| Last Changed Rev: 2557 / Revision: 2768 | | Last Changed Date: 2013-11-01 13:36:05 -0700 |
| zin1 | Linux (Ubuntu 12.04.4 LTS) / x86_64 | OK | OK | |
| moscato1 | Windows Server 2008 R2 Enterprise SP1 (64-bit) / x64 | OK | OK | OK |
| perceval | Mac OS X Snow Leopard (10.6.8) / x86_64 | OK | OK | OK |
MEDIPSData 0.99.5 Lukas Chavez
| Last Changed Rev: 2533 / Revision: 2768 | | Last Changed Date: 2013-10-14 15:00:20 -0700 |
| zin1 | Linux (Ubuntu 12.04.4 LTS) / x86_64 | OK | OK | |
| moscato1 | Windows Server 2008 R2 Enterprise SP1 (64-bit) / x64 | OK | OK | OK |
| perceval | Mac OS X Snow Leopard (10.6.8) / x86_64 | OK | OK | OK |
MEEBOdata 1.0.6 Agnes Paquet
| Last Changed Rev: 2533 / Revision: 2768 | | Last Changed Date: 2013-10-14 15:00:20 -0700 |
| zin1 | Linux (Ubuntu 12.04.4 LTS) / x86_64 | OK | WARNINGS | |
| moscato1 | Windows Server 2008 R2 Enterprise SP1 (64-bit) / x64 | OK | WARNINGS | OK |
| perceval | Mac OS X Snow Leopard (10.6.8) / x86_64 | OK | WARNINGS | OK |
minfiData 0.4.2 Kasper Daniel Hansen
| Last Changed Rev: 2533 / Revision: 2768 | | Last Changed Date: 2013-10-14 15:00:20 -0700 |
| zin1 | Linux (Ubuntu 12.04.4 LTS) / x86_64 | OK | OK | |
| moscato1 | Windows Server 2008 R2 Enterprise SP1 (64-bit) / x64 | OK | OK | OK |
| perceval | Mac OS X Snow Leopard (10.6.8) / x86_64 | OK | OK | OK |
miRNATarget 1.1.2 Y-h. Taguchi
| Last Changed Rev: 2651 / Revision: 2768 | | Last Changed Date: 2013-12-19 10:09:46 -0800 |
| zin1 | Linux (Ubuntu 12.04.4 LTS) / x86_64 | OK | OK | |
| moscato1 | Windows Server 2008 R2 Enterprise SP1 (64-bit) / x64 | OK | OK | OK |
| perceval | Mac OS X Snow Leopard (10.6.8) / x86_64 | OK | OK | OK |
mitoODEdata 0.99.6 Gregoire Pau
| Last Changed Rev: 2557 / Revision: 2768 | | Last Changed Date: 2013-11-01 13:36:05 -0700 |
| zin1 | Linux (Ubuntu 12.04.4 LTS) / x86_64 | OK | OK | |
| moscato1 | Windows Server 2008 R2 Enterprise SP1 (64-bit) / x64 | OK | OK | OK |
| perceval | Mac OS X Snow Leopard (10.6.8) / x86_64 | OK | OK | OK |
MMDiffBamSubset 0.99.4 Gabriele Schweikert
| Last Changed Rev: 2533 / Revision: 2768 | | Last Changed Date: 2013-10-14 15:00:20 -0700 |
| zin1 | Linux (Ubuntu 12.04.4 LTS) / x86_64 | OK | OK | |
| moscato1 | Windows Server 2008 R2 Enterprise SP1 (64-bit) / x64 | OK | OK | OK |
| perceval | Mac OS X Snow Leopard (10.6.8) / x86_64 | OK | OK | OK |
mosaicsExample 0.99.9 Dongjun Chung
| Last Changed Rev: 2533 / Revision: 2768 | | Last Changed Date: 2013-10-14 15:00:20 -0700 |
| zin1 | Linux (Ubuntu 12.04.4 LTS) / x86_64 | OK | OK | |
| moscato1 | Windows Server 2008 R2 Enterprise SP1 (64-bit) / x64 | OK | OK | OK |
| perceval | Mac OS X Snow Leopard (10.6.8) / x86_64 | OK | OK | OK |
mouse4302barcodevecs 1.0.7 Matthew N. McCall
| Last Changed Rev: 2533 / Revision: 2768 | | Last Changed Date: 2013-10-14 15:00:20 -0700 |
| zin1 | Linux (Ubuntu 12.04.4 LTS) / x86_64 | OK | OK | |
| moscato1 | Windows Server 2008 R2 Enterprise SP1 (64-bit) / x64 | OK | OK | OK |
| perceval | Mac OS X Snow Leopard (10.6.8) / x86_64 | OK | OK | OK |
msdata 0.1.15 Steffen Neumann
| Last Changed Rev: 2533 / Revision: 2768 | | Last Changed Date: 2013-10-14 15:00:20 -0700 |
| zin1 | Linux (Ubuntu 12.04.4 LTS) / x86_64 | OK | WARNINGS | |
| moscato1 | Windows Server 2008 R2 Enterprise SP1 (64-bit) / x64 | OK | WARNINGS | OK |
| perceval | Mac OS X Snow Leopard (10.6.8) / x86_64 | OK | WARNINGS | OK |
Mulder2012 0.2.5 Xin Wang
| Last Changed Rev: 2557 / Revision: 2768 | | Last Changed Date: 2013-11-01 13:36:05 -0700 |
| zin1 | Linux (Ubuntu 12.04.4 LTS) / x86_64 | OK | OK | |
| moscato1 | Windows Server 2008 R2 Enterprise SP1 (64-bit) / x64 | OK | OK | OK |
| perceval | Mac OS X Snow Leopard (10.6.8) / x86_64 | OK | OK | OK |
mvoutData 0.99.11 VJ Carey
| Last Changed Rev: 2533 / Revision: 2768 | | Last Changed Date: 2013-10-14 15:00:20 -0700 |
| zin1 | Linux (Ubuntu 12.04.4 LTS) / x86_64 | OK | OK | |
| moscato1 | Windows Server 2008 R2 Enterprise SP1 (64-bit) / x64 | OK | OK | OK |
| perceval | Mac OS X Snow Leopard (10.6.8) / x86_64 | OK | OK | OK |
NCIgraphData 0.99.7 Laurent Jacob
| Last Changed Rev: 2533 / Revision: 2768 | | Last Changed Date: 2013-10-14 15:00:20 -0700 |
| zin1 | Linux (Ubuntu 12.04.4 LTS) / x86_64 | OK | WARNINGS | |
| moscato1 | Windows Server 2008 R2 Enterprise SP1 (64-bit) / x64 | OK | WARNINGS | OK |
| perceval | Mac OS X Snow Leopard (10.6.8) / x86_64 | OK | WARNINGS | OK |
Neve2006 0.1.18 VJ Carey
| Last Changed Rev: 2557 / Revision: 2768 | | Last Changed Date: 2013-11-01 13:36:05 -0700 |
| zin1 | Linux (Ubuntu 12.04.4 LTS) / x86_64 | OK | OK | |
| moscato1 | Windows Server 2008 R2 Enterprise SP1 (64-bit) / x64 | OK | OK | OK |
| perceval | Mac OS X Snow Leopard (10.6.8) / x86_64 | OK | OK | OK |
parathyroid 0.99.8 Michael Love
| Last Changed Rev: 2557 / Revision: 2768 | | Last Changed Date: 2013-11-01 13:36:05 -0700 |
| zin1 | Linux (Ubuntu 12.04.4 LTS) / x86_64 | OK | OK | |
| moscato1 | Windows Server 2008 R2 Enterprise SP1 (64-bit) / x64 | OK | OK | OK |
| perceval | Mac OS X Snow Leopard (10.6.8) / x86_64 | OK | OK | OK |
parathyroidSE 1.0.4 Michael Love
| Last Changed Rev: 2545 / Revision: 2768 | | Last Changed Date: 2013-10-23 06:50:32 -0700 |
| zin1 | Linux (Ubuntu 12.04.4 LTS) / x86_64 | OK | OK | |
| moscato1 | Windows Server 2008 R2 Enterprise SP1 (64-bit) / x64 | OK | OK | OK |
| perceval | Mac OS X Snow Leopard (10.6.8) / x86_64 | OK | OK | OK |
pasilla 0.2.19 Alejandro Reyes
| Last Changed Rev: 2612 / Revision: 2768 | | Last Changed Date: 2013-11-22 02:09:24 -0800 |
| zin1 | Linux (Ubuntu 12.04.4 LTS) / x86_64 | OK | WARNINGS | |
| moscato1 | Windows Server 2008 R2 Enterprise SP1 (64-bit) / x64 | OK | WARNINGS | OK |
| perceval | Mac OS X Snow Leopard (10.6.8) / x86_64 | OK | WARNINGS | OK |
pasillaBamSubset 0.0.8 H. Pages
| Last Changed Rev: 2533 / Revision: 2768 | | Last Changed Date: 2013-10-14 15:00:20 -0700 |
| zin1 | Linux (Ubuntu 12.04.4 LTS) / x86_64 | OK | OK | |
| moscato1 | Windows Server 2008 R2 Enterprise SP1 (64-bit) / x64 | OK | OK | OK |
| perceval | Mac OS X Snow Leopard (10.6.8) / x86_64 | OK | OK | OK |
PathNetData 0.99.3 Jason B. Smith
| Last Changed Rev: 2533 / Revision: 2768 | | Last Changed Date: 2013-10-14 15:00:20 -0700 |
| zin1 | Linux (Ubuntu 12.04.4 LTS) / x86_64 | OK | OK | |
| moscato1 | Windows Server 2008 R2 Enterprise SP1 (64-bit) / x64 | OK | OK | OK |
| perceval | Mac OS X Snow Leopard (10.6.8) / x86_64 | OK | OK | OK |
pcaGoPromoter.Hs.hg19 0.99.5 Morten Hansen,
| Last Changed Rev: 2533 / Revision: 2768 | | Last Changed Date: 2013-10-14 15:00:20 -0700 |
| zin1 | Linux (Ubuntu 12.04.4 LTS) / x86_64 | OK | OK | |
| moscato1 | Windows Server 2008 R2 Enterprise SP1 (64-bit) / x64 | OK | OK | OK |
| perceval | Mac OS X Snow Leopard (10.6.8) / x86_64 | OK | OK | OK |
pcaGoPromoter.Mm.mm9 0.99.5 Morten Hansen,
| Last Changed Rev: 2533 / Revision: 2768 | | Last Changed Date: 2013-10-14 15:00:20 -0700 |
| zin1 | Linux (Ubuntu 12.04.4 LTS) / x86_64 | OK | OK | |
| moscato1 | Windows Server 2008 R2 Enterprise SP1 (64-bit) / x64 | OK | OK | OK |
| perceval | Mac OS X Snow Leopard (10.6.8) / x86_64 | OK | OK | OK |
pcaGoPromoter.Rn.rn4 0.99.5 Morten Hansen,
| Last Changed Rev: 2533 / Revision: 2768 | | Last Changed Date: 2013-10-14 15:00:20 -0700 |
| zin1 | Linux (Ubuntu 12.04.4 LTS) / x86_64 | OK | OK | |
| moscato1 | Windows Server 2008 R2 Enterprise SP1 (64-bit) / x64 | OK | OK | OK |
| perceval | Mac OS X Snow Leopard (10.6.8) / x86_64 | OK | OK | OK |
pd.atdschip.tiling 0.0.6 Kristof De Beuf
| Last Changed Rev: 2533 / Revision: 2768 | | Last Changed Date: 2013-10-14 15:00:20 -0700 |
| zin1 | Linux (Ubuntu 12.04.4 LTS) / x86_64 | OK | OK | |
| moscato1 | Windows Server 2008 R2 Enterprise SP1 (64-bit) / x64 | OK | OK | OK |
| perceval | Mac OS X Snow Leopard (10.6.8) / x86_64 | OK | OK | OK |
ppiData 0.1.24 Bioconductor Package Maintainer
| Last Changed Rev: 2548 / Revision: 2768 | | Last Changed Date: 2013-10-25 14:40:37 -0700 |
| zin1 | Linux (Ubuntu 12.04.4 LTS) / x86_64 | OK | WARNINGS | |
| moscato1 | Windows Server 2008 R2 Enterprise SP1 (64-bit) / x64 | OK | WARNINGS | OK |
| perceval | Mac OS X Snow Leopard (10.6.8) / x86_64 | OK | WARNINGS | OK |
prebsdata 0.99.5 Karolis Uziela
| Last Changed Rev: 2533 / Revision: 2768 | | Last Changed Date: 2013-10-14 15:00:20 -0700 |
| zin1 | Linux (Ubuntu 12.04.4 LTS) / x86_64 | OK | OK | |
| moscato1 | Windows Server 2008 R2 Enterprise SP1 (64-bit) / x64 | OK | OK | OK |
| perceval | Mac OS X Snow Leopard (10.6.8) / x86_64 | OK | OK | OK |
PREDAsampledata 0.2.8 Francesco Ferrari
| Last Changed Rev: 2533 / Revision: 2768 | | Last Changed Date: 2013-10-14 15:00:20 -0700 |
| zin1 | Linux (Ubuntu 12.04.4 LTS) / x86_64 | OK | WARNINGS | |
| moscato1 | Windows Server 2008 R2 Enterprise SP1 (64-bit) / x64 | OK | WARNINGS | OK |
| perceval | Mac OS X Snow Leopard (10.6.8) / x86_64 | OK | WARNINGS | OK |
ProData 1.0.9 Xiaochun Li
| Last Changed Rev: 2533 / Revision: 2768 | | Last Changed Date: 2013-10-14 15:00:20 -0700 |
| zin1 | Linux (Ubuntu 12.04.4 LTS) / x86_64 | OK | OK | |
| moscato1 | Windows Server 2008 R2 Enterprise SP1 (64-bit) / x64 | OK | OK | OK |
| perceval | Mac OS X Snow Leopard (10.6.8) / x86_64 | OK | OK | OK |
pRolocdata 1.0.3 Laurent Gatto
| Last Changed Rev: 2533 / Revision: 2768 | | Last Changed Date: 2013-10-14 15:00:20 -0700 |
| zin1 | Linux (Ubuntu 12.04.4 LTS) / x86_64 | OK | OK | |
| moscato1 | Windows Server 2008 R2 Enterprise SP1 (64-bit) / x64 | OK | OK | OK |
| perceval | Mac OS X Snow Leopard (10.6.8) / x86_64 | OK | OK | OK |
pumadata 1.99.7 Richard Pearson
| Last Changed Rev: 2557 / Revision: 2768 | | Last Changed Date: 2013-11-01 13:36:05 -0700 |
| zin1 | Linux (Ubuntu 12.04.4 LTS) / x86_64 | OK | WARNINGS | |
| moscato1 | Windows Server 2008 R2 Enterprise SP1 (64-bit) / x64 | OK | WARNINGS | OK |
| perceval | Mac OS X Snow Leopard (10.6.8) / x86_64 | OK | WARNINGS | OK |
PWMEnrich.Dmelanogaster.background 2.1.1 Robert Stojnic
| Last Changed Rev: 2533 / Revision: 2768 | | Last Changed Date: 2013-10-14 15:00:20 -0700 |
| zin1 | Linux (Ubuntu 12.04.4 LTS) / x86_64 | OK | WARNINGS | |
| moscato1 | Windows Server 2008 R2 Enterprise SP1 (64-bit) / x64 | OK | WARNINGS | OK |
| perceval | Mac OS X Snow Leopard (10.6.8) / x86_64 | OK | WARNINGS | OK |
PWMEnrich.Hsapiens.background 0.99.1 Robert Stojnic
| Last Changed Rev: 2533 / Revision: 2768 | | Last Changed Date: 2013-10-14 15:00:20 -0700 |
| zin1 | Linux (Ubuntu 12.04.4 LTS) / x86_64 | OK | OK | |
| moscato1 | Windows Server 2008 R2 Enterprise SP1 (64-bit) / x64 | OK | OK | OK |
| perceval | Mac OS X Snow Leopard (10.6.8) / x86_64 | OK | OK | OK |
PWMEnrich.Mmusculus.background 0.99.1 Robert Stojnic
| Last Changed Rev: 2533 / Revision: 2768 | | Last Changed Date: 2013-10-14 15:00:20 -0700 |
| zin1 | Linux (Ubuntu 12.04.4 LTS) / x86_64 | OK | OK | |
| moscato1 | Windows Server 2008 R2 Enterprise SP1 (64-bit) / x64 | OK | OK | OK |
| perceval | Mac OS X Snow Leopard (10.6.8) / x86_64 | OK | OK | OK |
RforProteomics 1.0.14 Laurent Gatto
| Last Changed Rev: 2533 / Revision: 2768 | | Last Changed Date: 2013-10-14 15:00:20 -0700 |
| zin1 | Linux (Ubuntu 12.04.4 LTS) / x86_64 | OK | OK | |
| moscato1 | Windows Server 2008 R2 Enterprise SP1 (64-bit) / x64 | OK | OK | OK |
| perceval | Mac OS X Snow Leopard (10.6.8) / x86_64 | OK | OK | OK |
rheumaticConditionWOLLBOLD 1.0.4 Alejandro Quiroz-Zarate
| Last Changed Rev: 2533 / Revision: 2768 | | Last Changed Date: 2013-10-14 15:00:20 -0700 |
| zin1 | Linux (Ubuntu 12.04.4 LTS) / x86_64 | OK | OK | |
| moscato1 | Windows Server 2008 R2 Enterprise SP1 (64-bit) / x64 | OK | OK | OK |
| perceval | Mac OS X Snow Leopard (10.6.8) / x86_64 | OK | OK | OK |
RIPSeekerData 0.99.3 Alejandro Reyes
| Last Changed Rev: 2557 / Revision: 2768 | | Last Changed Date: 2013-11-01 13:36:05 -0700 |
| zin1 | Linux (Ubuntu 12.04.4 LTS) / x86_64 | OK | OK | |
| moscato1 | Windows Server 2008 R2 Enterprise SP1 (64-bit) / x64 | OK | OK | OK |
| perceval | Mac OS X Snow Leopard (10.6.8) / x86_64 | OK | OK | OK |
RMassBankData 0.99.3 Michael Stravs
| Last Changed Rev: 2533 / Revision: 2768 | | Last Changed Date: 2013-10-14 15:00:20 -0700 |
| zin1 | Linux (Ubuntu 12.04.4 LTS) / x86_64 | OK | OK | |
| moscato1 | Windows Server 2008 R2 Enterprise SP1 (64-bit) / x64 | OK | OK | OK |
| perceval | Mac OS X Snow Leopard (10.6.8) / x86_64 | OK | OK | OK |
RNAinteractMAPK 1.0.13 Bernd Fischer
| Last Changed Rev: 2557 / Revision: 2768 | | Last Changed Date: 2013-11-01 13:36:05 -0700 |
| zin1 | Linux (Ubuntu 12.04.4 LTS) / x86_64 | OK | OK | |
| moscato1 | Windows Server 2008 R2 Enterprise SP1 (64-bit) / x64 | OK | OK | OK |
| perceval | Mac OS X Snow Leopard (10.6.8) / x86_64 | OK | OK | OK |
RNAseqData.HeLa.bam.chr14 0.1.5 H. Pages
| Last Changed Rev: 2533 / Revision: 2768 | | Last Changed Date: 2013-10-14 15:00:20 -0700 |
| zin1 | Linux (Ubuntu 12.04.4 LTS) / x86_64 | OK | WARNINGS | |
| moscato1 | Windows Server 2008 R2 Enterprise SP1 (64-bit) / x64 | OK | WARNINGS | OK |
| perceval | Mac OS X Snow Leopard (10.6.8) / x86_64 | OK | WARNINGS | OK |
RNAseqData.HNRNPC.bam.chr14 0.1.4 H. Pages
| Last Changed Rev: 2533 / Revision: 2768 | | Last Changed Date: 2013-10-14 15:00:20 -0700 |
| zin1 | Linux (Ubuntu 12.04.4 LTS) / x86_64 | OK | OK | |
| moscato1 | Windows Server 2008 R2 Enterprise SP1 (64-bit) / x64 | OK | OK | OK |
| perceval | Mac OS X Snow Leopard (10.6.8) / x86_64 | OK | OK | OK |
RnaSeqTutorial 0.0.14 Nicolas Delhomme
| Last Changed Rev: 2559 / Revision: 2768 | | Last Changed Date: 2013-11-01 14:48:41 -0700 |
| zin1 | Linux (Ubuntu 12.04.4 LTS) / x86_64 | OK | OK | |
| moscato1 | Windows Server 2008 R2 Enterprise SP1 (64-bit) / x64 | OK | OK | OK |
| perceval | Mac OS X Snow Leopard (10.6.8) / x86_64 | OK | OK | OK |
seqCNA.annot 0.99.1 David Mosen-Ansorena
| Last Changed Rev: 2533 / Revision: 2768 | | Last Changed Date: 2013-10-14 15:00:20 -0700 |
| zin1 | Linux (Ubuntu 12.04.4 LTS) / x86_64 | OK | OK | |
| moscato1 | Windows Server 2008 R2 Enterprise SP1 (64-bit) / x64 | OK | OK | OK |
| perceval | Mac OS X Snow Leopard (10.6.8) / x86_64 | OK | OK | OK |
serumStimulation 0.99.5 Morten Hansen,
| Last Changed Rev: 2533 / Revision: 2768 | | Last Changed Date: 2013-10-14 15:00:20 -0700 |
| zin1 | Linux (Ubuntu 12.04.4 LTS) / x86_64 | OK | OK | |
| moscato1 | Windows Server 2008 R2 Enterprise SP1 (64-bit) / x64 | OK | OK | OK |
| perceval | Mac OS X Snow Leopard (10.6.8) / x86_64 | OK | OK | OK |
seventyGeneData 0.99.8 Luigi Marchionni
| Last Changed Rev: 2533 / Revision: 2768 | | Last Changed Date: 2013-10-14 15:00:20 -0700 |
| zin1 | Linux (Ubuntu 12.04.4 LTS) / x86_64 | OK | OK | |
| moscato1 | Windows Server 2008 R2 Enterprise SP1 (64-bit) / x64 | OK | OK | OK |
| perceval | Mac OS X Snow Leopard (10.6.8) / x86_64 | OK | OK | OK |
simpIntLists 0.99.6 Kircicegi Korkmaz
| Last Changed Rev: 2557 / Revision: 2768 | | Last Changed Date: 2013-11-01 13:36:05 -0700 |
| zin1 | Linux (Ubuntu 12.04.4 LTS) / x86_64 | OK | WARNINGS | |
| moscato1 | Windows Server 2008 R2 Enterprise SP1 (64-bit) / x64 | OK | WARNINGS | OK |
| perceval | Mac OS X Snow Leopard (10.6.8) / x86_64 | OK | WARNINGS | OK |
SNAData 1.8.8 Denise Scholtens
| Last Changed Rev: 2557 / Revision: 2768 | | Last Changed Date: 2013-11-01 13:36:05 -0700 |
| zin1 | Linux (Ubuntu 12.04.4 LTS) / x86_64 | OK | OK | |
| moscato1 | Windows Server 2008 R2 Enterprise SP1 (64-bit) / x64 | OK | OK | OK |
| perceval | Mac OS X Snow Leopard (10.6.8) / x86_64 | OK | OK | OK |
SNAGEEdata 0.99.2 David Venet
| Last Changed Rev: 2533 / Revision: 2768 | | Last Changed Date: 2013-10-14 15:00:20 -0700 |
| zin1 | Linux (Ubuntu 12.04.4 LTS) / x86_64 | OK | OK | |
| moscato1 | Windows Server 2008 R2 Enterprise SP1 (64-bit) / x64 | OK | OK | OK |
| perceval | Mac OS X Snow Leopard (10.6.8) / x86_64 | OK | OK | OK |
SomatiCAData 1.1.1 Mengjie Chen
| Last Changed Rev: 2533 / Revision: 2768 | | Last Changed Date: 2013-10-14 15:00:20 -0700 |
| zin1 | Linux (Ubuntu 12.04.4 LTS) / x86_64 | OK | WARNINGS | |
| moscato1 | Windows Server 2008 R2 Enterprise SP1 (64-bit) / x64 | OK | WARNINGS | OK |
| perceval | Mac OS X Snow Leopard (10.6.8) / x86_64 | OK | WARNINGS | OK |
SomaticCancerAlterations 0.99.20 Julian Gehring
| Last Changed Rev: 2542 / Revision: 2768 | | Last Changed Date: 2013-10-20 15:02:28 -0700 |
| zin1 | Linux (Ubuntu 12.04.4 LTS) / x86_64 | OK | OK | |
| moscato1 | Windows Server 2008 R2 Enterprise SP1 (64-bit) / x64 | OK | OK | OK |
| perceval | Mac OS X Snow Leopard (10.6.8) / x86_64 | OK | OK | OK |
SpikeIn 1.4.11 Rafael A. Irizarry
| Last Changed Rev: 2533 / Revision: 2768 | | Last Changed Date: 2013-10-14 15:00:20 -0700 |
| zin1 | Linux (Ubuntu 12.04.4 LTS) / x86_64 | OK | WARNINGS | |
| moscato1 | Windows Server 2008 R2 Enterprise SP1 (64-bit) / x64 | OK | WARNINGS | OK |
| perceval | Mac OS X Snow Leopard (10.6.8) / x86_64 | OK | WARNINGS | OK |
SpikeInSubset 1.2.14 Rafael A. Irizarry
| Last Changed Rev: 2533 / Revision: 2768 | | Last Changed Date: 2013-10-14 15:00:20 -0700 |
| zin1 | Linux (Ubuntu 12.04.4 LTS) / x86_64 | OK | WARNINGS | |
| moscato1 | Windows Server 2008 R2 Enterprise SP1 (64-bit) / x64 | OK | WARNINGS | OK |
| perceval | Mac OS X Snow Leopard (10.6.8) / x86_64 | OK | WARNINGS | OK |
stemHypoxia 0.99.4 Cristobal Fresno
| Last Changed Rev: 2533 / Revision: 2768 | | Last Changed Date: 2013-10-14 15:00:20 -0700 |
| zin1 | Linux (Ubuntu 12.04.4 LTS) / x86_64 | OK | OK | |
| moscato1 | Windows Server 2008 R2 Enterprise SP1 (64-bit) / x64 | OK | OK | OK |
| perceval | Mac OS X Snow Leopard (10.6.8) / x86_64 | OK | OK | OK |
stjudem 1.2.10 Joern Toedling
| Last Changed Rev: 2533 / Revision: 2768 | | Last Changed Date: 2013-10-14 15:00:20 -0700 |
| zin1 | Linux (Ubuntu 12.04.4 LTS) / x86_64 | OK | OK | |
| moscato1 | Windows Server 2008 R2 Enterprise SP1 (64-bit) / x64 | OK | OK | OK |
| perceval | Mac OS X Snow Leopard (10.6.8) / x86_64 | OK | OK | OK |
synapterdata 1.0.1 Laurent Gatto
| Last Changed Rev: 2533 / Revision: 2768 | | Last Changed Date: 2013-10-14 15:00:20 -0700 |
| zin1 | Linux (Ubuntu 12.04.4 LTS) / x86_64 | OK | OK | |
| moscato1 | Windows Server 2008 R2 Enterprise SP1 (64-bit) / x64 | OK | OK | OK |
| perceval | Mac OS X Snow Leopard (10.6.8) / x86_64 | OK | OK | OK |
TargetScoreData 0.99.6 Yue Li
| Last Changed Rev: 2557 / Revision: 2768 | | Last Changed Date: 2013-11-01 13:36:05 -0700 |
| zin1 | Linux (Ubuntu 12.04.4 LTS) / x86_64 | OK | OK | |
| moscato1 | Windows Server 2008 R2 Enterprise SP1 (64-bit) / x64 | OK | OK | OK |
| perceval | Mac OS X Snow Leopard (10.6.8) / x86_64 | OK | OK | OK |
TargetSearchData 1.0.10 Alvaro Cuadros-Inostroza Henning Redestig , Matt Hannah
| Last Changed Rev: 2533 / Revision: 2768 | | Last Changed Date: 2013-10-14 15:00:20 -0700 |
| zin1 | Linux (Ubuntu 12.04.4 LTS) / x86_64 | OK | OK | |
| moscato1 | Windows Server 2008 R2 Enterprise SP1 (64-bit) / x64 | OK | OK | OK |
| perceval | Mac OS X Snow Leopard (10.6.8) / x86_64 | OK | OK | OK |
TBX20BamSubset 0.99.4 D. Bindreither
| Last Changed Rev: 2557 / Revision: 2768 | | Last Changed Date: 2013-11-01 13:36:05 -0700 |
| zin1 | Linux (Ubuntu 12.04.4 LTS) / x86_64 | OK | OK | |
| moscato1 | Windows Server 2008 R2 Enterprise SP1 (64-bit) / x64 | OK | OK | OK |
| perceval | Mac OS X Snow Leopard (10.6.8) / x86_64 | OK | OK | OK |
TCGAMethylation450k 0.99.5 Sean Davis
| Last Changed Rev: 2533 / Revision: 2768 | | Last Changed Date: 2013-10-14 15:00:20 -0700 |
| zin1 | Linux (Ubuntu 12.04.4 LTS) / x86_64 | OK | OK | |
| moscato1 | Windows Server 2008 R2 Enterprise SP1 (64-bit) / x64 | OK | OK | OK |
| perceval | Mac OS X Snow Leopard (10.6.8) / x86_64 | OK | OK | OK |
tinesath1cdf 1.0.10 Tine Casneuf
| Last Changed Rev: 2533 / Revision: 2768 | | Last Changed Date: 2013-10-14 15:00:20 -0700 |
| zin1 | Linux (Ubuntu 12.04.4 LTS) / x86_64 | OK | WARNINGS | |
| moscato1 | Windows Server 2008 R2 Enterprise SP1 (64-bit) / x64 | OK | WARNINGS | OK |
| perceval | Mac OS X Snow Leopard (10.6.8) / x86_64 | OK | WARNINGS | OK |
tinesath1probe 1.0.10 Tine Casneuf
| Last Changed Rev: 2533 / Revision: 2768 | | Last Changed Date: 2013-10-14 15:00:20 -0700 |
| zin1 | Linux (Ubuntu 12.04.4 LTS) / x86_64 | OK | WARNINGS | |
| moscato1 | Windows Server 2008 R2 Enterprise SP1 (64-bit) / x64 | OK | WARNINGS | OK |
| perceval | Mac OS X Snow Leopard (10.6.8) / x86_64 | OK | WARNINGS | OK |
tweeDEseqCountData 1.0.10 Juan R Gonzalez
| Last Changed Rev: 2533 / Revision: 2768 | | Last Changed Date: 2013-10-14 15:00:20 -0700 |
| zin1 | Linux (Ubuntu 12.04.4 LTS) / x86_64 | OK | OK | |
| moscato1 | Windows Server 2008 R2 Enterprise SP1 (64-bit) / x64 | OK | OK | OK |
| perceval | Mac OS X Snow Leopard (10.6.8) / x86_64 | OK | OK | OK |
waveTilingData 0.99.3 Kristof De Beuf
| Last Changed Rev: 2533 / Revision: 2768 | | Last Changed Date: 2013-10-14 15:00:20 -0700 |
| zin1 | Linux (Ubuntu 12.04.4 LTS) / x86_64 | OK | OK | |
| moscato1 | Windows Server 2008 R2 Enterprise SP1 (64-bit) / x64 | OK | OK | OK |
| perceval | Mac OS X Snow Leopard (10.6.8) / x86_64 | OK | OK | OK |
XhybCasneuf 1.0.13 Tineke Casneuf
| Last Changed Rev: 2557 / Revision: 2768 | | Last Changed Date: 2013-11-01 13:36:05 -0700 |
| zin1 | Linux (Ubuntu 12.04.4 LTS) / x86_64 | OK | WARNINGS | |
| moscato1 | Windows Server 2008 R2 Enterprise SP1 (64-bit) / x64 | OK | WARNINGS | OK |
| perceval | Mac OS X Snow Leopard (10.6.8) / x86_64 | OK | WARNINGS | OK |
yeastCC 1.2.20 Sandrine Dudoit
| Last Changed Rev: 2557 / Revision: 2768 | | Last Changed Date: 2013-11-01 13:36:05 -0700 |
| zin1 | Linux (Ubuntu 12.04.4 LTS) / x86_64 | OK | WARNINGS | |
| moscato1 | Windows Server 2008 R2 Enterprise SP1 (64-bit) / x64 | OK | WARNINGS | OK |
| perceval | Mac OS X Snow Leopard (10.6.8) / x86_64 | OK | WARNINGS | OK |
yeastExpData 0.9.24 R. Gentleman
| Last Changed Rev: 2557 / Revision: 2768 | | Last Changed Date: 2013-11-01 13:36:05 -0700 |
| zin1 | Linux (Ubuntu 12.04.4 LTS) / x86_64 | OK | WARNINGS | |
| moscato1 | Windows Server 2008 R2 Enterprise SP1 (64-bit) / x64 | OK | WARNINGS | OK |
| perceval | Mac OS X Snow Leopard (10.6.8) / x86_64 | OK | WARNINGS | OK |
yeastGSData 0.1.11 R. Gentleman
| Last Changed Rev: 2533 / Revision: 2768 | | Last Changed Date: 2013-10-14 15:00:20 -0700 |
| zin1 | Linux (Ubuntu 12.04.4 LTS) / x86_64 | OK | WARNINGS | |
| moscato1 | Windows Server 2008 R2 Enterprise SP1 (64-bit) / x64 | OK | WARNINGS | OK |
| perceval | Mac OS X Snow Leopard (10.6.8) / x86_64 | OK | WARNINGS | OK |
yeastNagalakshmi 0.99.7 Bioconductor Package Maintainer
| Last Changed Rev: 2533 / Revision: 2768 | | Last Changed Date: 2013-10-14 15:00:20 -0700 |
| zin1 | Linux (Ubuntu 12.04.4 LTS) / x86_64 | OK | OK | |
| moscato1 | Windows Server 2008 R2 Enterprise SP1 (64-bit) / x64 | OK | OK | OK |
| perceval | Mac OS X Snow Leopard (10.6.8) / x86_64 | OK | OK | OK |
yeastRNASeq 0.0.10 J. Bullard
| Last Changed Rev: 2557 / Revision: 2768 | | Last Changed Date: 2013-11-01 13:36:05 -0700 |
| zin1 | Linux (Ubuntu 12.04.4 LTS) / x86_64 | OK | WARNINGS | |
| moscato1 | Windows Server 2008 R2 Enterprise SP1 (64-bit) / x64 | OK | WARNINGS | OK |
| perceval | Mac OS X Snow Leopard (10.6.8) / x86_64 | OK | WARNINGS | OK |
yri1kgv 0.5.2 VJ Carey
| Last Changed Rev: 2631 / Revision: 2768 | | Last Changed Date: 2013-12-05 15:58:39 -0800 |
| zin1 | Linux (Ubuntu 12.04.4 LTS) / x86_64 | OK | OK | |
| moscato1 | Windows Server 2008 R2 Enterprise SP1 (64-bit) / x64 | OK | OK | OK |
| perceval | Mac OS X Snow Leopard (10.6.8) / x86_64 | OK | OK | OK |