| Back to the "Multiple platform build/check report" |
This page was generated on 2014-04-04 17:29:02 -0700 (Fri, 04 Apr 2014).
| Package 64/181 | Hostname | OS / Arch | BUILD | CHECK | BUILD BIN | ||||
| flowWorkspaceData 2.0.0 Mike Jiang
| zin1 | Linux (Ubuntu 12.04.4 LTS) / x86_64 | OK | OK | |||||
| moscato1 | Windows Server 2008 R2 Enterprise SP1 (64-bit) / x64 | [ OK ] | OK | OK | |||||
| perceval | Mac OS X Snow Leopard (10.6.8) / x86_64 | OK | OK | OK |
| Package: flowWorkspaceData |
| Version: 2.0.0 |
| Command: chmod a+r flowWorkspaceData -R && D:\biocbld\bbs-2.13-bioc\R\bin\R.exe CMD build --keep-empty-dirs --no-resave-data flowWorkspaceData |
| StartedAt: 2014-04-04 10:12:46 -0700 (Fri, 04 Apr 2014) |
| EndedAt: 2014-04-04 10:13:17 -0700 (Fri, 04 Apr 2014) |
| EllapsedTime: 31.4 seconds |
| RetCode: 0 |
| Status: OK |
| PackageFile: flowWorkspaceData_2.0.0.tar.gz |
| PackageFileSize: 21.18 MiB |
* checking for file 'flowWorkspaceData/DESCRIPTION' ... OK * preparing 'flowWorkspaceData': * checking DESCRIPTION meta-information ... OK * checking for LF line-endings in source and make files * checking for empty or unneeded directories * building 'flowWorkspaceData_2.0.0.tar.gz'