| colonCA 1.4.12 W Sylvia Merk
 
 | Snapshot Date: 2014-04-04 06:15:32 -0700 (Fri, 04 Apr 2014) |  | URL: https://hedgehog.fhcrc.org/bioc-data/branches/RELEASE_2_13/experiment/pkgs/colonCA |  | Last Changed Rev: 2533 / Revision: 2768 |  | Last Changed Date: 2013-10-14 15:00:20 -0700 (Mon, 14 Oct 2013) | 
 | zin1 | Linux (Ubuntu 12.04.4 LTS) / x86_64 | OK | WARNINGS |  | 
| moscato1 | Windows Server 2008 R2 Enterprise SP1 (64-bit) / x64 | OK | WARNINGS | [ OK ] | 
| perceval | Mac OS X Snow Leopard (10.6.8) / x86_64 | OK | WARNINGS | OK | 
  adding: data/ (256 bytes security) (stored 0%)
  adding: data/colonCA.rda (188 bytes security) (deflated 1%)
  adding: DESCRIPTION (188 bytes security) (deflated 35%)
  adding: help/ (256 bytes security) (stored 0%)
  adding: help/aliases.rds (188 bytes security) (deflated 1%)
  adding: help/AnIndex (188 bytes security) (deflated 18%)
  adding: help/colonCA.rdb (188 bytes security) (stored 0%)
  adding: help/colonCA.rdx (188 bytes security) (stored 0%)
  adding: help/paths.rds (188 bytes security) (stored 0%)
  adding: html/ (256 bytes security) (stored 0%)
  adding: html/00Index.html (188 bytes security) (deflated 49%)
  adding: html/R.css (188 bytes security) (deflated 70%)
  adding: INDEX (188 bytes security) (deflated 30%)
  adding: MD5 (188 bytes security) (deflated 39%)
  adding: Meta/ (256 bytes security) (stored 0%)
  adding: Meta/data.rds (188 bytes security) (stored 0%)
  adding: Meta/hsearch.rds (188 bytes security) (stored 0%)
  adding: Meta/links.rds (188 bytes security) (stored 0%)
  adding: Meta/nsInfo.rds (188 bytes security) (stored 0%)
  adding: Meta/package.rds (188 bytes security) (stored 0%)
  adding: Meta/Rd.rds (188 bytes security) (stored 0%)
  adding: NAMESPACE (188 bytes security) (stored 0%)