| Iyer517 1.4.14 Vince Carey
 
 | Snapshot Date: 2014-04-04 06:15:32 -0700 (Fri, 04 Apr 2014) |  | URL: https://hedgehog.fhcrc.org/bioc-data/branches/RELEASE_2_13/experiment/pkgs/Iyer517 |  | Last Changed Rev: 2557 / Revision: 2768 |  | Last Changed Date: 2013-11-01 13:36:05 -0700 (Fri, 01 Nov 2013) | 
 | zin1 | Linux (Ubuntu 12.04.4 LTS) / x86_64 | OK | OK |  | 
| moscato1 | Windows Server 2008 R2 Enterprise SP1 (64-bit) / x64 | OK | OK | [ OK ] | 
| perceval | Mac OS X Snow Leopard (10.6.8) / x86_64 | OK | OK | OK | 
  adding: ascii/ (256 bytes security) (stored 0%)
  adding: ascii/fig2massg.txt (188 bytes security) (deflated 62%)
  adding: ascii/IyBase (188 bytes security) (deflated 70%)
  adding: ascii/README (188 bytes security) (deflated 34%)
  adding: data/ (256 bytes security) (stored 0%)
  adding: data/Iyer517.rda (188 bytes security) (deflated 2%)
  adding: data/Iyer517GO.rda (188 bytes security) (deflated 88%)
  adding: data/IyerAnnotated.rda (188 bytes security) (deflated 80%)
  adding: DESCRIPTION (188 bytes security) (deflated 29%)
  adding: doc/ (256 bytes security) (stored 0%)
  adding: doc/index.html (188 bytes security) (deflated 57%)
  adding: doc/Iyer517.pdf (188 bytes security) (deflated 10%)
  adding: doc/Iyer517.R (188 bytes security) (deflated 74%)
  adding: doc/Iyer517.Rnw (188 bytes security) (deflated 50%)
  adding: help/ (256 bytes security) (stored 0%)
  adding: help/aliases.rds (188 bytes security) (stored 0%)
  adding: help/AnIndex (188 bytes security) (deflated 50%)
  adding: help/Iyer517.rdb (188 bytes security) (stored 0%)
  adding: help/Iyer517.rdx (188 bytes security) (stored 0%)
  adding: help/paths.rds (188 bytes security) (stored 0%)
  adding: html/ (256 bytes security) (stored 0%)
  adding: html/00Index.html (188 bytes security) (deflated 56%)
  adding: html/R.css (188 bytes security) (deflated 70%)
  adding: INDEX (188 bytes security) (deflated 44%)
  adding: MD5 (188 bytes security) (deflated 44%)
  adding: Meta/ (256 bytes security) (stored 0%)
  adding: Meta/data.rds (188 bytes security) (stored 0%)
  adding: Meta/hsearch.rds (188 bytes security) (stored 0%)
  adding: Meta/links.rds (188 bytes security) (stored 0%)
  adding: Meta/nsInfo.rds (188 bytes security) (stored 0%)
  adding: Meta/package.rds (188 bytes security) (stored 0%)
  adding: Meta/Rd.rds (188 bytes security) (stored 0%)
  adding: Meta/vignette.rds (188 bytes security) (stored 0%)
  adding: NAMESPACE (188 bytes security) (stored 0%)
  adding: R/ (256 bytes security) (stored 0%)
  adding: R/Iyer517 (188 bytes security) (deflated 41%)
  adding: R/Iyer517.rdb (188 bytes security) (deflated 14%)
  adding: R/Iyer517.rdx (188 bytes security) (stored 0%)
  adding: support/ (256 bytes security) (stored 0%)
  adding: support/build.R (188 bytes security) (deflated 41%)
  adding: support/fig2massg.txt (188 bytes security) (deflated 62%)