Back to Multiple platform build/check report for BioC 3.22:   simplified   long
[A]BCDEFGHIJKLMNOPQRSTUVWXYZ

This page was generated on 2025-11-06 11:59 -0500 (Thu, 06 Nov 2025).

HostnameOSArch (*)R versionInstalled pkgs
nebbiolo2Linux (Ubuntu 24.04.3 LTS)x86_644.5.1 Patched (2025-08-23 r88802) -- "Great Square Root" 4902
kjohnson3macOS 13.7.7 Venturaarm644.5.1 Patched (2025-09-10 r88807) -- "Great Square Root" 4638
Click on any hostname to see more info about the system (e.g. compilers)      (*) as reported by 'uname -p', except on Windows and Mac OS X

All results for package AnnotationHub


To the developers/maintainers of the AnnotationHub package:
- Allow up to 24 hours (and sometimes 48 hours) for your latest push to git@git.bioconductor.org:packages/AnnotationHub.git to reflect on this report. See Troubleshooting Build Report for more information.
- Use the following Renviron settings to reproduce errors and warnings.
- If 'R CMD check' started to fail recently on the Linux builder(s) over a missing dependency, add the missing dependency to 'Suggests:' in your DESCRIPTION file. See Renviron.bioc for more information.

raw results

Package 77/2361HostnameOS / ArchINSTALLBUILDCHECKBUILD BIN
AnnotationHub 4.0.0  (landing page)
Bioconductor Package Maintainer
Snapshot Date: 2025-11-05 13:45 -0500 (Wed, 05 Nov 2025)
git_url: https://git.bioconductor.org/packages/AnnotationHub
git_branch: RELEASE_3_22
git_last_commit: e27e804
git_last_commit_date: 2025-10-29 10:14:23 -0500 (Wed, 29 Oct 2025)
nebbiolo2Linux (Ubuntu 24.04.3 LTS) / x86_64  OK    OK    OK  UNNEEDED, same version is already published
kjohnson3macOS 13.7.7 Ventura / arm64  OK    OK    OK    OK  UNNEEDED, same version is already published



Results for Bioconductor software packages that depend directly on package AnnotationHub

QUICK STATSOS / ArchINSTALLBUILDCHECKBUILD BIN
nebbiolo2Linux (Ubuntu 24.04.3 LTS) / x86_64
0054
0153
00845
kjohnson3macOS 13.7.7 Ventura / arm64
0054
0252
01843
0052
Package 1/54HostnameOS / ArchINSTALLBUILDCHECKBUILD BIN
adductomicsR 1.26.0  (landing page)
Josie Hayes
git_last_commit: c15f935
git_last_commit_date: 2025-10-29 10:49:42 -0500
nebbiolo2Linux (Ubuntu 24.04.3 LTS) / x86_64  OK    OK    WARNINGS  UNNEEDED, same version is already published
kjohnson3macOS 13.7.7 Ventura / arm64  OK    OK    WARNINGS    OK  UNNEEDED, same version is already published
Package 2/54HostnameOS / ArchINSTALLBUILDCHECKBUILD BIN
AnnotationHubData 1.40.0  (landing page)
Bioconductor Package Maintainer
git_last_commit: 077effd
git_last_commit_date: 2025-10-29 10:27:35 -0500
nebbiolo2Linux (Ubuntu 24.04.3 LTS) / x86_64  OK    OK    WARNINGS  UNNEEDED, same version is already published
kjohnson3macOS 13.7.7 Ventura / arm64  OK    OK    WARNINGS    OK  UNNEEDED, same version is already published
Package 3/54HostnameOS / ArchINSTALLBUILDCHECKBUILD BIN
annotatr 1.36.0  (landing page)
Raymond G. Cavalcante
git_last_commit: 6850c77
git_last_commit_date: 2025-10-29 10:35:13 -0500
nebbiolo2Linux (Ubuntu 24.04.3 LTS) / x86_64  OK    OK    OK  UNNEEDED, same version is already published
kjohnson3macOS 13.7.7 Ventura / arm64  OK    OK    OK    OK  UNNEEDED, same version is already published
Package 4/54HostnameOS / ArchINSTALLBUILDCHECKBUILD BIN
atena 1.16.0  (landing page)
Robert Castelo
git_last_commit: 93211ad
git_last_commit_date: 2025-10-29 11:12:14 -0500
nebbiolo2Linux (Ubuntu 24.04.3 LTS) / x86_64  OK    OK    OK  UNNEEDED, same version is already published
kjohnson3macOS 13.7.7 Ventura / arm64  OK    OK    OK    OK  UNNEEDED, same version is already published
Package 5/54HostnameOS / ArchINSTALLBUILDCHECKBUILD BIN
BiocHubsShiny 1.10.0  (landing page)
Marcel Ramos
git_last_commit: 2adb511
git_last_commit_date: 2025-10-29 11:20:55 -0500
nebbiolo2Linux (Ubuntu 24.04.3 LTS) / x86_64  OK    OK    OK  UNNEEDED, same version is already published
kjohnson3macOS 13.7.7 Ventura / arm64  OK    OK    OK    OK  UNNEEDED, same version is already published
Package 6/54HostnameOS / ArchINSTALLBUILDCHECKBUILD BIN
BUSpaRse 1.24.0  (landing page)
Lambda Moses
git_last_commit: 757e3e4
git_last_commit_date: 2025-10-29 10:53:52 -0500
nebbiolo2Linux (Ubuntu 24.04.3 LTS) / x86_64  OK    OK    OK  UNNEEDED, same version is already published
kjohnson3macOS 13.7.7 Ventura / arm64  OK    OK    OK    OK  UNNEEDED, same version is already published
Package 7/54HostnameOS / ArchINSTALLBUILDCHECKBUILD BIN
circRNAprofiler 1.24.0  (landing page)
Simona Aufiero
git_last_commit: 8f3c453
git_last_commit_date: 2025-10-29 10:53:06 -0500
nebbiolo2Linux (Ubuntu 24.04.3 LTS) / x86_64  OK    OK    OK  UNNEEDED, same version is already published
kjohnson3macOS 13.7.7 Ventura / arm64  OK    OK    OK    OK  UNNEEDED, same version is already published
Package 8/54HostnameOS / ArchINSTALLBUILDCHECKBUILD BIN
coMethDMR 1.14.0  (landing page)
Fernanda Veitzman
git_last_commit: 052092e
git_last_commit_date: 2025-10-29 11:14:12 -0500
nebbiolo2Linux (Ubuntu 24.04.3 LTS) / x86_64  OK    OK    OK  UNNEEDED, same version is already published
kjohnson3macOS 13.7.7 Ventura / arm64  OK    OK    OK    OK  UNNEEDED, same version is already published
Package 9/54HostnameOS / ArchINSTALLBUILDCHECKBUILD BIN
cTRAP 1.28.0  (landing page)
Nuno Saraiva-Agostinho
git_last_commit: 216e3fc
git_last_commit_date: 2025-10-29 10:48:28 -0500
nebbiolo2Linux (Ubuntu 24.04.3 LTS) / x86_64  OK    OK    OK  UNNEEDED, same version is already published
kjohnson3macOS 13.7.7 Ventura / arm64  OK    OK    OK    OK  UNNEEDED, same version is already published
Package 10/54HostnameOS / ArchINSTALLBUILDCHECKBUILD BIN
customCMPdb 1.20.0  (landing page)
Yuzhu Duan
git_last_commit: b3dd69a
git_last_commit_date: 2025-10-29 11:03:08 -0500
nebbiolo2Linux (Ubuntu 24.04.3 LTS) / x86_64  OK    OK    OK  UNNEEDED, same version is already published
kjohnson3macOS 13.7.7 Ventura / arm64  OK    OK    OK    OK  UNNEEDED, same version is already published
Package 11/54HostnameOS / ArchINSTALLBUILDCHECKBUILD BIN
DeconvoBuddies 1.2.0  (landing page)
Louise Huuki-Myers
git_last_commit: 1c038d1
git_last_commit_date: 2025-10-29 11:35:32 -0500
nebbiolo2Linux (Ubuntu 24.04.3 LTS) / x86_64  OK    OK    OK  UNNEEDED, same version is already published
kjohnson3macOS 13.7.7 Ventura / arm64  OK    OK    OK    OK  UNNEEDED, same version is already published
Package 12/54HostnameOS / ArchINSTALLBUILDCHECKBUILD BIN
DMRcate 3.6.0  (landing page)
Tim Peters
git_last_commit: d522a97
git_last_commit_date: 2025-10-29 10:18:14 -0500
nebbiolo2Linux (Ubuntu 24.04.3 LTS) / x86_64  OK    OK    OK  UNNEEDED, same version is already published
kjohnson3macOS 13.7.7 Ventura / arm64  OK    OK    OK    OK  UNNEEDED, same version is already published
Package 13/54HostnameOS / ArchINSTALLBUILDCHECKBUILD BIN
dmrseq 1.30.0  (landing page)
Keegan Korthauer
git_last_commit: 10b6432
git_last_commit_date: 2025-10-29 10:43:32 -0500
nebbiolo2Linux (Ubuntu 24.04.3 LTS) / x86_64  OK    OK    OK  UNNEEDED, same version is already published
kjohnson3macOS 13.7.7 Ventura / arm64  OK    OK    OK    OK  UNNEEDED, same version is already published
Package 14/54HostnameOS / ArchINSTALLBUILDCHECKBUILD BIN
ENmix 1.46.0  (landing page)
Zongli Xu
git_last_commit: 50af132
git_last_commit_date: 2025-10-29 10:25:39 -0500
nebbiolo2Linux (Ubuntu 24.04.3 LTS) / x86_64  OK    OK    OK  UNNEEDED, same version is already published
kjohnson3macOS 13.7.7 Ventura / arm64  OK    OK    OK    OK  UNNEEDED, same version is already published
Package 15/54HostnameOS / ArchINSTALLBUILDCHECKBUILD BIN
EpiCompare 1.14.0  (landing page)
Hiranyamaya Dash
git_last_commit: c5d211a
git_last_commit_date: 2025-10-29 11:16:54 -0500
nebbiolo2Linux (Ubuntu 24.04.3 LTS) / x86_64  OK    OK    OK  UNNEEDED, same version is already published
kjohnson3macOS 13.7.7 Ventura / arm64  OK    OK    OK    OK  UNNEEDED, same version is already published
Package 16/54HostnameOS / ArchINSTALLBUILDCHECKBUILD BIN
EpiMix 1.12.0  (landing page)
Yuanning Zheng
git_last_commit: 36341ff
git_last_commit_date: 2025-10-29 11:17:43 -0500
nebbiolo2Linux (Ubuntu 24.04.3 LTS) / x86_64  OK    OK    OK  UNNEEDED, same version is already published
kjohnson3macOS 13.7.7 Ventura / arm64  OK    OK    OK    OK  UNNEEDED, same version is already published
Package 17/54HostnameOS / ArchINSTALLBUILDCHECKBUILD BIN
epimutacions 1.14.0  (landing page)
Dolors Pelegri-Siso
git_last_commit: b56f6f9
git_last_commit_date: 2025-10-29 11:16:20 -0500
nebbiolo2Linux (Ubuntu 24.04.3 LTS) / x86_64  OK    OK    OK  UNNEEDED, same version is already published
kjohnson3macOS 13.7.7 Ventura / arm64  OK    OK    OK    OK  UNNEEDED, same version is already published
Package 18/54HostnameOS / ArchINSTALLBUILDCHECKBUILD BIN
epiregulon 2.0.0  (landing page)
Xiaosai Yao
git_last_commit: d431343
git_last_commit_date: 2025-10-29 11:30:12 -0500
nebbiolo2Linux (Ubuntu 24.04.3 LTS) / x86_64  OK    OK    OK  UNNEEDED, same version is already published
kjohnson3macOS 13.7.7 Ventura / arm64  OK    OK    OK    OK  UNNEEDED, same version is already published
Package 19/54HostnameOS / ArchINSTALLBUILDCHECKBUILD BIN
ExperimentHub 3.0.0  (landing page)
Bioconductor Package Maintainer
git_last_commit: b1013ec
git_last_commit_date: 2025-10-29 10:30:19 -0500
nebbiolo2Linux (Ubuntu 24.04.3 LTS) / x86_64  OK    OK    WARNINGS  UNNEEDED, same version is already published
kjohnson3macOS 13.7.7 Ventura / arm64  OK    OK    WARNINGS    OK  UNNEEDED, same version is already published
Package 20/54HostnameOS / ArchINSTALLBUILDCHECKBUILD BIN
gDNAx 1.8.0  (landing page)
Robert Castelo
git_last_commit: b09db45
git_last_commit_date: 2025-10-29 11:24:57 -0500
nebbiolo2Linux (Ubuntu 24.04.3 LTS) / x86_64  OK    OK    OK  UNNEEDED, same version is already published
kjohnson3macOS 13.7.7 Ventura / arm64  OK    OK    OK    OK  UNNEEDED, same version is already published
Package 21/54HostnameOS / ArchINSTALLBUILDCHECKBUILD BIN
GenomicScores 2.22.0  (landing page)
Robert Castelo
git_last_commit: 8f6570c
git_last_commit_date: 2025-10-29 10:38:07 -0500
nebbiolo2Linux (Ubuntu 24.04.3 LTS) / x86_64  OK    OK    OK  UNNEEDED, same version is already published
kjohnson3macOS 13.7.7 Ventura / arm64  OK    OK    OK    OK  UNNEEDED, same version is already published
Package 22/54HostnameOS / ArchINSTALLBUILDCHECKBUILD BIN
GRaNIE 1.14.0  (landing page)
Christian Arnold
git_last_commit: 7d55acc
git_last_commit_date: 2025-10-29 11:16:56 -0500
nebbiolo2Linux (Ubuntu 24.04.3 LTS) / x86_64  OK    OK    OK  UNNEEDED, same version is already published
kjohnson3macOS 13.7.7 Ventura / arm64  OK    OK    OK    OK  UNNEEDED, same version is already published
Package 23/54HostnameOS / ArchINSTALLBUILDCHECKBUILD BIN
GSEABenchmarkeR 1.30.0  (landing page)
Ludwig Geistlinger
git_last_commit: 7ab14b8
git_last_commit_date: 2025-10-29 10:44:06 -0500
nebbiolo2Linux (Ubuntu 24.04.3 LTS) / x86_64  OK    OK    OK  UNNEEDED, same version is already published
kjohnson3macOS 13.7.7 Ventura / arm64  OK    OK    OK    OK  UNNEEDED, same version is already published
Package 24/54HostnameOS / ArchINSTALLBUILDCHECKBUILD BIN
gwascat 2.42.0  (landing page)
VJ Carey
git_last_commit: 5ae3745
git_last_commit_date: 2025-10-29 10:10:23 -0500
nebbiolo2Linux (Ubuntu 24.04.3 LTS) / x86_64  OK    OK    OK  UNNEEDED, same version is already published
kjohnson3macOS 13.7.7 Ventura / arm64  OK    OK    OK    OK  UNNEEDED, same version is already published
Package 25/54HostnameOS / ArchINSTALLBUILDCHECKBUILD BIN
hipathia 3.10.0  (landing page)
Marta R. Hidalgo
git_last_commit: 73629a5
git_last_commit_date: 2025-10-29 10:44:56 -0500
nebbiolo2Linux (Ubuntu 24.04.3 LTS) / x86_64  OK    ERROR  skipped
kjohnson3macOS 13.7.7 Ventura / arm64  OK    ERROR  skippedskipped
Package 26/54HostnameOS / ArchINSTALLBUILDCHECKBUILD BIN
ipdDb 1.28.0  (landing page)
Steffen Klasberg
git_last_commit: 3758ef6
git_last_commit_date: 2025-10-29 10:46:13 -0500
nebbiolo2Linux (Ubuntu 24.04.3 LTS) / x86_64  OK    OK    OK  UNNEEDED, same version is already published
kjohnson3macOS 13.7.7 Ventura / arm64  OK    OK    OK    OK  UNNEEDED, same version is already published
Package 27/54HostnameOS / ArchINSTALLBUILDCHECKBUILD BIN
iSEEhub 1.12.0  (landing page)
Kevin Rue-Albrecht
git_last_commit: b3f4559
git_last_commit_date: 2025-10-29 11:18:40 -0500
nebbiolo2Linux (Ubuntu 24.04.3 LTS) / x86_64  OK    OK    OK  UNNEEDED, same version is already published
kjohnson3macOS 13.7.7 Ventura / arm64  OK    OK    OK    OK  UNNEEDED, same version is already published
Package 28/54HostnameOS / ArchINSTALLBUILDCHECKBUILD BIN
LRcell 1.18.0  (landing page)
Wenjing Ma
git_last_commit: de409ff
git_last_commit_date: 2025-10-29 11:07:47 -0500
nebbiolo2Linux (Ubuntu 24.04.3 LTS) / x86_64  OK    OK    OK  UNNEEDED, same version is already published
kjohnson3macOS 13.7.7 Ventura / arm64  OK    OK    OK    OK  UNNEEDED, same version is already published
Package 29/54HostnameOS / ArchINSTALLBUILDCHECKBUILD BIN
MACSr 1.18.0  (landing page)
Qiang Hu
git_last_commit: 9263ac2
git_last_commit_date: 2025-10-29 11:06:10 -0500
nebbiolo2Linux (Ubuntu 24.04.3 LTS) / x86_64  OK    OK    OK  UNNEEDED, same version is already published
kjohnson3macOS 13.7.7 Ventura / arm64  OK    OK    OK    OK  UNNEEDED, same version is already published
Package 30/54HostnameOS / ArchINSTALLBUILDCHECKBUILD BIN
meshes 1.36.0  (landing page)
Guangchuang Yu
git_last_commit: 6d7a37c
git_last_commit_date: 2025-10-29 10:35:16 -0500
nebbiolo2Linux (Ubuntu 24.04.3 LTS) / x86_64  OK    OK    OK  UNNEEDED, same version is already published
kjohnson3macOS 13.7.7 Ventura / arm64  OK    OK    OK    OK  UNNEEDED, same version is already published
Package 31/54HostnameOS / ArchINSTALLBUILDCHECKBUILD BIN
MetaboAnnotation 1.14.0  (landing page)
Johannes Rainer
git_last_commit: 790d88f
git_last_commit_date: 2025-10-29 11:14:44 -0500
nebbiolo2Linux (Ubuntu 24.04.3 LTS) / x86_64  OK    OK    OK  UNNEEDED, same version is already published
kjohnson3macOS 13.7.7 Ventura / arm64  OK    OK    OK    OK  UNNEEDED, same version is already published
Package 32/54HostnameOS / ArchINSTALLBUILDCHECKBUILD BIN
methodical 1.6.0  (landing page)
Richard Heery
git_last_commit: ebf4ab4
git_last_commit_date: 2025-10-29 11:27:18 -0500
nebbiolo2Linux (Ubuntu 24.04.3 LTS) / x86_64  OK    OK    WARNINGS  UNNEEDED, same version is already published
kjohnson3macOS 13.7.7 Ventura / arm64  OK    OK    WARNINGS    OK  UNNEEDED, same version is already published
Package 33/54HostnameOS / ArchINSTALLBUILDCHECKBUILD BIN
MethReg 1.20.0  (landing page)
Tiago Silva
git_last_commit: a1982d5
git_last_commit_date: 2025-10-29 11:02:28 -0500
nebbiolo2Linux (Ubuntu 24.04.3 LTS) / x86_64  OK    OK    OK  UNNEEDED, same version is already published
kjohnson3macOS 13.7.7 Ventura / arm64  OK    OK    OK    OK  UNNEEDED, same version is already published
Package 34/54HostnameOS / ArchINSTALLBUILDCHECKBUILD BIN
Moonlight2R 1.8.0  (landing page)
Matteo Tiberti
git_last_commit: 7f42b79
git_last_commit_date: 2025-10-29 11:25:19 -0500
nebbiolo2Linux (Ubuntu 24.04.3 LTS) / x86_64  OK    OK    OK  UNNEEDED, same version is already published
kjohnson3macOS 13.7.7 Ventura / arm64  OK    OK    OK    OK  UNNEEDED, same version is already published
Package 35/54HostnameOS / ArchINSTALLBUILDCHECKBUILD BIN
MSnID 1.44.0  (landing page)
Vlad Petyuk
git_last_commit: 80a4b14
git_last_commit_date: 2025-10-29 10:21:36 -0500
nebbiolo2Linux (Ubuntu 24.04.3 LTS) / x86_64  OK    OK    OK  UNNEEDED, same version is already published
kjohnson3macOS 13.7.7 Ventura / arm64  OK    OK    ERROR    OK  
Package 36/54HostnameOS / ArchINSTALLBUILDCHECKBUILD BIN
octad 1.12.0  (landing page)
E. Chekalin
git_last_commit: e8beea0
git_last_commit_date: 2025-10-29 11:19:54 -0500
nebbiolo2Linux (Ubuntu 24.04.3 LTS) / x86_64  OK    OK    OK  UNNEEDED, same version is already published
kjohnson3macOS 13.7.7 Ventura / arm64  OK    OK    OK    OK  UNNEEDED, same version is already published
Package 37/54HostnameOS / ArchINSTALLBUILDCHECKBUILD BIN
OGRE 1.14.0  (landing page)
Sven Berres
git_last_commit: 0f074f4
git_last_commit_date: 2025-10-29 11:14:29 -0500
nebbiolo2Linux (Ubuntu 24.04.3 LTS) / x86_64  OK    OK    OK  UNNEEDED, same version is already published
kjohnson3macOS 13.7.7 Ventura / arm64  OK    OK    OK    OK  UNNEEDED, same version is already published
Package 38/54HostnameOS / ArchINSTALLBUILDCHECKBUILD BIN
ontoProc 2.4.0  (landing page)
Vincent Carey
git_last_commit: f2c1b3f
git_last_commit_date: 2025-10-29 19:20:08 -0500
nebbiolo2Linux (Ubuntu 24.04.3 LTS) / x86_64  OK    OK    OK  UNNEEDED, same version is already published
kjohnson3macOS 13.7.7 Ventura / arm64  OK    OK    OK    OK  UNNEEDED, same version is already published
Package 39/54HostnameOS / ArchINSTALLBUILDCHECKBUILD BIN
orthos 1.8.0  (landing page)
Panagiotis Papasaikas
git_last_commit: 53e77e2
git_last_commit_date: 2025-10-29 11:24:17 -0500
nebbiolo2Linux (Ubuntu 24.04.3 LTS) / x86_64  OK    OK    OK  UNNEEDED, same version is already published
kjohnson3macOS 13.7.7 Ventura / arm64  OK    ERROR  skippedskipped
Package 40/54HostnameOS / ArchINSTALLBUILDCHECKBUILD BIN
partCNV 1.8.0  (landing page)
Ziyi Li
git_last_commit: d29e8a0
git_last_commit_date: 2025-10-29 11:23:33 -0500
nebbiolo2Linux (Ubuntu 24.04.3 LTS) / x86_64  OK    OK    OK  UNNEEDED, same version is already published
kjohnson3macOS 13.7.7 Ventura / arm64  OK    OK    OK    OK  UNNEEDED, same version is already published
Package 41/54HostnameOS / ArchINSTALLBUILDCHECKBUILD BIN
psichomics 1.36.0  (landing page)
Nuno Saraiva-Agostinho
git_last_commit: 7123c18
git_last_commit_date: 2025-10-29 10:35:05 -0500
nebbiolo2Linux (Ubuntu 24.04.3 LTS) / x86_64  OK    OK    OK  UNNEEDED, same version is already published
kjohnson3macOS 13.7.7 Ventura / arm64  OK    OK    OK    OK  UNNEEDED, same version is already published
Package 42/54HostnameOS / ArchINSTALLBUILDCHECKBUILD BIN
regutools 1.22.0  (landing page)
Joselyn Chavez
git_last_commit: f94aecc
git_last_commit_date: 2025-10-29 10:59:10 -0500
nebbiolo2Linux (Ubuntu 24.04.3 LTS) / x86_64  OK    OK    OK  UNNEEDED, same version is already published
kjohnson3macOS 13.7.7 Ventura / arm64  OK    OK    OK    OK  UNNEEDED, same version is already published
Package 43/54HostnameOS / ArchINSTALLBUILDCHECKBUILD BIN
REMP 1.34.0  (landing page)
Yinan Zheng
git_last_commit: 7f2a04f
git_last_commit_date: 2025-10-29 10:36:53 -0500
nebbiolo2Linux (Ubuntu 24.04.3 LTS) / x86_64  OK    OK    OK  UNNEEDED, same version is already published
kjohnson3macOS 13.7.7 Ventura / arm64  OK    OK    OK    OK  UNNEEDED, same version is already published
Package 44/54HostnameOS / ArchINSTALLBUILDCHECKBUILD BIN
scanMiRApp 1.16.0  (landing page)
Pierre-Luc Germain
git_last_commit: bd87b89
git_last_commit_date: 2025-10-29 11:11:11 -0500
nebbiolo2Linux (Ubuntu 24.04.3 LTS) / x86_64  OK    OK    OK  UNNEEDED, same version is already published
kjohnson3macOS 13.7.7 Ventura / arm64  OK    OK    OK    OK  UNNEEDED, same version is already published
Package 45/54HostnameOS / ArchINSTALLBUILDCHECKBUILD BIN
scAnnotatR 1.16.0  (landing page)
Johannes Griss
git_last_commit: ebbbfcb
git_last_commit_date: 2025-10-29 11:11:54 -0500
nebbiolo2Linux (Ubuntu 24.04.3 LTS) / x86_64  OK    OK    WARNINGS  UNNEEDED, same version is already published
kjohnson3macOS 13.7.7 Ventura / arm64  OK    OK    WARNINGS    OK  UNNEEDED, same version is already published
Package 46/54HostnameOS / ArchINSTALLBUILDCHECKBUILD BIN
scmeth 1.30.0  (landing page)
Divy Kangeyan
git_last_commit: 0e01390
git_last_commit_date: 2025-10-29 10:43:21 -0500
nebbiolo2Linux (Ubuntu 24.04.3 LTS) / x86_64  OK    OK    OK  UNNEEDED, same version is already published
kjohnson3macOS 13.7.7 Ventura / arm64  OK    OK    OK    OK  UNNEEDED, same version is already published
Package 47/54HostnameOS / ArchINSTALLBUILDCHECKBUILD BIN
scTensor 2.20.0  (landing page)
Koki Tsuyuzaki
git_last_commit: 11f50bb
git_last_commit_date: 2025-10-29 10:49:00 -0500
nebbiolo2Linux (Ubuntu 24.04.3 LTS) / x86_64  OK    OK    WARNINGS  UNNEEDED, same version is already published
kjohnson3macOS 13.7.7 Ventura / arm64  OK    OK    WARNINGS    OK  UNNEEDED, same version is already published
Package 48/54HostnameOS / ArchINSTALLBUILDCHECKBUILD BIN
shinyDSP 1.2.0  (landing page)
Seung J. Kim
git_last_commit: 867bc12
git_last_commit_date: 2025-10-29 11:35:46 -0500
nebbiolo2Linux (Ubuntu 24.04.3 LTS) / x86_64  OK    OK    OK  UNNEEDED, same version is already published
kjohnson3macOS 13.7.7 Ventura / arm64  OK    OK    OK    OK  UNNEEDED, same version is already published
Package 49/54HostnameOS / ArchINSTALLBUILDCHECKBUILD BIN
singleCellTK 2.20.0  (landing page)
Joshua David Campbell
git_last_commit: e2bff7b
git_last_commit_date: 2025-10-29 11:29:49 -0500
nebbiolo2Linux (Ubuntu 24.04.3 LTS) / x86_64  OK    OK    OK  UNNEEDED, same version is already published
kjohnson3macOS 13.7.7 Ventura / arm64  OK    OK    OK    OK  UNNEEDED, same version is already published
Package 50/54HostnameOS / ArchINSTALLBUILDCHECKBUILD BIN
SpliceWiz 1.12.0  (landing page)
Alex Chit Hei Wong
git_last_commit: 1767347
git_last_commit_date: 2025-10-29 11:17:35 -0500
nebbiolo2Linux (Ubuntu 24.04.3 LTS) / x86_64  OK    OK    WARNINGS  UNNEEDED, same version is already published
kjohnson3macOS 13.7.7 Ventura / arm64  OK    OK    WARNINGS    OK  UNNEEDED, same version is already published
Package 51/54HostnameOS / ArchINSTALLBUILDCHECKBUILD BIN
TENET 1.2.0  (landing page)
Rhie Lab at the University of Southern California
git_last_commit: b0a4fcf
git_last_commit_date: 2025-10-29 11:34:59 -0500
nebbiolo2Linux (Ubuntu 24.04.3 LTS) / x86_64  OK    OK    OK  UNNEEDED, same version is already published
kjohnson3macOS 13.7.7 Ventura / arm64  OK    OK    OK    OK  UNNEEDED, same version is already published
Package 52/54HostnameOS / ArchINSTALLBUILDCHECKBUILD BIN
tximeta 1.28.0  (landing page)
Michael Love
git_last_commit: 4479514
git_last_commit_date: 2025-10-29 10:47:16 -0500
nebbiolo2Linux (Ubuntu 24.04.3 LTS) / x86_64  OK    OK    OK  UNNEEDED, same version is already published
kjohnson3macOS 13.7.7 Ventura / arm64  OK    OK    OK    OK  UNNEEDED, same version is already published
Package 53/54HostnameOS / ArchINSTALLBUILDCHECKBUILD BIN
Ularcirc 1.28.0  (landing page)
David Humphreys
git_last_commit: e6f04b4
git_last_commit_date: 2025-10-29 10:45:47 -0500
nebbiolo2Linux (Ubuntu 24.04.3 LTS) / x86_64  OK    OK    WARNINGS  UNNEEDED, same version is already published
kjohnson3macOS 13.7.7 Ventura / arm64  OK    OK    WARNINGS    OK  UNNEEDED, same version is already published
Package 54/54HostnameOS / ArchINSTALLBUILDCHECKBUILD BIN
xCell2 1.2.0  (landing page)
Almog Angel
git_last_commit: d42142a
git_last_commit_date: 2025-10-29 11:33:51 -0500
nebbiolo2Linux (Ubuntu 24.04.3 LTS) / x86_64  OK    OK    OK  UNNEEDED, same version is already published
kjohnson3macOS 13.7.7 Ventura / arm64  OK    OK    OK    OK  UNNEEDED, same version is already published