| Back to Multiple platform build/check report for BioC 3.22: simplified long |
|
This page was generated on 2025-11-14 11:58 -0500 (Fri, 14 Nov 2025).
| Hostname | OS | Arch (*) | R version | Installed pkgs |
|---|---|---|---|---|
| nebbiolo2 | Linux (Ubuntu 24.04.3 LTS) | x86_64 | 4.5.1 Patched (2025-08-23 r88802) -- "Great Square Root" | 4903 |
| taishan | Linux (openEuler 24.03 LTS) | aarch64 | 4.5.0 (2025-04-11) -- "How About a Twenty-Six" | 4668 |
| Click on any hostname to see more info about the system (e.g. compilers) (*) as reported by 'uname -p', except on Windows and Mac OS X | ||||
| Package 920/2361 | Hostname | OS / Arch | INSTALL | BUILD | CHECK | BUILD BIN | ||||||||
| GRaNIE 1.14.0 (landing page) Christian Arnold
| nebbiolo2 | Linux (Ubuntu 24.04.3 LTS) / x86_64 | OK | OK | OK | |||||||||
| taishan | Linux (openEuler 24.03 LTS) / aarch64 | OK | OK | OK | ||||||||||
|
To the developers/maintainers of the GRaNIE package: - Allow up to 24 hours (and sometimes 48 hours) for your latest push to git@git.bioconductor.org:packages/GRaNIE.git to reflect on this report. See Troubleshooting Build Report for more information. - Use the following Renviron settings to reproduce errors and warnings. - If 'R CMD check' started to fail recently on the Linux builder(s) over a missing dependency, add the missing dependency to 'Suggests:' in your DESCRIPTION file. See Renviron.bioc for more information. |
| Package: GRaNIE |
| Version: 1.14.0 |
| Command: /home/biocbuild/bbs-3.22-bioc/R/bin/R CMD check --install=check:GRaNIE.install-out.txt --library=/home/biocbuild/bbs-3.22-bioc/R/site-library --timings GRaNIE_1.14.0.tar.gz |
| StartedAt: 2025-11-14 00:21:17 -0500 (Fri, 14 Nov 2025) |
| EndedAt: 2025-11-14 00:31:50 -0500 (Fri, 14 Nov 2025) |
| EllapsedTime: 633.7 seconds |
| RetCode: 0 |
| Status: OK |
| CheckDir: GRaNIE.Rcheck |
| Warnings: 0 |
##############################################################################
##############################################################################
###
### Running command:
###
### /home/biocbuild/bbs-3.22-bioc/R/bin/R CMD check --install=check:GRaNIE.install-out.txt --library=/home/biocbuild/bbs-3.22-bioc/R/site-library --timings GRaNIE_1.14.0.tar.gz
###
##############################################################################
##############################################################################
* using log directory ‘/home/biocbuild/bbs-3.22-bioc/meat/GRaNIE.Rcheck’
* using R version 4.5.1 Patched (2025-08-23 r88802)
* using platform: x86_64-pc-linux-gnu
* R was compiled by
gcc (Ubuntu 13.3.0-6ubuntu2~24.04) 13.3.0
GNU Fortran (Ubuntu 13.3.0-6ubuntu2~24.04) 13.3.0
* running under: Ubuntu 24.04.3 LTS
* using session charset: UTF-8
* checking for file ‘GRaNIE/DESCRIPTION’ ... OK
* this is package ‘GRaNIE’ version ‘1.14.0’
* package encoding: UTF-8
* checking package namespace information ... OK
* checking package dependencies ... INFO
Imports includes 37 non-default packages.
Importing from so many packages makes the package vulnerable to any of
them becoming unavailable. Move as many as possible to Suggests and
use conditionally.
* checking if this is a source package ... OK
* checking if there is a namespace ... OK
* checking for hidden files and directories ... OK
* checking for portable file names ... OK
* checking for sufficient/correct file permissions ... OK
* checking whether package ‘GRaNIE’ can be installed ... OK
* checking installed package size ... OK
* checking package directory ... OK
* checking ‘build’ directory ... OK
* checking DESCRIPTION meta-information ... OK
* checking top-level files ... OK
* checking for left-over files ... OK
* checking index information ... OK
* checking package subdirectories ... OK
* checking code files for non-ASCII characters ... OK
* checking R files for syntax errors ... OK
* checking whether the package can be loaded ... OK
* checking whether the package can be loaded with stated dependencies ... OK
* checking whether the package can be unloaded cleanly ... OK
* checking whether the namespace can be loaded with stated dependencies ... OK
* checking whether the namespace can be unloaded cleanly ... OK
* checking loading without being on the library search path ... OK
* checking whether startup messages can be suppressed ... OK
* checking dependencies in R code ... OK
* checking S3 generic/method consistency ... OK
* checking replacement functions ... OK
* checking foreign function calls ... OK
* checking R code for possible problems ... NOTE
.performIHW: no visible binding for global variable 'adj_pvalue'
Undefined global functions or variables:
adj_pvalue
* checking Rd files ... OK
* checking Rd metadata ... OK
* checking Rd cross-references ... OK
* checking for missing documentation entries ... OK
* checking for code/documentation mismatches ... OK
* checking Rd \usage sections ... OK
* checking Rd contents ... OK
* checking for unstated dependencies in examples ... OK
* checking files in ‘vignettes’ ... OK
* checking examples ... OK
Examples with CPU (user + system) or elapsed time > 5s
user system elapsed
generateStatsSummary 9.189 0.128 10.878
plotDiagnosticPlots_peakGene 7.840 0.121 8.432
plotCommunitiesStats 6.463 0.059 6.930
addSNPData 5.782 0.476 7.747
plotCommunitiesEnrichment 5.191 0.089 5.829
getGRNSummary 5.000 0.166 5.578
plotDiagnosticPlots_TFPeaks 4.984 0.038 5.622
plotGeneralGraphStats 4.856 0.106 5.972
addConnections_TF_peak 3.808 1.049 7.587
overlapPeaksAndTFBS 4.453 0.016 6.087
* checking for unstated dependencies in vignettes ... OK
* checking package vignettes ... OK
* checking re-building of vignette outputs ... OK
* checking PDF version of manual ... OK
* DONE
Status: 1 NOTE
See
‘/home/biocbuild/bbs-3.22-bioc/meat/GRaNIE.Rcheck/00check.log’
for details.
GRaNIE.Rcheck/00install.out
############################################################################## ############################################################################## ### ### Running command: ### ### /home/biocbuild/bbs-3.22-bioc/R/bin/R CMD INSTALL GRaNIE ### ############################################################################## ############################################################################## * installing to library ‘/home/biocbuild/bbs-3.22-bioc/R/site-library’ * installing *source* package ‘GRaNIE’ ... ** this is package ‘GRaNIE’ version ‘1.14.0’ ** using staged installation ** R ** byte-compile and prepare package for lazy loading ** help *** installing help indices *** copying figures ** building package indices ** installing vignettes ** testing if installed package can be loaded from temporary location ** testing if installed package can be loaded from final location ** testing if installed package keeps a record of temporary installation path * DONE (GRaNIE)
GRaNIE.Rcheck/GRaNIE-Ex.timings
| name | user | system | elapsed | |
| AR_classification_wrapper | 0.001 | 0.000 | 0.000 | |
| addConnections_TF_peak | 3.808 | 1.049 | 7.587 | |
| addConnections_peak_gene | 2.852 | 0.256 | 3.510 | |
| addData | 0 | 0 | 0 | |
| addSNPData | 5.782 | 0.476 | 7.747 | |
| addTFBS | 0 | 0 | 0 | |
| add_TF_gene_correlation | 1.755 | 0.053 | 2.212 | |
| add_featureVariation | 0.001 | 0.000 | 0.000 | |
| build_eGRN_graph | 2.973 | 0.157 | 3.540 | |
| calculateCommunitiesEnrichment | 2.649 | 0.082 | 3.135 | |
| calculateCommunitiesStats | 1.999 | 0.053 | 2.469 | |
| calculateGeneralEnrichment | 1.937 | 0.021 | 2.374 | |
| calculateTFEnrichment | 2.121 | 0.031 | 2.588 | |
| changeOutputDirectory | 1.816 | 0.017 | 2.234 | |
| deleteIntermediateData | 1.662 | 0.020 | 2.104 | |
| filterConnectionsForPlotting | 1.702 | 0.022 | 2.120 | |
| filterData | 3.142 | 0.145 | 3.688 | |
| filterGRNAndConnectGenes | 1.701 | 0.019 | 2.121 | |
| generateStatsSummary | 9.189 | 0.128 | 10.878 | |
| getCounts | 2.162 | 0.060 | 2.658 | |
| getGRNConnections | 3.082 | 0.041 | 4.001 | |
| getGRNSummary | 5.000 | 0.166 | 5.578 | |
| getParameters | 2.539 | 0.030 | 2.974 | |
| getTopNodes | 2.605 | 0.016 | 3.205 | |
| initializeGRN | 0.038 | 0.000 | 0.039 | |
| loadExampleObject | 2.537 | 0.020 | 3.277 | |
| nGenes | 2.042 | 0.023 | 2.608 | |
| nPeaks | 2.845 | 0.025 | 3.926 | |
| nTFs | 1.831 | 0.015 | 2.265 | |
| overlapPeaksAndTFBS | 4.453 | 0.016 | 6.087 | |
| performAllNetworkAnalyses | 0 | 0 | 0 | |
| plotCommunitiesEnrichment | 5.191 | 0.089 | 5.829 | |
| plotCommunitiesStats | 6.463 | 0.059 | 6.930 | |
| plotCorrelations | 2.595 | 0.018 | 3.025 | |
| plotDiagnosticPlots_TFPeaks | 4.984 | 0.038 | 5.622 | |
| plotDiagnosticPlots_peakGene | 7.840 | 0.121 | 8.432 | |
| plotGeneralEnrichment | 2.662 | 0.033 | 3.243 | |
| plotGeneralGraphStats | 4.856 | 0.106 | 5.972 | |
| plotPCA_all | 2.608 | 0.050 | 3.088 | |
| plotTFEnrichment | 3.576 | 0.048 | 4.022 | |
| plot_stats_connectionSummary | 2.202 | 0.015 | 2.618 | |
| visualizeGRN | 2.751 | 0.010 | 3.176 | |