Back to Multiple platform build/check report for BioC 3.22:   simplified   long
AB[C]DEFGHIJKLMNOPQRSTUVWXYZ

This page was generated on 2025-11-20 12:03 -0500 (Thu, 20 Nov 2025).

HostnameOSArch (*)R versionInstalled pkgs
nebbiolo2Linux (Ubuntu 24.04.3 LTS)x86_644.5.2 (2025-10-31) -- "[Not] Part in a Rumble" 4615
merida1macOS 12.7.6 Montereyx86_644.5.2 Patched (2025-11-05 r88990) -- "[Not] Part in a Rumble" 4610
kjohnson1macOS 13.7.5 Venturaarm644.5.2 Patched (2025-11-04 r88984) -- "[Not] Part in a Rumble" 4598
taishanLinux (openEuler 24.03 LTS)aarch644.5.0 (2025-04-11) -- "How About a Twenty-Six" 4668
Click on any hostname to see more info about the system (e.g. compilers)      (*) as reported by 'uname -p', except on Windows and Mac OS X

Package 428/2361HostnameOS / ArchINSTALLBUILDCHECKBUILD BIN
coMethDMR 1.14.0  (landing page)
Fernanda Veitzman
Snapshot Date: 2025-11-17 13:45 -0500 (Mon, 17 Nov 2025)
git_url: https://git.bioconductor.org/packages/coMethDMR
git_branch: RELEASE_3_22
git_last_commit: 052092e
git_last_commit_date: 2025-10-29 11:14:12 -0500 (Wed, 29 Oct 2025)
nebbiolo2Linux (Ubuntu 24.04.3 LTS) / x86_64  OK    OK    OK  UNNEEDED, same version is already published
merida1macOS 12.7.6 Monterey / x86_64  OK    OK    OK    OK  UNNEEDED, same version is already published
kjohnson1macOS 13.7.5 Ventura / arm64  OK    OK    OK    OK  UNNEEDED, same version is already published
taishanLinux (openEuler 24.03 LTS) / aarch64  OK    OK    WARNINGS  


CHECK results for coMethDMR on nebbiolo2

To the developers/maintainers of the coMethDMR package:
- Allow up to 24 hours (and sometimes 48 hours) for your latest push to git@git.bioconductor.org:packages/coMethDMR.git to reflect on this report. See Troubleshooting Build Report for more information.
- Use the following Renviron settings to reproduce errors and warnings.
- If 'R CMD check' started to fail recently on the Linux builder(s) over a missing dependency, add the missing dependency to 'Suggests:' in your DESCRIPTION file. See Renviron.bioc for more information.

raw results


Summary

Package: coMethDMR
Version: 1.14.0
Command: /home/biocbuild/bbs-3.22-bioc/R/bin/R CMD check --install=check:coMethDMR.install-out.txt --library=/home/biocbuild/bbs-3.22-bioc/R/site-library --timings coMethDMR_1.14.0.tar.gz
StartedAt: 2025-11-18 02:11:22 -0500 (Tue, 18 Nov 2025)
EndedAt: 2025-11-18 02:29:52 -0500 (Tue, 18 Nov 2025)
EllapsedTime: 1109.9 seconds
RetCode: 0
Status:   OK  
CheckDir: coMethDMR.Rcheck
Warnings: 0

Command output

##############################################################################
##############################################################################
###
### Running command:
###
###   /home/biocbuild/bbs-3.22-bioc/R/bin/R CMD check --install=check:coMethDMR.install-out.txt --library=/home/biocbuild/bbs-3.22-bioc/R/site-library --timings coMethDMR_1.14.0.tar.gz
###
##############################################################################
##############################################################################


* using log directory ‘/home/biocbuild/bbs-3.22-bioc/meat/coMethDMR.Rcheck’
* using R version 4.5.2 (2025-10-31)
* using platform: x86_64-pc-linux-gnu
* R was compiled by
    gcc (Ubuntu 13.3.0-6ubuntu2~24.04) 13.3.0
    GNU Fortran (Ubuntu 13.3.0-6ubuntu2~24.04) 13.3.0
* running under: Ubuntu 24.04.3 LTS
* using session charset: UTF-8
* checking for file ‘coMethDMR/DESCRIPTION’ ... OK
* this is package ‘coMethDMR’ version ‘1.14.0’
* package encoding: UTF-8
* checking package namespace information ... OK
* checking package dependencies ... OK
* checking if this is a source package ... OK
* checking if there is a namespace ... OK
* checking for hidden files and directories ... OK
* checking for portable file names ... OK
* checking for sufficient/correct file permissions ... OK
* checking whether package ‘coMethDMR’ can be installed ... OK
* checking installed package size ... OK
* checking package directory ... OK
* checking ‘build’ directory ... OK
* checking DESCRIPTION meta-information ... OK
* checking top-level files ... OK
* checking for left-over files ... OK
* checking index information ... OK
* checking package subdirectories ... OK
* checking code files for non-ASCII characters ... OK
* checking R files for syntax errors ... OK
* checking whether the package can be loaded ... OK
* checking whether the package can be loaded with stated dependencies ... OK
* checking whether the package can be unloaded cleanly ... OK
* checking whether the namespace can be loaded with stated dependencies ... OK
* checking whether the namespace can be unloaded cleanly ... OK
* checking loading without being on the library search path ... OK
* checking whether startup messages can be suppressed ... OK
* checking dependencies in R code ... OK
* checking S3 generic/method consistency ... OK
* checking replacement functions ... OK
* checking foreign function calls ... OK
* checking R code for possible problems ... NOTE
File ‘coMethDMR/R/zzz.R’:
  .onLoad calls:
    packageStartupMessage("Checking for cached SeSAMe data.")
    packageStartupMessage("Caching SeSAMe data for 450k/EPIC arrays.")

See section ‘Good practice’ in '?.onAttach'.
* checking Rd files ... NOTE
checkRd: (-1) AnnotateResults.Rd:13: Lost braces in \itemize; meant \describe ?
checkRd: (-1) AnnotateResults.Rd:14: Lost braces in \itemize; meant \describe ?
checkRd: (-1) AnnotateResults.Rd:15: Lost braces in \itemize; meant \describe ?
checkRd: (-1) CoMethSingleRegion.Rd:55-60: Lost braces in \itemize; \value handles \item{}{} directly
checkRd: (-1) CoMethSingleRegion.Rd:61-63: Lost braces in \itemize; \value handles \item{}{} directly
checkRd: (-1) CreateRdrop.Rd:23: Lost braces in \itemize; \value handles \item{}{} directly
checkRd: (-1) CreateRdrop.Rd:24-25: Lost braces in \itemize; \value handles \item{}{} directly
checkRd: (-1) MarkComethylatedCpGs.Rd:44: Lost braces in \itemize; \value handles \item{}{} directly
checkRd: (-1) MarkComethylatedCpGs.Rd:45-46: Lost braces in \itemize; \value handles \item{}{} directly
checkRd: (-1) MarkComethylatedCpGs.Rd:47: Lost braces in \itemize; \value handles \item{}{} directly
checkRd: (-1) MarkComethylatedCpGs.Rd:48-49: Lost braces in \itemize; \value handles \item{}{} directly
checkRd: (-1) MarkMissing.Rd:23-24: Lost braces in \itemize; \value handles \item{}{} directly
checkRd: (-1) MarkMissing.Rd:25-26: Lost braces in \itemize; \value handles \item{}{} directly
checkRd: (-1) MarkMissing.Rd:27-28: Lost braces in \itemize; \value handles \item{}{} directly
checkRd: (-1) MarkMissing.Rd:29-30: Lost braces in \itemize; \value handles \item{}{} directly
* checking Rd metadata ... OK
* checking Rd cross-references ... OK
* checking for missing documentation entries ... OK
* checking for code/documentation mismatches ... OK
* checking Rd \usage sections ... OK
* checking Rd contents ... OK
* checking for unstated dependencies in examples ... OK
* checking contents of ‘data’ directory ... OK
* checking data for non-ASCII characters ... OK
* checking data for ASCII and uncompressed saves ... OK
* checking files in ‘vignettes’ ... OK
* checking examples ... OK
Examples with CPU (user + system) or elapsed time > 5s
                      user system elapsed
CoMethSingleRegion  28.351  0.559  48.032
lmmTest             22.520  0.319  59.443
SplitCpGDFbyRegion  17.813  0.197  24.257
lmmTestAllRegions   16.538  0.377  24.269
CpGsInfoOneRegion   15.944  0.221  21.368
CoMethAllRegions    10.662  0.492  12.508
GetCpGsInRegion     10.992  0.103  16.248
AnnotateResults     10.302  0.605  10.906
CpGsInfoAllRegions   6.359  0.081   9.368
CloseBySingleRegion  6.127  0.177   7.348
CreateOutputDF       6.007  0.159   7.413
OrderCpGsByLocation  5.466  0.095   6.378
ImportSesameData     5.131  0.066  10.127
* checking for unstated dependencies in ‘tests’ ... OK
* checking tests ...
  Running ‘testthat.R’
 OK
* checking for unstated dependencies in vignettes ... OK
* checking package vignettes ... OK
* checking re-building of vignette outputs ... OK
* checking PDF version of manual ... OK
* DONE

Status: 2 NOTEs
See
  ‘/home/biocbuild/bbs-3.22-bioc/meat/coMethDMR.Rcheck/00check.log’
for details.


Installation output

coMethDMR.Rcheck/00install.out

##############################################################################
##############################################################################
###
### Running command:
###
###   /home/biocbuild/bbs-3.22-bioc/R/bin/R CMD INSTALL coMethDMR
###
##############################################################################
##############################################################################


* installing to library ‘/home/biocbuild/bbs-3.22-bioc/R/site-library’
* installing *source* package ‘coMethDMR’ ...
** this is package ‘coMethDMR’ version ‘1.14.0’
** using staged installation
** R
** data
** inst
** byte-compile and prepare package for lazy loading
** help
*** installing help indices
** building package indices
** installing vignettes
** testing if installed package can be loaded from temporary location
** testing if installed package can be loaded from final location
** testing if installed package keeps a record of temporary installation path
* DONE (coMethDMR)

Tests output

coMethDMR.Rcheck/tests/testthat.Rout


R version 4.5.2 (2025-10-31) -- "[Not] Part in a Rumble"
Copyright (C) 2025 The R Foundation for Statistical Computing
Platform: x86_64-pc-linux-gnu

R is free software and comes with ABSOLUTELY NO WARRANTY.
You are welcome to redistribute it under certain conditions.
Type 'license()' or 'licence()' for distribution details.

R is a collaborative project with many contributors.
Type 'contributors()' for more information and
'citation()' on how to cite R or R packages in publications.

Type 'demo()' for some demos, 'help()' for on-line help, or
'help.start()' for an HTML browser interface to help.
Type 'q()' to quit R.

> library(testthat)
> library(coMethDMR)
Checking for cached SeSAMe data.
> 
> test_check("coMethDMR")
[ FAIL 0 | WARN 0 | SKIP 0 | PASS 12 ]
> 
> proc.time()
   user  system elapsed 
 55.125   2.146  72.415 

Example timings

coMethDMR.Rcheck/coMethDMR-Ex.timings

nameusersystemelapsed
AnnotateResults10.302 0.60510.906
CloseBySingleRegion6.1270.1777.348
CoMethAllRegions10.662 0.49212.508
CoMethSingleRegion28.351 0.55948.032
CpGsInfoAllRegions6.3590.0819.368
CpGsInfoOneRegion15.944 0.22121.368
CreateOutputDF6.0070.1597.413
CreateParallelWorkers1.4360.1521.588
CreateRdrop0.0030.0000.003
FindComethylatedRegions0.0130.0010.014
GetCpGsInRegion10.992 0.10316.248
GetResiduals0.2010.0030.203
ImportSesameData 5.131 0.06610.127
MarkComethylatedCpGs0.0040.0000.003
MarkMissing0.0020.0010.003
NameRegion0.0000.0000.001
OrderCpGsByLocation5.4660.0956.378
RegionsToRanges0.0100.0010.011
SplitCpGDFbyRegion17.813 0.19724.257
WriteCloseByAllRegions0.0360.0020.038
lmmTest22.520 0.31959.443
lmmTestAllRegions16.538 0.37724.269