Back to Build/check report for BioC 3.22:   simplified   long
ABCDEFGHIJKLMNOPQR[S]TUVWXYZ

This page was generated on 2025-10-27 12:45 -0400 (Mon, 27 Oct 2025).

HostnameOSArch (*)R versionInstalled pkgs
kjohnson3macOS 13.7.7 Venturaarm644.5.1 Patched (2025-09-10 r88807) -- "Great Square Root" 4637
Click on any hostname to see more info about the system (e.g. compilers)      (*) as reported by 'uname -p', except on Windows and Mac OS X

All results for package scater


To the developers/maintainers of the scater package:
- Allow up to 24 hours (and sometimes 48 hours) for your latest push to git@git.bioconductor.org:packages/scater.git to reflect on this report. See Troubleshooting Build Report for more information.
- Use the following Renviron settings to reproduce errors and warnings.
- If 'R CMD check' started to fail recently on the Linux builder(s) over a missing dependency, add the missing dependency to 'Suggests:' in your DESCRIPTION file. See Renviron.bioc for more information.

raw results

Package 1905/2361HostnameOS / ArchINSTALLBUILDCHECKBUILD BIN
scater 1.37.0  (landing page)
Alan O'Callaghan
Snapshot Date: 2025-10-26 13:45 -0400 (Sun, 26 Oct 2025)
git_url: https://git.bioconductor.org/packages/scater
git_branch: devel
git_last_commit: aaaa4b0
git_last_commit_date: 2025-04-15 10:58:25 -0400 (Tue, 15 Apr 2025)
kjohnson3macOS 13.7.7 Ventura / arm64  OK    OK    ERROR    OK  



Results for Bioconductor software packages that depend directly on package scater

QUICK STATSOS / ArchINSTALLBUILDCHECKBUILD BIN
kjohnson3macOS 13.7.7 Ventura / arm64
0037
0829
01226
0029
Package 1/37HostnameOS / ArchINSTALLBUILDCHECKBUILD BIN
airpart 1.17.0  (landing page)
Wancen Mu
git_last_commit: 451afcf
git_last_commit_date: 2025-04-15 12:24:36 -0400
kjohnson3macOS 13.7.7 Ventura / arm64  OK    OK    OK    OK  UNNEEDED, same version is already published
Package 2/37HostnameOS / ArchINSTALLBUILDCHECKBUILD BIN
BayesSpace 1.19.5  (landing page)
Senbai Kang
git_last_commit: 30eaa4f
git_last_commit_date: 2025-10-13 12:38:51 -0400
kjohnson3macOS 13.7.7 Ventura / arm64  OK    OK    OK    OK  UNNEEDED, same version is already published
Package 3/37HostnameOS / ArchINSTALLBUILDCHECKBUILD BIN
blase 0.99.5  (landing page)
Andrew McCluskey
git_last_commit: 15b9ddf
git_last_commit_date: 2025-10-15 05:31:32 -0400
kjohnson3macOS 13.7.7 Ventura / arm64  OK    OK    OK    OK  UNNEEDED, same version is already published
Package 4/37HostnameOS / ArchINSTALLBUILDCHECKBUILD BIN
CATALYST 1.33.1  (landing page)
Helena L. Crowell
git_last_commit: 0262c36
git_last_commit_date: 2025-07-13 09:49:24 -0400
kjohnson3macOS 13.7.7 Ventura / arm64  OK    OK    OK    OK  UNNEEDED, same version is already published
Package 5/37HostnameOS / ArchINSTALLBUILDCHECKBUILD BIN
celda 1.25.0  (landing page)
Joshua Campbell
git_last_commit: b623680
git_last_commit_date: 2025-04-15 11:46:22 -0400
kjohnson3macOS 13.7.7 Ventura / arm64  OK    ERROR  skippedskipped
Package 6/37HostnameOS / ArchINSTALLBUILDCHECKBUILD BIN
CelliD 1.17.0  (landing page)
Akira Cortal
git_last_commit: b801e21
git_last_commit_date: 2025-04-15 12:23:04 -0400
kjohnson3macOS 13.7.7 Ventura / arm64  OK    ERROR  skippedskipped
Package 7/37HostnameOS / ArchINSTALLBUILDCHECKBUILD BIN
CellMixS 1.25.1  (landing page)
Almut Lütge
git_last_commit: 8bd27b2
git_last_commit_date: 2025-10-14 14:32:16 -0400
kjohnson3macOS 13.7.7 Ventura / arm64  OK    OK    OK    OK  UNNEEDED, same version is already published
Package 8/37HostnameOS / ArchINSTALLBUILDCHECKBUILD BIN
chevreulPlot 1.1.2  (landing page)
Kevin Stachelek
git_last_commit: 3745106
git_last_commit_date: 2025-06-04 21:56:43 -0400
kjohnson3macOS 13.7.7 Ventura / arm64  OK    OK    OK    OK  UNNEEDED, same version is already published
Package 9/37HostnameOS / ArchINSTALLBUILDCHECKBUILD BIN
chevreulProcess 1.1.2  (landing page)
Kevin Stachelek
git_last_commit: eabcf1a
git_last_commit_date: 2025-06-04 21:45:43 -0400
kjohnson3macOS 13.7.7 Ventura / arm64  OK    OK    OK    OK  UNNEEDED, same version is already published
Package 10/37HostnameOS / ArchINSTALLBUILDCHECKBUILD BIN
ChromSCape 1.19.1  (landing page)
Pacome Prompsy
git_last_commit: a4985c2
git_last_commit_date: 2025-08-01 10:39:23 -0400
kjohnson3macOS 13.7.7 Ventura / arm64  OK    OK    WARNINGS    OK  UNNEEDED, same version is already published
Package 11/37HostnameOS / ArchINSTALLBUILDCHECKBUILD BIN
clustSIGNAL 1.1.1  (landing page)
Pratibha Panwar
git_last_commit: 2582377
git_last_commit_date: 2025-10-14 14:33:45 -0400
kjohnson3macOS 13.7.7 Ventura / arm64  OK    OK    OK    OK  UNNEEDED, same version is already published
Package 12/37HostnameOS / ArchINSTALLBUILDCHECKBUILD BIN
decontX 1.7.0  (landing page)
Joshua Campbell
git_last_commit: e2086dd
git_last_commit_date: 2025-04-15 13:24:25 -0400
kjohnson3macOS 13.7.7 Ventura / arm64  OK    ERROR  skippedskipped
Package 13/37HostnameOS / ArchINSTALLBUILDCHECKBUILD BIN
distinct 1.21.1  (landing page)
Simone Tiberi
git_last_commit: 27ff38a
git_last_commit_date: 2025-10-14 14:50:44 -0400
kjohnson3macOS 13.7.7 Ventura / arm64  OK    OK    OK    OK  UNNEEDED, same version is already published
Package 14/37HostnameOS / ArchINSTALLBUILDCHECKBUILD BIN
epiregulon.extra 1.5.1  (landing page)
Xiaosai Yao
git_last_commit: fd77454
git_last_commit_date: 2025-10-16 06:11:40 -0400
kjohnson3macOS 13.7.7 Ventura / arm64  OK    ERROR  skippedskipped
Package 15/37HostnameOS / ArchINSTALLBUILDCHECKBUILD BIN
FLAMES 2.3.5  (landing page)
Changqing Wang
git_last_commit: 5771592
git_last_commit_date: 2025-09-12 02:43:50 -0400
kjohnson3macOS 13.7.7 Ventura / arm64  OK    OK    OK    OK  UNNEEDED, same version is already published
Package 16/37HostnameOS / ArchINSTALLBUILDCHECKBUILD BIN
M3Drop 1.35.0  (landing page)
Tallulah Andrews
git_last_commit: 66aa05f
git_last_commit_date: 2025-04-15 11:06:38 -0400
kjohnson3macOS 13.7.7 Ventura / arm64  OK    OK    OK    OK  UNNEEDED, same version is already published
Package 17/37HostnameOS / ArchINSTALLBUILDCHECKBUILD BIN
MEB 1.23.1  (landing page)
Jiadi Zhu
git_last_commit: ab93099
git_last_commit_date: 2025-10-14 14:54:18 -0400
kjohnson3macOS 13.7.7 Ventura / arm64  OK    OK    OK    OK  UNNEEDED, same version is already published
Package 18/37HostnameOS / ArchINSTALLBUILDCHECKBUILD BIN
mia 1.17.11  (landing page)
Tuomas Borman
git_last_commit: 6d255d9
git_last_commit_date: 2025-10-24 08:26:32 -0400
kjohnson3macOS 13.7.7 Ventura / arm64  OK    OK    ERROR    OK  
Package 19/37HostnameOS / ArchINSTALLBUILDCHECKBUILD BIN
miaDash 1.1.5  (landing page)
Giulio Benedetti
git_last_commit: 6b11cd5
git_last_commit_date: 2025-09-09 14:53:53 -0400
kjohnson3macOS 13.7.7 Ventura / arm64  OK    OK    OK    OK  NO, package depends on 'mia' which is only available as a source package that needs compilation
Package 20/37HostnameOS / ArchINSTALLBUILDCHECKBUILD BIN
miaViz 1.17.10  (landing page)
Tuomas Borman
git_last_commit: 530a086
git_last_commit_date: 2025-10-14 09:16:30 -0400
kjohnson3macOS 13.7.7 Ventura / arm64  OK    OK    OK    OK  NO, package depends on 'mia' which is only available as a source package that needs compilation
Package 21/37HostnameOS / ArchINSTALLBUILDCHECKBUILD BIN
muscat 1.23.2  (landing page)
Helena L. Crowell
git_last_commit: 8bb91e1
git_last_commit_date: 2025-10-15 04:02:09 -0400
kjohnson3macOS 13.7.7 Ventura / arm64  OK    ERROR  skippedskipped
Package 22/37HostnameOS / ArchINSTALLBUILDCHECKBUILD BIN
netSmooth 1.29.0  (landing page)
Jonathan Ronen
git_last_commit: 8c5f82a
git_last_commit_date: 2025-04-15 11:33:38 -0400
kjohnson3macOS 13.7.7 Ventura / arm64  OK    OK    OK    OK  UNNEEDED, same version is already published
Package 23/37HostnameOS / ArchINSTALLBUILDCHECKBUILD BIN
omicsGMF 0.99.7  (landing page)
Alexandre Segers
git_last_commit: 14caf2e
git_last_commit_date: 2025-10-21 17:03:34 -0400
kjohnson3macOS 13.7.7 Ventura / arm64  OK    OK    OK    OK  UNNEEDED, same version is already published
Package 24/37HostnameOS / ArchINSTALLBUILDCHECKBUILD BIN
peco 1.21.1  (landing page)
Chiaowen Joyce Hsiao
git_last_commit: c6caf77
git_last_commit_date: 2025-10-14 14:56:11 -0400
kjohnson3macOS 13.7.7 Ventura / arm64  OK    OK    OK    OK  UNNEEDED, same version is already published
Package 25/37HostnameOS / ArchINSTALLBUILDCHECKBUILD BIN
pipeComp 1.19.0  (landing page)
Pierre-Luc Germain
git_last_commit: 8ae56d1
git_last_commit_date: 2025-04-15 12:03:57 -0400
kjohnson3macOS 13.7.7 Ventura / arm64  OK    OK    OK    OK  UNNEEDED, same version is already published
Package 26/37HostnameOS / ArchINSTALLBUILDCHECKBUILD BIN
RegionalST 1.7.1  (landing page)
Ziyi Li
git_last_commit: 2d8f9b1
git_last_commit_date: 2025-10-14 14:57:35 -0400
kjohnson3macOS 13.7.7 Ventura / arm64  OK    OK    OK    OK  UNNEEDED, same version is already published
Package 27/37HostnameOS / ArchINSTALLBUILDCHECKBUILD BIN
scDblFinder 1.23.9  (landing page)
Pierre-Luc Germain
git_last_commit: d847f68
git_last_commit_date: 2025-10-23 03:46:31 -0400
kjohnson3macOS 13.7.7 Ventura / arm64  OK    ERROR  skippedskipped
Package 28/37HostnameOS / ArchINSTALLBUILDCHECKBUILD BIN
scDotPlot 1.3.1  (landing page)
Benjamin I Laufer
git_last_commit: 4db1f01
git_last_commit_date: 2025-07-10 13:22:39 -0400
kjohnson3macOS 13.7.7 Ventura / arm64  OK    OK    OK    OK  UNNEEDED, same version is already published
Package 29/37HostnameOS / ArchINSTALLBUILDCHECKBUILD BIN
scMerge 1.25.1  (landing page)
Yingxin Lin
git_last_commit: 49cb40c
git_last_commit_date: 2025-10-14 14:58:51 -0400
kjohnson3macOS 13.7.7 Ventura / arm64  OK    OK    OK    OK  UNNEEDED, same version is already published
Package 30/37HostnameOS / ArchINSTALLBUILDCHECKBUILD BIN
scTreeViz 1.15.0  (landing page)
Jayaram Kancherla
git_last_commit: f560983
git_last_commit_date: 2025-04-15 12:39:39 -0400
kjohnson3macOS 13.7.7 Ventura / arm64  OK    OK    OK    OK  UNNEEDED, same version is already published
Package 31/37HostnameOS / ArchINSTALLBUILDCHECKBUILD BIN
scviR 1.9.14  (landing page)
Vincent Carey
git_last_commit: a7a94a2
git_last_commit_date: 2025-10-21 12:30:36 -0400
kjohnson3macOS 13.7.7 Ventura / arm64  OK    ERROR  skippedskipped
Package 32/37HostnameOS / ArchINSTALLBUILDCHECKBUILD BIN
shinyDSP 1.1.2  (landing page)
Seung J. Kim
git_last_commit: e8ec355
git_last_commit_date: 2025-06-12 01:45:14 -0400
kjohnson3macOS 13.7.7 Ventura / arm64  OK    ERROR  skippedskipped
Package 33/37HostnameOS / ArchINSTALLBUILDCHECKBUILD BIN
singleCellTK 2.19.2  (landing page)
Joshua David Campbell
git_last_commit: 238aed05
git_last_commit_date: 2025-09-26 08:22:06 -0400
kjohnson3macOS 13.7.7 Ventura / arm64  OK    OK    OK    OK  UNNEEDED, same version is already published
Package 34/37HostnameOS / ArchINSTALLBUILDCHECKBUILD BIN
SpaceTrooper 0.99.49  (landing page)
Dario Righelli
git_last_commit: ac46d55
git_last_commit_date: 2025-10-24 06:56:16 -0400
kjohnson3macOS 13.7.7 Ventura / arm64  OK    OK    OK    OK  UNNEEDED, same version is already published
Package 35/37HostnameOS / ArchINSTALLBUILDCHECKBUILD BIN
Spaniel 1.23.0  (landing page)
Rachel Queen
git_last_commit: 11182b5
git_last_commit_date: 2025-04-15 11:50:12 -0400
kjohnson3macOS 13.7.7 Ventura / arm64  OK    OK    OK    OK  UNNEEDED, same version is already published
Package 36/37HostnameOS / ArchINSTALLBUILDCHECKBUILD BIN
tricycle 1.17.1  (landing page)
Shijie Zheng
git_last_commit: 978fa4d
git_last_commit_date: 2025-10-14 15:04:44 -0400
kjohnson3macOS 13.7.7 Ventura / arm64  OK    OK    WARNINGS    OK  UNNEEDED, same version is already published
Package 37/37HostnameOS / ArchINSTALLBUILDCHECKBUILD BIN
VAExprs 1.15.0  (landing page)
Dongmin Jung
git_last_commit: 57cbbb9
git_last_commit_date: 2025-04-15 12:35:46 -0400
kjohnson3macOS 13.7.7 Ventura / arm64  OK    OK    OK    OK  UNNEEDED, same version is already published