| Back to Multiple platform build/check report for BioC 3.22: simplified long |
|
This page was generated on 2025-10-25 12:03 -0400 (Sat, 25 Oct 2025).
| Hostname | OS | Arch (*) | R version | Installed pkgs |
|---|---|---|---|---|
| nebbiolo2 | Linux (Ubuntu 24.04.3 LTS) | x86_64 | 4.5.1 Patched (2025-08-23 r88802) -- "Great Square Root" | 4901 |
| lconway | macOS 12.7.6 Monterey | x86_64 | 4.5.1 Patched (2025-09-10 r88807) -- "Great Square Root" | 4691 |
| kjohnson3 | macOS 13.7.7 Ventura | arm64 | 4.5.1 Patched (2025-09-10 r88807) -- "Great Square Root" | 4637 |
| taishan | Linux (openEuler 24.03 LTS) | aarch64 | 4.5.0 (2025-04-11) -- "How About a Twenty-Six" | 4658 |
| Click on any hostname to see more info about the system (e.g. compilers) (*) as reported by 'uname -p', except on Windows and Mac OS X | ||||
| Package 1167/2361 | Hostname | OS / Arch | INSTALL | BUILD | CHECK | BUILD BIN | ||||||||
| M3Drop 1.35.0 (landing page) Tallulah Andrews
| nebbiolo2 | Linux (Ubuntu 24.04.3 LTS) / x86_64 | OK | OK | OK | |||||||||
| lconway | macOS 12.7.6 Monterey / x86_64 | OK | OK | OK | OK | |||||||||
| kjohnson3 | macOS 13.7.7 Ventura / arm64 | OK | OK | OK | OK | |||||||||
| taishan | Linux (openEuler 24.03 LTS) / aarch64 | OK | NA | NA | ||||||||||
|
To the developers/maintainers of the M3Drop package: - Allow up to 24 hours (and sometimes 48 hours) for your latest push to git@git.bioconductor.org:packages/M3Drop.git to reflect on this report. See Troubleshooting Build Report for more information. - Use the following Renviron settings to reproduce errors and warnings. - If 'R CMD check' started to fail recently on the Linux builder(s) over a missing dependency, add the missing dependency to 'Suggests:' in your DESCRIPTION file. See Renviron.bioc for more information. |
| Package: M3Drop |
| Version: 1.35.0 |
| Command: /home/biocbuild/bbs-3.22-bioc/R/bin/R CMD check --install=check:M3Drop.install-out.txt --library=/home/biocbuild/bbs-3.22-bioc/R/site-library --timings M3Drop_1.35.0.tar.gz |
| StartedAt: 2025-10-25 01:05:33 -0400 (Sat, 25 Oct 2025) |
| EndedAt: 2025-10-25 01:12:37 -0400 (Sat, 25 Oct 2025) |
| EllapsedTime: 423.7 seconds |
| RetCode: 0 |
| Status: OK |
| CheckDir: M3Drop.Rcheck |
| Warnings: 0 |
##############################################################################
##############################################################################
###
### Running command:
###
### /home/biocbuild/bbs-3.22-bioc/R/bin/R CMD check --install=check:M3Drop.install-out.txt --library=/home/biocbuild/bbs-3.22-bioc/R/site-library --timings M3Drop_1.35.0.tar.gz
###
##############################################################################
##############################################################################
* using log directory ‘/home/biocbuild/bbs-3.22-bioc/meat/M3Drop.Rcheck’
* using R version 4.5.1 Patched (2025-08-23 r88802)
* using platform: x86_64-pc-linux-gnu
* R was compiled by
gcc (Ubuntu 13.3.0-6ubuntu2~24.04) 13.3.0
GNU Fortran (Ubuntu 13.3.0-6ubuntu2~24.04) 13.3.0
* running under: Ubuntu 24.04.3 LTS
* using session charset: UTF-8
* checking for file ‘M3Drop/DESCRIPTION’ ... OK
* this is package ‘M3Drop’ version ‘1.35.0’
* checking package namespace information ... OK
* checking package dependencies ... OK
* checking if this is a source package ... OK
* checking if there is a namespace ... OK
* checking for hidden files and directories ... OK
* checking for portable file names ... OK
* checking for sufficient/correct file permissions ... OK
* checking whether package ‘M3Drop’ can be installed ... OK
* checking installed package size ... OK
* checking package directory ... OK
* checking ‘build’ directory ... OK
* checking DESCRIPTION meta-information ... OK
* checking top-level files ... OK
* checking for left-over files ... OK
* checking index information ... OK
* checking package subdirectories ... OK
* checking code files for non-ASCII characters ... OK
* checking R files for syntax errors ... OK
* checking whether the package can be loaded ... OK
* checking whether the package can be loaded with stated dependencies ... OK
* checking whether the package can be unloaded cleanly ... OK
* checking whether the namespace can be loaded with stated dependencies ... OK
* checking whether the namespace can be unloaded cleanly ... OK
* checking loading without being on the library search path ... OK
* checking dependencies in R code ... NOTE
Namespace in Imports field not imported from: ‘scater’
All declared Imports should be used.
* checking S3 generic/method consistency ... OK
* checking replacement functions ... OK
* checking foreign function calls ... OK
* checking R code for possible problems ... NOTE
M3DropConvertData: no visible global function definition for ‘assays’
NBumiConvertData: no visible global function definition for ‘assays’
bg__filter_cells: no visible binding for global variable ‘x’
bg__get_extreme_residuals: no visible binding for global variable ‘x’
Undefined global functions or variables:
assays x
* checking Rd files ... NOTE
prepare_Rd: NBumi_FSOther.Rd:8-10: Dropping empty section \usage
prepare_Rd: NBumi_TradDE.Rd:7-8: Dropping empty section \usage
* checking Rd metadata ... OK
* checking Rd cross-references ... OK
* checking for missing documentation entries ... OK
* checking for code/documentation mismatches ... OK
* checking Rd \usage sections ... OK
* checking Rd contents ... OK
* checking for unstated dependencies in examples ... OK
* checking files in ‘vignettes’ ... OK
* checking examples ... OK
Examples with CPU (user + system) or elapsed time > 5s
user system elapsed
NewSimulations 102.858 1.407 104.271
Imputation 40.924 0.115 41.452
M3D_getmarkers 31.926 0.185 32.111
M3D_ConverData 5.681 0.194 5.875
Brennecke_getVariableGenes 4.098 0.240 5.104
* checking for unstated dependencies in vignettes ... OK
* checking package vignettes ... OK
* checking re-building of vignette outputs ... OK
* checking PDF version of manual ... OK
* DONE
Status: 3 NOTEs
See
‘/home/biocbuild/bbs-3.22-bioc/meat/M3Drop.Rcheck/00check.log’
for details.
M3Drop.Rcheck/00install.out
############################################################################## ############################################################################## ### ### Running command: ### ### /home/biocbuild/bbs-3.22-bioc/R/bin/R CMD INSTALL M3Drop ### ############################################################################## ############################################################################## * installing to library ‘/home/biocbuild/bbs-3.22-bioc/R/site-library’ * installing *source* package ‘M3Drop’ ... ** this is package ‘M3Drop’ version ‘1.35.0’ ** using staged installation ** R ** inst ** byte-compile and prepare package for lazy loading ** help *** installing help indices ** building package indices ** installing vignettes ** testing if installed package can be loaded from temporary location ** testing if installed package can be loaded from final location ** testing if installed package keeps a record of temporary installation path * DONE (M3Drop)
M3Drop.Rcheck/M3Drop-Ex.timings
| name | user | system | elapsed | |
| Brennecke_getVariableGenes | 4.098 | 0.240 | 5.104 | |
| Consensus_FS | 0.299 | 0.027 | 0.328 | |
| Fitting_Dropout_Models | 0 | 0 | 0 | |
| Imputation | 40.924 | 0.115 | 41.452 | |
| M3D_Clean_Data | 1.317 | 0.107 | 1.423 | |
| M3D_ConverData | 5.681 | 0.194 | 5.875 | |
| M3D_Differential_Expression | 1.452 | 0.065 | 1.517 | |
| M3D_Dropout_Models | 1.737 | 0.028 | 1.765 | |
| M3D_Expression_Heatmap | 0.482 | 0.003 | 0.485 | |
| M3D_Get_Extremes | 2.290 | 0.097 | 2.388 | |
| M3D_Get_Heatmap_Cell_Clusters | 0.425 | 0.004 | 0.429 | |
| M3D_Simulations | 0 | 0 | 0 | |
| M3D_Test_Shift | 0.570 | 0.002 | 0.573 | |
| M3D_ThreeSet_Venn | 0.323 | 0.002 | 0.325 | |
| M3D_TraditionalDE | 0.010 | 0.000 | 0.011 | |
| M3D_getmarkers | 31.926 | 0.185 | 32.111 | |
| M3D_horz_res | 0.001 | 0.000 | 0.000 | |
| NBumi_CheckFit | 2.082 | 0.118 | 2.201 | |
| NBumi_CoExpression | 0.638 | 0.033 | 0.671 | |
| NBumi_CompareModels | 2.666 | 0.058 | 2.724 | |
| NBumi_ConvertToInteger | 0 | 0 | 0 | |
| NBumi_ConvrtData | 0.207 | 0.002 | 0.210 | |
| NBumi_FSDrop | 0.851 | 0.010 | 0.861 | |
| NBumi_FSHighVar | 0.662 | 0.004 | 0.666 | |
| NBumi_FSOther | 0.012 | 0.002 | 0.013 | |
| NBumi_FitDisp | 0 | 0 | 0 | |
| NBumi_FitDispVsMean | 1.204 | 0.010 | 1.214 | |
| NBumi_FitModel | 0.619 | 0.038 | 0.657 | |
| NBumi_HVG | 0.750 | 0.039 | 0.789 | |
| NBumi_PearsonResiduals | 0.680 | 0.005 | 0.685 | |
| NBumi_TradDE | 0 | 0 | 0 | |
| NewSimulations | 102.858 | 1.407 | 104.271 | |
| Other_FS | 1.663 | 0.174 | 1.837 | |
| PoissonUMIFeatureSelectionDropouts | 0.568 | 0.006 | 0.574 | |
| bg__fit_gamma | 0 | 0 | 0 | |
| bg__get_stats | 0 | 0 | 0 | |
| bg__mean2disp | 0 | 0 | 0 | |
| bg__shift_size | 0 | 0 | 0 | |
| bg__var_vs_drop | 0 | 0 | 0 | |