Back to Multiple platform build/check report for BioC 3.22:   simplified   long
A[B]CDEFGHIJKLMNOPQRSTUVWXYZ

This page was generated on 2025-10-28 12:02 -0400 (Tue, 28 Oct 2025).

HostnameOSArch (*)R versionInstalled pkgs
nebbiolo2Linux (Ubuntu 24.04.3 LTS)x86_644.5.1 Patched (2025-08-23 r88802) -- "Great Square Root" 4901
lconwaymacOS 12.7.6 Montereyx86_644.5.1 Patched (2025-09-10 r88807) -- "Great Square Root" 4691
kjohnson3macOS 13.7.7 Venturaarm644.5.1 Patched (2025-09-10 r88807) -- "Great Square Root" 4637
Click on any hostname to see more info about the system (e.g. compilers)      (*) as reported by 'uname -p', except on Windows and Mac OS X

Package 234/2361HostnameOS / ArchINSTALLBUILDCHECKBUILD BIN
blase 0.99.5  (landing page)
Andrew McCluskey
Snapshot Date: 2025-10-27 13:45 -0400 (Mon, 27 Oct 2025)
git_url: https://git.bioconductor.org/packages/blase
git_branch: devel
git_last_commit: 15b9ddf
git_last_commit_date: 2025-10-15 05:31:32 -0400 (Wed, 15 Oct 2025)
nebbiolo2Linux (Ubuntu 24.04.3 LTS) / x86_64  OK    OK    OK  UNNEEDED, same version is already published
lconwaymacOS 12.7.6 Monterey / x86_64  OK    OK    OK    OK  UNNEEDED, same version is already published
kjohnson3macOS 13.7.7 Ventura / arm64  OK    OK    OK    OK  UNNEEDED, same version is already published


CHECK results for blase on nebbiolo2

To the developers/maintainers of the blase package:
- Allow up to 24 hours (and sometimes 48 hours) for your latest push to git@git.bioconductor.org:packages/blase.git to reflect on this report. See Troubleshooting Build Report for more information.
- Use the following Renviron settings to reproduce errors and warnings.
- If 'R CMD check' started to fail recently on the Linux builder(s) over a missing dependency, add the missing dependency to 'Suggests:' in your DESCRIPTION file. See Renviron.bioc for more information.

raw results


Summary

Package: blase
Version: 0.99.5
Command: /home/biocbuild/bbs-3.22-bioc/R/bin/R CMD check --install=check:blase.install-out.txt --library=/home/biocbuild/bbs-3.22-bioc/R/site-library --timings blase_0.99.5.tar.gz
StartedAt: 2025-10-27 21:33:29 -0400 (Mon, 27 Oct 2025)
EndedAt: 2025-10-27 21:56:36 -0400 (Mon, 27 Oct 2025)
EllapsedTime: 1386.5 seconds
RetCode: 0
Status:   OK  
CheckDir: blase.Rcheck
Warnings: 0

Command output

##############################################################################
##############################################################################
###
### Running command:
###
###   /home/biocbuild/bbs-3.22-bioc/R/bin/R CMD check --install=check:blase.install-out.txt --library=/home/biocbuild/bbs-3.22-bioc/R/site-library --timings blase_0.99.5.tar.gz
###
##############################################################################
##############################################################################


* using log directory ‘/home/biocbuild/bbs-3.22-bioc/meat/blase.Rcheck’
* using R version 4.5.1 Patched (2025-08-23 r88802)
* using platform: x86_64-pc-linux-gnu
* R was compiled by
    gcc (Ubuntu 13.3.0-6ubuntu2~24.04) 13.3.0
    GNU Fortran (Ubuntu 13.3.0-6ubuntu2~24.04) 13.3.0
* running under: Ubuntu 24.04.3 LTS
* using session charset: UTF-8
* checking for file ‘blase/DESCRIPTION’ ... OK
* this is package ‘blase’ version ‘0.99.5’
* package encoding: UTF-8
* checking package namespace information ... OK
* checking package dependencies ... OK
* checking if this is a source package ... OK
* checking if there is a namespace ... OK
* checking for hidden files and directories ... OK
* checking for portable file names ... OK
* checking for sufficient/correct file permissions ... OK
* checking whether package ‘blase’ can be installed ... OK
* checking installed package size ... INFO
  installed size is  5.2Mb
  sub-directories of 1Mb or more:
    data   4.6Mb
* checking package directory ... OK
* checking ‘build’ directory ... OK
* checking DESCRIPTION meta-information ... OK
* checking top-level files ... OK
* checking for left-over files ... OK
* checking index information ... OK
* checking package subdirectories ... OK
* checking code files for non-ASCII characters ... OK
* checking R files for syntax errors ... OK
* checking whether the package can be loaded ... OK
* checking whether the package can be loaded with stated dependencies ... OK
* checking whether the package can be unloaded cleanly ... OK
* checking whether the namespace can be loaded with stated dependencies ... OK
* checking whether the namespace can be unloaded cleanly ... OK
* checking loading without being on the library search path ... OK
* checking dependencies in R code ... OK
* checking S3 generic/method consistency ... OK
* checking replacement functions ... OK
* checking foreign function calls ... OK
* checking R code for possible problems ... OK
* checking Rd files ... OK
* checking Rd metadata ... OK
* checking Rd cross-references ... NOTE
Non-topic package-anchored link(s) in Rd file 'plot_mapping_result.Rd':
  ‘[scater:plot_reddim]{scater::plotUMAP()}’

See section 'Cross-references' in the 'Writing R Extensions' manual.
* checking for missing documentation entries ... OK
* checking for code/documentation mismatches ... OK
* checking Rd \usage sections ... OK
* checking Rd contents ... OK
* checking for unstated dependencies in examples ... OK
* checking contents of ‘data’ directory ... OK
* checking data for non-ASCII characters ... OK
* checking data for ASCII and uncompressed saves ... OK
* checking files in ‘vignettes’ ... OK
* checking examples ... OK
Examples with CPU (user + system) or elapsed time > 5s
                                   user system elapsed
plot_gene_peakedness             18.078  0.172  18.251
calculate_gene_peakedness        17.676  0.210  17.904
gene_peakedness_spread_selection 17.141  0.162  17.304
smooth_gene                      17.158  0.091  17.249
evaluate_parameters              10.485  0.083  10.569
plot_mapping_result               5.612  0.060   5.672
* checking for unstated dependencies in ‘tests’ ... OK
* checking tests ...
  Running ‘testthat.R’
 OK
* checking for unstated dependencies in vignettes ... OK
* checking package vignettes ... OK
* checking re-building of vignette outputs ... OK
* checking PDF version of manual ... OK
* DONE

Status: 1 NOTE
See
  ‘/home/biocbuild/bbs-3.22-bioc/meat/blase.Rcheck/00check.log’
for details.


Installation output

blase.Rcheck/00install.out

##############################################################################
##############################################################################
###
### Running command:
###
###   /home/biocbuild/bbs-3.22-bioc/R/bin/R CMD INSTALL blase
###
##############################################################################
##############################################################################


* installing to library ‘/home/biocbuild/bbs-3.22-bioc/R/site-library’
* installing *source* package ‘blase’ ...
** this is package ‘blase’ version ‘0.99.5’
** using staged installation
** R
** data
** inst
** byte-compile and prepare package for lazy loading
** help
*** installing help indices
*** copying figures
** building package indices
** installing vignettes
** testing if installed package can be loaded from temporary location
** testing if installed package can be loaded from final location
** testing if installed package keeps a record of temporary installation path
* DONE (blase)

Tests output

blase.Rcheck/tests/testthat.Rout


R version 4.5.1 Patched (2025-08-23 r88802) -- "Great Square Root"
Copyright (C) 2025 The R Foundation for Statistical Computing
Platform: x86_64-pc-linux-gnu

R is free software and comes with ABSOLUTELY NO WARRANTY.
You are welcome to redistribute it under certain conditions.
Type 'license()' or 'licence()' for distribution details.

R is a collaborative project with many contributors.
Type 'contributors()' for more information and
'citation()' on how to cite R or R packages in publications.

Type 'demo()' for some demos, 'help()' for on-line help, or
'help.start()' for an HTML browser interface to help.
Type 'q()' to quit R.

> # This file is part of the standard setup for testthat.
> # It is recommended that you do not modify it.
> #
> # Where should you do additional test configuration?
> # Learn more about the roles of various files in:
> # * https://r-pkgs.org/testing-design.html#sec-tests-files-overview
> # * https://testthat.r-lib.org/articles/special-files.html
> 
> library(testthat)
> library(blase)
> 
> test_check("blase")
[ FAIL 0 | WARN 4 | SKIP 0 | PASS 124 ]

[ FAIL 0 | WARN 4 | SKIP 0 | PASS 124 ]
> 
> proc.time()
   user  system elapsed 
 62.229   1.281  63.514 

Example timings

blase.Rcheck/blase-Ex.timings

nameusersystemelapsed
BlaseData-class1.180.061.24
MappingResult2.4170.0962.512
annotate_sce1.3630.0211.385
as.BlaseData0.1650.0000.165
assign_pseudotime_bins2.2050.0052.210
bins-getter0.1710.0170.188
calculate_gene_peakedness17.676 0.21017.904
evaluate_parameters10.485 0.08310.569
evaluate_top_n_genes2.7120.0162.728
find_best_params4.5450.0894.635
gene_peakedness_spread_selection17.141 0.16217.304
genes-getter0.1720.0020.174
genes-setter0.1760.0000.176
get_bins_as_bulk1.2960.0021.299
get_top_n_genes0.0010.0000.001
map_all_best_bins2.1250.0292.154
map_best_bin2.1010.0012.103
mapping-result-best-bin-getter2.0470.0002.047
mapping-result-best-correlation-getter2.0640.0202.084
mapping-result-bootstrap-iterations-getter2.0950.0012.097
mapping-result-bulk-name-getter2.1020.0242.128
mapping-result-confident-mapping-getter2.0850.0162.102
mapping-result-history-getter2.1020.0022.105
mapping-result-top-2-distance-getter2.1120.0362.148
plot_bin_population2.0930.0052.098
plot_find_best_params_results3.7080.0083.716
plot_gene_peakedness18.078 0.17218.251
plot_mapping_result5.6120.0605.672
plot_mapping_result_corr2.2230.0012.234
plot_mapping_result_heatmap2.1660.0482.218
pseudobulk-bins-getter0.1800.0010.181
show-MappingResult-method2.0730.0042.077
show_blase_object0.1790.0000.179
smooth_gene17.158 0.09117.249