Back to Multiple platform build/check report for BioC 3.22:   simplified   long
ABCDEFGHIJKL[M]NOPQRSTUVWXYZ

This page was generated on 2025-10-08 12:49 -0400 (Wed, 08 Oct 2025).

HostnameOSArch (*)R versionInstalled pkgs
nebbiolo2Linux (Ubuntu 24.04.3 LTS)x86_644.5.1 Patched (2025-08-23 r88802) -- "Great Square Root" 4854
lconwaymacOS 12.7.1 Montereyx86_644.5.1 Patched (2025-09-10 r88807) -- "Great Square Root" 4641
kjohnson3macOS 13.7.7 Venturaarm644.5.1 Patched (2025-09-10 r88807) -- "Great Square Root" 4586
taishanLinux (openEuler 24.03 LTS)aarch644.5.0 (2025-04-11) -- "How About a Twenty-Six" 4584
Click on any hostname to see more info about the system (e.g. compilers)      (*) as reported by 'uname -p', except on Windows and Mac OS X

All results for package multtest


To the developers/maintainers of the multtest package:
- Allow up to 24 hours (and sometimes 48 hours) for your latest push to git@git.bioconductor.org:packages/multtest.git to reflect on this report. See Troubleshooting Build Report for more information.
- Use the following Renviron settings to reproduce errors and warnings.
- If 'R CMD check' started to fail recently on the Linux builder(s) over a missing dependency, add the missing dependency to 'Suggests:' in your DESCRIPTION file. See Renviron.bioc for more information.

raw results

Package 1413/2341HostnameOS / ArchINSTALLBUILDCHECKBUILD BIN
multtest 2.65.0  (landing page)
Katherine S. Pollard
Snapshot Date: 2025-10-07 13:45 -0400 (Tue, 07 Oct 2025)
git_url: https://git.bioconductor.org/packages/multtest
git_branch: devel
git_last_commit: d04ab2f
git_last_commit_date: 2025-04-15 09:15:32 -0400 (Tue, 15 Apr 2025)
nebbiolo2Linux (Ubuntu 24.04.3 LTS) / x86_64  OK    OK    WARNINGS  YES
lconwaymacOS 12.7.1 Monterey / x86_64  OK    OK    WARNINGS    OK  YES
kjohnson3macOS 13.7.7 Ventura / arm64  OK    OK    WARNINGS    OK  YES
taishanLinux (openEuler 24.03 LTS) / aarch64  OK    OK    WARNINGS  



Results for Bioconductor software packages that depend directly on package multtest

QUICK STATSOS / ArchINSTALLBUILDCHECKBUILD BIN
nebbiolo2Linux (Ubuntu 24.04.3 LTS) / x86_64
0024
0024
02517
lconwaymacOS 12.7.1 Monterey / x86_64
0024
0024
02418
0024
kjohnson3macOS 13.7.7 Ventura / arm64
0024
0123
02318
0023
taishanLinux (openEuler 24.03 LTS) / aarch64
0024
0024
03417
Package 1/24HostnameOS / ArchINSTALLBUILDCHECKBUILD BIN
a4Base 1.57.0  (landing page)
Laure Cougnaud
git_last_commit: a598984
git_last_commit_date: 2025-04-15 10:07:51 -0400
nebbiolo2Linux (Ubuntu 24.04.3 LTS) / x86_64  OK    OK    OK  YES
lconwaymacOS 12.7.1 Monterey / x86_64  OK    OK    OK    OK  YES
kjohnson3macOS 13.7.7 Ventura / arm64  OK    OK    OK    OK  YES
taishanLinux (openEuler 24.03 LTS) / aarch64  OK    OK    OK  
Package 2/24HostnameOS / ArchINSTALLBUILDCHECKBUILD BIN
ABarray 1.77.0  (landing page)
Yongming Andrew Sun
git_last_commit: de3d649
git_last_commit_date: 2025-04-15 09:38:39 -0400
nebbiolo2Linux (Ubuntu 24.04.3 LTS) / x86_64  OK    OK    OK  YES
lconwaymacOS 12.7.1 Monterey / x86_64  OK    OK    OK    OK  YES
kjohnson3macOS 13.7.7 Ventura / arm64  OK    OK    OK    OK  YES
taishanLinux (openEuler 24.03 LTS) / aarch64  OK    OK    OK  
Package 3/24HostnameOS / ArchINSTALLBUILDCHECKBUILD BIN
aCGH 1.87.0  (landing page)
Peter Dimitrov
git_last_commit: 5386f01
git_last_commit_date: 2025-04-15 09:34:42 -0400
nebbiolo2Linux (Ubuntu 24.04.3 LTS) / x86_64  OK    OK    OK  YES
lconwaymacOS 12.7.1 Monterey / x86_64  OK    OK    OK    OK  YES
kjohnson3macOS 13.7.7 Ventura / arm64  OK    OK    OK    OK  YES
taishanLinux (openEuler 24.03 LTS) / aarch64  OK    OK    OK  
Package 4/24HostnameOS / ArchINSTALLBUILDCHECKBUILD BIN
adSplit 1.79.0  (landing page)
Claudio Lottaz
git_last_commit: c8f04aa
git_last_commit_date: 2025-04-15 09:37:54 -0400
nebbiolo2Linux (Ubuntu 24.04.3 LTS) / x86_64  OK    OK    OK  YES
lconwaymacOS 12.7.1 Monterey / x86_64  OK    OK    OK    OK  YES
kjohnson3macOS 13.7.7 Ventura / arm64  OK    OK    OK    OK  YES
taishanLinux (openEuler 24.03 LTS) / aarch64  OK    OK    ERROR  
Package 5/24HostnameOS / ArchINSTALLBUILDCHECKBUILD BIN
ALDEx2 1.41.0  (landing page)
Greg Gloor
git_last_commit: 707e820
git_last_commit_date: 2025-04-15 10:34:32 -0400
nebbiolo2Linux (Ubuntu 24.04.3 LTS) / x86_64  OK    OK    OK  YES
lconwaymacOS 12.7.1 Monterey / x86_64  OK    OK    OK    OK  YES
kjohnson3macOS 13.7.7 Ventura / arm64  OK    OK    OK    OK  YES
taishanLinux (openEuler 24.03 LTS) / aarch64  OK    OK    OK  
Package 6/24HostnameOS / ArchINSTALLBUILDCHECKBUILD BIN
anota 1.57.0  (landing page)
Ola Larsson
git_last_commit: d7ce70a
git_last_commit_date: 2025-04-15 10:08:17 -0400
nebbiolo2Linux (Ubuntu 24.04.3 LTS) / x86_64  OK    OK    OK  YES
lconwaymacOS 12.7.1 Monterey / x86_64  OK    OK    OK    OK  YES
kjohnson3macOS 13.7.7 Ventura / arm64  OK    OK    OK    OK  YES
taishanLinux (openEuler 24.03 LTS) / aarch64  OK    OK    OK  
Package 7/24HostnameOS / ArchINSTALLBUILDCHECKBUILD BIN
anota2seq 1.31.0  (landing page)
Christian Oertlin , Ola Larsson
git_last_commit: 701f6de
git_last_commit_date: 2025-04-15 11:15:05 -0400
nebbiolo2Linux (Ubuntu 24.04.3 LTS) / x86_64  OK    OK    WARNINGS  YES
lconwaymacOS 12.7.1 Monterey / x86_64  OK    OK    OK    OK  YES
kjohnson3macOS 13.7.7 Ventura / arm64  OK    OK    OK    OK  YES
taishanLinux (openEuler 24.03 LTS) / aarch64  OK    OK    OK  
Package 8/24HostnameOS / ArchINSTALLBUILDCHECKBUILD BIN
BicARE 1.67.0  (landing page)
Pierre Gestraud
git_last_commit: ba5e0e1
git_last_commit_date: 2025-04-15 09:43:34 -0400
nebbiolo2Linux (Ubuntu 24.04.3 LTS) / x86_64  OK    OK    OK  YES
lconwaymacOS 12.7.1 Monterey / x86_64  OK    OK    OK    OK  YES
kjohnson3macOS 13.7.7 Ventura / arm64  OK    OK    OK    OK  YES
taishanLinux (openEuler 24.03 LTS) / aarch64  OK    OK    OK  
Package 9/24HostnameOS / ArchINSTALLBUILDCHECKBUILD BIN
BulkSignalR 1.1.5  (landing page)
Jean-Philippe Villemin
git_last_commit: dd2021f
git_last_commit_date: 2025-09-27 04:43:00 -0400
nebbiolo2Linux (Ubuntu 24.04.3 LTS) / x86_64  OK    OK    OK  YES
lconwaymacOS 12.7.1 Monterey / x86_64  OK    OK    OK    OK  YES
kjohnson3macOS 13.7.7 Ventura / arm64  OK    OK    OK    OK  YES
taishanLinux (openEuler 24.03 LTS) / aarch64  OK    OK    OK  
Package 10/24HostnameOS / ArchINSTALLBUILDCHECKBUILD BIN
ChIPpeakAnno 3.43.1  (landing page)
Jianhong Ou
git_last_commit: b1cad5f
git_last_commit_date: 2025-07-11 09:55:39 -0400
nebbiolo2Linux (Ubuntu 24.04.3 LTS) / x86_64  OK    OK    OK  YES
lconwaymacOS 12.7.1 Monterey / x86_64  OK    OK    OK    OK  YES
kjohnson3macOS 13.7.7 Ventura / arm64  OK    OK    OK    OK  YES
taishanLinux (openEuler 24.03 LTS) / aarch64  OK    OK    OK  
Package 11/24HostnameOS / ArchINSTALLBUILDCHECKBUILD BIN
GUIDEseq 1.39.0  (landing page)
Lihua Julie Zhu
git_last_commit: fc7717b
git_last_commit_date: 2025-04-15 10:55:54 -0400
nebbiolo2Linux (Ubuntu 24.04.3 LTS) / x86_64  OK    OK    OK  YES
lconwaymacOS 12.7.1 Monterey / x86_64  OK    OK    OK    OK  YES
kjohnson3macOS 13.7.7 Ventura / arm64  OK    OK    OK    OK  YES
taishanLinux (openEuler 24.03 LTS) / aarch64  OK    OK    OK  
Package 12/24HostnameOS / ArchINSTALLBUILDCHECKBUILD BIN
KCsmart 2.67.0  (landing page)
Jorma de Ronde
git_last_commit: 5252783
git_last_commit_date: 2025-04-15 09:43:12 -0400
nebbiolo2Linux (Ubuntu 24.04.3 LTS) / x86_64  OK    OK    WARNINGS  YES
lconwaymacOS 12.7.1 Monterey / x86_64  OK    OK    WARNINGS    OK  YES
kjohnson3macOS 13.7.7 Ventura / arm64  OK    OK    WARNINGS    OK  YES
taishanLinux (openEuler 24.03 LTS) / aarch64  OK    OK    WARNINGS  
Package 13/24HostnameOS / ArchINSTALLBUILDCHECKBUILD BIN
metabomxtr 1.43.0  (landing page)
Michael Nodzenski
git_last_commit: e060485
git_last_commit_date: 2025-04-15 10:32:55 -0400
nebbiolo2Linux (Ubuntu 24.04.3 LTS) / x86_64  OK    OK    OK  YES
lconwaymacOS 12.7.1 Monterey / x86_64  OK    OK    OK    OK  YES
kjohnson3macOS 13.7.7 Ventura / arm64  OK    OK    OK    OK  YES
taishanLinux (openEuler 24.03 LTS) / aarch64  OK    OK    OK  
Package 14/24HostnameOS / ArchINSTALLBUILDCHECKBUILD BIN
nethet 1.41.0  (landing page)
Nicolas Staedler
git_last_commit: b2045a5
git_last_commit_date: 2025-04-15 10:36:52 -0400
nebbiolo2Linux (Ubuntu 24.04.3 LTS) / x86_64  OK    OK    WARNINGS  YES
lconwaymacOS 12.7.1 Monterey / x86_64  OK    OK    WARNINGS    OK  YES
kjohnson3macOS 13.7.7 Ventura / arm64  OK    OK    WARNINGS    OK  YES
taishanLinux (openEuler 24.03 LTS) / aarch64  OK    OK    WARNINGS  
Package 15/24HostnameOS / ArchINSTALLBUILDCHECKBUILD BIN
OCplus 1.83.0  (landing page)
Alexander Ploner
git_last_commit: d886aea
git_last_commit_date: 2025-04-15 09:38:07 -0400
nebbiolo2Linux (Ubuntu 24.04.3 LTS) / x86_64  OK    OK    OK  YES
lconwaymacOS 12.7.1 Monterey / x86_64  OK    OK    OK    OK  YES
kjohnson3macOS 13.7.7 Ventura / arm64  OK    OK    OK    OK  YES
taishanLinux (openEuler 24.03 LTS) / aarch64  OK    OK    OK  
Package 16/24HostnameOS / ArchINSTALLBUILDCHECKBUILD BIN
phyloseq 1.53.0  (landing page)
Paul J. McMurdie
git_last_commit: 634d7e4
git_last_commit_date: 2025-04-15 10:12:24 -0400
nebbiolo2Linux (Ubuntu 24.04.3 LTS) / x86_64  OK    OK    WARNINGS  YES
lconwaymacOS 12.7.1 Monterey / x86_64  OK    OK    WARNINGS    OK  YES
kjohnson3macOS 13.7.7 Ventura / arm64  OK    ERROR  skippedskipped
taishanLinux (openEuler 24.03 LTS) / aarch64  OK    OK    WARNINGS  
Package 17/24HostnameOS / ArchINSTALLBUILDCHECKBUILD BIN
PREDA 1.55.0  (landing page)
Francesco Ferrari
git_last_commit: f486caa
git_last_commit_date: 2025-04-15 10:09:39 -0400
nebbiolo2Linux (Ubuntu 24.04.3 LTS) / x86_64  OK    OK    WARNINGS  YES
lconwaymacOS 12.7.1 Monterey / x86_64  OK    OK    WARNINGS    OK  YES
kjohnson3macOS 13.7.7 Ventura / arm64  OK    OK    WARNINGS    OK  YES
taishanLinux (openEuler 24.03 LTS) / aarch64  OK    OK    WARNINGS  
Package 18/24HostnameOS / ArchINSTALLBUILDCHECKBUILD BIN
rain 1.43.0  (landing page)
Paul F. Thaben
git_last_commit: 44e9d64
git_last_commit_date: 2025-04-15 10:33:55 -0400
nebbiolo2Linux (Ubuntu 24.04.3 LTS) / x86_64  OK    OK    OK  YES
lconwaymacOS 12.7.1 Monterey / x86_64  OK    OK    OK    OK  YES
kjohnson3macOS 13.7.7 Ventura / arm64  OK    OK    OK    OK  YES
taishanLinux (openEuler 24.03 LTS) / aarch64  OK    OK    OK  
Package 19/24HostnameOS / ArchINSTALLBUILDCHECKBUILD BIN
REDseq 1.55.0  (landing page)
Lihua Julie Zhu
git_last_commit: a5e678b
git_last_commit_date: 2025-04-15 10:08:33 -0400
nebbiolo2Linux (Ubuntu 24.04.3 LTS) / x86_64  OK    OK    OK  YES
lconwaymacOS 12.7.1 Monterey / x86_64  OK    OK    OK    OK  YES
kjohnson3macOS 13.7.7 Ventura / arm64  OK    OK    OK    OK  YES
taishanLinux (openEuler 24.03 LTS) / aarch64  OK    OK    OK  
Package 20/24HostnameOS / ArchINSTALLBUILDCHECKBUILD BIN
RTopper 1.55.0  (landing page)
Luigi Marchionni
git_last_commit: 28ba393
git_last_commit_date: 2025-04-15 10:10:13 -0400
nebbiolo2Linux (Ubuntu 24.04.3 LTS) / x86_64  OK    OK    OK  YES
lconwaymacOS 12.7.1 Monterey / x86_64  OK    OK    OK    OK  YES
kjohnson3macOS 13.7.7 Ventura / arm64  OK    OK    OK    OK  YES
taishanLinux (openEuler 24.03 LTS) / aarch64  OK    OK    OK  
Package 21/24HostnameOS / ArchINSTALLBUILDCHECKBUILD BIN
SARC 1.7.1  (landing page)
Krutik Patel
git_last_commit: 1115634
git_last_commit_date: 2025-07-24 10:08:10 -0400
nebbiolo2Linux (Ubuntu 24.04.3 LTS) / x86_64  OK    OK    ERROR  
lconwaymacOS 12.7.1 Monterey / x86_64  OK    OK    ERROR    OK  
kjohnson3macOS 13.7.7 Ventura / arm64  OK    OK    ERROR    OK  
taishanLinux (openEuler 24.03 LTS) / aarch64  OK    OK    ERROR  
Package 22/24HostnameOS / ArchINSTALLBUILDCHECKBUILD BIN
siggenes 1.83.0  (landing page)
Holger Schwender
git_last_commit: c1d9cd2
git_last_commit_date: 2025-04-15 09:16:40 -0400
nebbiolo2Linux (Ubuntu 24.04.3 LTS) / x86_64  OK    OK    OK  YES
lconwaymacOS 12.7.1 Monterey / x86_64  OK    OK    OK    OK  YES
kjohnson3macOS 13.7.7 Ventura / arm64  OK    OK    OK    OK  YES
taishanLinux (openEuler 24.03 LTS) / aarch64  OK    OK    OK  
Package 23/24HostnameOS / ArchINSTALLBUILDCHECKBUILD BIN
singleCellTK 2.19.2  (landing page)
Joshua David Campbell
git_last_commit: 238aed05
git_last_commit_date: 2025-09-26 08:22:06 -0400
nebbiolo2Linux (Ubuntu 24.04.3 LTS) / x86_64  OK    OK    ERROR  
lconwaymacOS 12.7.1 Monterey / x86_64  OK    OK    ERROR    OK  
kjohnson3macOS 13.7.7 Ventura / arm64  OK    OK    ERROR    OK  
taishanLinux (openEuler 24.03 LTS) / aarch64  OK    OK    ERROR  
Package 24/24HostnameOS / ArchINSTALLBUILDCHECKBUILD BIN
webbioc 1.81.0  (landing page)
Colin A. Smith
git_last_commit: 1edc0fe
git_last_commit_date: 2025-04-15 09:17:09 -0400
nebbiolo2Linux (Ubuntu 24.04.3 LTS) / x86_64  OK    OK    OK  YES
lconwaymacOS 12.7.1 Monterey / x86_64  OK    OK    OK    OK  YES
kjohnson3macOS 13.7.7 Ventura / arm64  OK    OK    OK    OK  YES
taishanLinux (openEuler 24.03 LTS) / aarch64  OK    OK    OK