| Back to Multiple platform build/check report for BioC 3.23: simplified long |
|
This page was generated on 2025-11-18 11:39 -0500 (Tue, 18 Nov 2025).
| Hostname | OS | Arch (*) | R version | Installed pkgs |
|---|---|---|---|---|
| nebbiolo1 | Linux (Ubuntu 24.04.3 LTS) | x86_64 | R Under development (unstable) (2025-10-20 r88955) -- "Unsuffered Consequences" | 4826 |
| lconway | macOS 12.7.6 Monterey | x86_64 | R Under development (unstable) (2025-10-21 r88958) -- "Unsuffered Consequences" | 4561 |
| kjohnson3 | macOS 13.7.7 Ventura | arm64 | R Under development (unstable) (2025-11-04 r88984) -- "Unsuffered Consequences" | 4562 |
| Click on any hostname to see more info about the system (e.g. compilers) (*) as reported by 'uname -p', except on Windows and Mac OS X | ||||
| Package 254/2325 | Hostname | OS / Arch | INSTALL | BUILD | CHECK | BUILD BIN | ||||||||
| BulkSignalR 1.3.1 (landing page) Jean-Philippe Villemin
| nebbiolo1 | Linux (Ubuntu 24.04.3 LTS) / x86_64 | OK | OK | OK | |||||||||
| lconway | macOS 12.7.6 Monterey / x86_64 | ERROR | OK | ERROR | OK | |||||||||
| kjohnson3 | macOS 13.7.7 Ventura / arm64 | ERROR | OK | ERROR | OK | |||||||||
|
To the developers/maintainers of the BulkSignalR package: - Allow up to 24 hours (and sometimes 48 hours) for your latest push to git@git.bioconductor.org:packages/BulkSignalR.git to reflect on this report. See Troubleshooting Build Report for more information. - Use the following Renviron settings to reproduce errors and warnings. - If 'R CMD check' started to fail recently on the Linux builder(s) over a missing dependency, add the missing dependency to 'Suggests:' in your DESCRIPTION file. See Renviron.bioc for more information. |
| Package: BulkSignalR |
| Version: 1.3.1 |
| Command: /Library/Frameworks/R.framework/Resources/bin/R CMD INSTALL BulkSignalR |
| StartedAt: 2025-11-17 15:31:15 -0500 (Mon, 17 Nov 2025) |
| EndedAt: 2025-11-17 15:31:43 -0500 (Mon, 17 Nov 2025) |
| EllapsedTime: 27.7 seconds |
| RetCode: 1 |
| Status: ERROR |
############################################################################## ############################################################################## ### ### Running command: ### ### /Library/Frameworks/R.framework/Resources/bin/R CMD INSTALL BulkSignalR ### ############################################################################## ############################################################################## * installing to library ‘/Library/Frameworks/R.framework/Versions/4.6-arm64/Resources/library’ * installing *source* package ‘BulkSignalR’ ... ** this is package ‘BulkSignalR’ version ‘1.3.1’ ** using staged installation ** R ** data ** inst ** byte-compile and prepare package for lazy loading ** help *** installing help indices *** copying figures ** building package indices ** installing vignettes ** testing if installed package can be loaded from temporary location ℹ /Users/biocbuild/Library/Caches/org.R-project.R/R/BulkSignalR is corrupted. It will be deleted and downloaded again. Warning: download failed web resource path: ‘https://partage-dev.montp.inserm.fr:9192/CBSB/SignalR/resources/gobp.rds’ local file path: ‘/Users/biocbuild/Library/Caches/org.R-project.R/R/BulkSignalR/resources/1602b42d952bd_gobp.rds’ reason: Failed to perform HTTP request. Caused by error in `curl::curl_fetch_disk()`: ! Timeout was reached [partage-dev.montp.inserm.fr]: Connection timed out after 10003 milliseconds Warning: bfcadd() failed; resource removed rid: BFC1 fpath: ‘https://partage-dev.montp.inserm.fr:9192/CBSB/SignalR/resources/gobp.rds’ reason: download failed Error: package or namespace load failed for ‘BulkSignalR’: .onLoad failed in loadNamespace() for 'BulkSignalR', details: call: .util_download(x, rid[i], proxy, progress, config, "bfcadd()", error: bfcadd() failed; see warnings() Error: loading failed Execution halted ERROR: loading failed * removing ‘/Library/Frameworks/R.framework/Versions/4.6-arm64/Resources/library/BulkSignalR’ * restoring previous ‘/Library/Frameworks/R.framework/Versions/4.6-arm64/Resources/library/BulkSignalR’