Back to Multiple platform build/check report for BioC 3.22:   simplified   long
ABCDEFGHIJKLMNOPQR[S]TUVWXYZ

This page was generated on 2025-05-20 12:04 -0400 (Tue, 20 May 2025).

HostnameOSArch (*)R versionInstalled pkgs
nebbiolo2Linux (Ubuntu 24.04.1 LTS)x86_644.5.0 (2025-04-11) -- "How About a Twenty-Six" 4749
palomino8Windows Server 2022 Datacenterx644.5.0 (2025-04-11 ucrt) -- "How About a Twenty-Six" 4511
lconwaymacOS 12.7.1 Montereyx86_644.5.0 Patched (2025-04-21 r88169) -- "How About a Twenty-Six" 4548
kjohnson3macOS 13.7.1 Venturaarm644.5.0 Patched (2025-04-21 r88169) -- "How About a Twenty-Six" 4489
taishanLinux (openEuler 24.03 LTS)aarch644.5.0 (2025-04-11) -- "How About a Twenty-Six" 4455
Click on any hostname to see more info about the system (e.g. compilers)      (*) as reported by 'uname -p', except on Windows and Mac OS X

All results for package SpatialExperiment


To the developers/maintainers of the SpatialExperiment package:
- Allow up to 24 hours (and sometimes 48 hours) for your latest push to git@git.bioconductor.org:packages/SpatialExperiment.git to reflect on this report. See Troubleshooting Build Report for more information.
- Use the following Renviron settings to reproduce errors and warnings.
- If 'R CMD check' started to fail recently on the Linux builder(s) over a missing dependency, add the missing dependency to 'Suggests:' in your DESCRIPTION file. See Renviron.bioc for more information.

raw results

Package 2028/2304HostnameOS / ArchINSTALLBUILDCHECKBUILD BIN
SpatialExperiment 1.19.1  (landing page)
Dario Righelli
Snapshot Date: 2025-05-19 13:25 -0400 (Mon, 19 May 2025)
git_url: https://git.bioconductor.org/packages/SpatialExperiment
git_branch: devel
git_last_commit: 0b29537
git_last_commit_date: 2025-05-08 10:03:51 -0400 (Thu, 08 May 2025)
nebbiolo2Linux (Ubuntu 24.04.1 LTS) / x86_64  OK    OK    OK  UNNEEDED, same version is already published
palomino8Windows Server 2022 Datacenter / x64  OK    OK    OK    OK  UNNEEDED, same version is already published
lconwaymacOS 12.7.1 Monterey / x86_64  OK    OK    OK    OK  UNNEEDED, same version is already published
kjohnson3macOS 13.7.1 Ventura / arm64  OK    OK    OK    OK  UNNEEDED, same version is already published
taishanLinux (openEuler 24.03 LTS) / aarch64  OK    OK    OK  



Results for Bioconductor software packages that depend directly on package SpatialExperiment

QUICK STATSOS / ArchINSTALLBUILDCHECKBUILD BIN
nebbiolo2Linux (Ubuntu 24.04.1 LTS) / x86_64
0151
0250
02345
palomino8Windows Server 2022 Datacenter / x64
0150
1248
11343
0048
lconwaymacOS 12.7.1 Monterey / x86_64
0151
0250
00347
0050
kjohnson3macOS 13.7.1 Ventura / arm64
0151
0349
02344
0049
taishanLinux (openEuler 24.03 LTS) / aarch64
0151
0448
15339
Package 1/52HostnameOS / ArchINSTALLBUILDCHECKBUILD BIN
alabaster.spatial 1.9.0  (landing page)
Aaron Lun
git_last_commit: ad34bf1
git_last_commit_date: 2025-04-15 13:10:08 -0400
nebbiolo2Linux (Ubuntu 24.04.1 LTS) / x86_64  OK    OK    OK  UNNEEDED, same version is already published
palomino8Windows Server 2022 Datacenter / x64  OK    OK    OK    OK  UNNEEDED, same version is already published
lconwaymacOS 12.7.1 Monterey / x86_64  OK    OK    OK    OK  UNNEEDED, same version is already published
kjohnson3macOS 13.7.1 Ventura / arm64  OK    OK    OK    OK  UNNEEDED, same version is already published
taishanLinux (openEuler 24.03 LTS) / aarch64  OK    OK    OK  
Package 2/52HostnameOS / ArchINSTALLBUILDCHECKBUILD BIN
Banksy 1.5.0  (landing page)
Joseph Lee
git_last_commit: ca348d0
git_last_commit_date: 2025-04-15 13:26:38 -0400
nebbiolo2Linux (Ubuntu 24.04.1 LTS) / x86_64  OK    OK    ERROR  
palomino8Windows Server 2022 Datacenter / x64  OK    OK    OK    OK  UNNEEDED, same version is already published
lconwaymacOS 12.7.1 Monterey / x86_64  OK    OK    OK    OK  UNNEEDED, same version is already published
kjohnson3macOS 13.7.1 Ventura / arm64  OK    OK    OK    OK  UNNEEDED, same version is already published
taishanLinux (openEuler 24.03 LTS) / aarch64  OK    OK    OK  
Package 3/52HostnameOS / ArchINSTALLBUILDCHECKBUILD BIN
BulkSignalR 1.1.0  (landing page)
Jean-Philippe Villemin
git_last_commit: ff8025e
git_last_commit_date: 2025-04-15 13:44:41 -0400
nebbiolo2Linux (Ubuntu 24.04.1 LTS) / x86_64  ERROR    ERROR  skipped
palomino8Windows Server 2022 Datacenter / x64  ERROR    ERROR  skippedskipped
lconwaymacOS 12.7.1 Monterey / x86_64  ERROR    ERROR  skippedskipped
kjohnson3macOS 13.7.1 Ventura / arm64  ERROR    ERROR  skippedskipped
taishanLinux (openEuler 24.03 LTS) / aarch64  ERROR    ERROR  skipped
Package 4/52HostnameOS / ArchINSTALLBUILDCHECKBUILD BIN
CARDspa 1.1.0  (landing page)
Jing Fu
git_last_commit: 8b194bb
git_last_commit_date: 2025-04-15 13:48:01 -0400
nebbiolo2Linux (Ubuntu 24.04.1 LTS) / x86_64  OK    OK    OK  UNNEEDED, same version is already published
palomino8Windows Server 2022 Datacenter / x64  OK    OK    OK    OK  UNNEEDED, same version is already published
lconwaymacOS 12.7.1 Monterey / x86_64  OK    OK    OK    OK  UNNEEDED, same version is already published
kjohnson3macOS 13.7.1 Ventura / arm64  OK    OK    OK    OK  UNNEEDED, same version is already published
taishanLinux (openEuler 24.03 LTS) / aarch64  OK    OK    OK  
Package 5/52HostnameOS / ArchINSTALLBUILDCHECKBUILD BIN
CatsCradle 1.3.0  (landing page)
Michael Shapiro
git_last_commit: ec233bd
git_last_commit_date: 2025-04-15 13:40:27 -0400
nebbiolo2Linux (Ubuntu 24.04.1 LTS) / x86_64  OK    OK    OK  UNNEEDED, same version is already published
palomino8Windows Server 2022 Datacenter / x64  OK    OK    OK    OK  UNNEEDED, same version is already published
lconwaymacOS 12.7.1 Monterey / x86_64  OK    OK    OK    OK  UNNEEDED, same version is already published
kjohnson3macOS 13.7.1 Ventura / arm64  OK    OK    OK    OK  UNNEEDED, same version is already published
taishanLinux (openEuler 24.03 LTS) / aarch64  OK    OK    OK  
Package 6/52HostnameOS / ArchINSTALLBUILDCHECKBUILD BIN
clustSIGNAL 1.1.0  (landing page)
Pratibha Panwar
git_last_commit: bf6980f
git_last_commit_date: 2025-04-15 13:51:14 -0400
nebbiolo2Linux (Ubuntu 24.04.1 LTS) / x86_64  OK    OK    OK  UNNEEDED, same version is already published
palomino8Windows Server 2022 Datacenter / x64  OK    OK    OK    OK  NO, package depends on 'bluster' which is only available as a source package that needs compilation
lconwaymacOS 12.7.1 Monterey / x86_64  OK    OK    OK    OK  UNNEEDED, same version is already published
kjohnson3macOS 13.7.1 Ventura / arm64  OK    OK    OK    OK  UNNEEDED, same version is already published
taishanLinux (openEuler 24.03 LTS) / aarch64  OK    OK    OK  
Package 7/52HostnameOS / ArchINSTALLBUILDCHECKBUILD BIN
concordexR 1.9.0  (landing page)
Kayla Jackson
git_last_commit: 6588bc0
git_last_commit_date: 2025-04-15 13:13:55 -0400
nebbiolo2Linux (Ubuntu 24.04.1 LTS) / x86_64  OK    OK    OK  UNNEEDED, same version is already published
palomino8Windows Server 2022 Datacenter / x64  OK    OK    ERROR    OK  
lconwaymacOS 12.7.1 Monterey / x86_64  OK    OK    OK    OK  UNNEEDED, same version is already published
kjohnson3macOS 13.7.1 Ventura / arm64  OK    OK    OK    OK  NO, package depends on 'DelayedArray' which is only available as a source package that needs compilation
taishanLinux (openEuler 24.03 LTS) / aarch64  OK    OK    OK  
Package 8/52HostnameOS / ArchINSTALLBUILDCHECKBUILD BIN
CTSV 1.11.0  (landing page)
Jinge Yu Developer
git_last_commit: 386630d
git_last_commit_date: 2025-04-15 12:52:52 -0400
nebbiolo2Linux (Ubuntu 24.04.1 LTS) / x86_64  OK    OK    OK  UNNEEDED, same version is already published
palomino8Windows Server 2022 Datacenter / x64  OK    OK    OK    OK  UNNEEDED, same version is already published
lconwaymacOS 12.7.1 Monterey / x86_64  OK    OK    OK    OK  UNNEEDED, same version is already published
kjohnson3macOS 13.7.1 Ventura / arm64  OK    OK    OK    OK  UNNEEDED, same version is already published
taishanLinux (openEuler 24.03 LTS) / aarch64  OK    OK    OK  
Package 9/52HostnameOS / ArchINSTALLBUILDCHECKBUILD BIN
cytomapper 1.21.0  (landing page)
Lasse Meyer
git_last_commit: d4232e8
git_last_commit_date: 2025-04-15 11:56:26 -0400
nebbiolo2Linux (Ubuntu 24.04.1 LTS) / x86_64  OK    OK    OK  UNNEEDED, same version is already published
palomino8Windows Server 2022 Datacenter / x64  OK    OK    OK    OK  UNNEEDED, same version is already published
lconwaymacOS 12.7.1 Monterey / x86_64  OK    OK    OK    OK  UNNEEDED, same version is already published
kjohnson3macOS 13.7.1 Ventura / arm64  OK    OK    OK    OK  NO, package depends on 'DelayedArray' which is only available as a source package that needs compilation
taishanLinux (openEuler 24.03 LTS) / aarch64  OK    OK    OK  
Package 10/52HostnameOS / ArchINSTALLBUILDCHECKBUILD BIN
DESpace 2.1.0  (landing page)
Peiying Cai
git_last_commit: d0e41b7
git_last_commit_date: 2025-04-15 13:11:56 -0400
nebbiolo2Linux (Ubuntu 24.04.1 LTS) / x86_64  OK    ERROR  skipped
palomino8Windows Server 2022 Datacenter / x64  OK    TIMEOUT  skippedskipped
lconwaymacOS 12.7.1 Monterey / x86_64  OK    OK    OK    OK  UNNEEDED, same version is already published
kjohnson3macOS 13.7.1 Ventura / arm64  OK    OK    OK    OK  NO, package depends on 'scuttle' which is only available as a source package that needs compilation
taishanLinux (openEuler 24.03 LTS) / aarch64  OK    OK    OK  
Package 11/52HostnameOS / ArchINSTALLBUILDCHECKBUILD BIN
escheR 1.9.0  (landing page)
Boyi Guo
git_last_commit: 2f2bfd9
git_last_commit_date: 2025-04-15 13:12:33 -0400
nebbiolo2Linux (Ubuntu 24.04.1 LTS) / x86_64  OK    OK    OK  UNNEEDED, same version is already published
palomino8Windows Server 2022 Datacenter / x64  OK    OK    OK    OK  UNNEEDED, same version is already published
lconwaymacOS 12.7.1 Monterey / x86_64  OK    OK    OK    OK  UNNEEDED, same version is already published
kjohnson3macOS 13.7.1 Ventura / arm64  OK    OK    OK    OK  UNNEEDED, same version is already published
taishanLinux (openEuler 24.03 LTS) / aarch64  OK    OK    OK  
Package 12/52HostnameOS / ArchINSTALLBUILDCHECKBUILD BIN
ExperimentSubset 1.19.0  (landing page)
Irzam Sarfraz
git_last_commit: 4a79ec5
git_last_commit_date: 2025-04-15 12:11:59 -0400
nebbiolo2Linux (Ubuntu 24.04.1 LTS) / x86_64  OK    OK    OK  UNNEEDED, same version is already published
palomino8Windows Server 2022 Datacenter / x64  OK    OK    OK    OK  UNNEEDED, same version is already published
lconwaymacOS 12.7.1 Monterey / x86_64  OK    OK    OK    OK  UNNEEDED, same version is already published
kjohnson3macOS 13.7.1 Ventura / arm64  OK    OK    OK    OK  UNNEEDED, same version is already published
taishanLinux (openEuler 24.03 LTS) / aarch64  OK    OK    OK  
Package 13/52HostnameOS / ArchINSTALLBUILDCHECKBUILD BIN
FLAMES 2.3.0  (landing page)
Changqing Wang
git_last_commit: a2e1e1d
git_last_commit_date: 2025-04-15 12:35:03 -0400
nebbiolo2Linux (Ubuntu 24.04.1 LTS) / x86_64  OK    OK    ERROR  
palomino8Windows Server 2022 Datacenter / x64... NOT SUPPORTED ...
lconwaymacOS 12.7.1 Monterey / x86_64  OK    ERROR  skippedskipped
kjohnson3macOS 13.7.1 Ventura / arm64  OK    ERROR  skippedskipped
taishanLinux (openEuler 24.03 LTS) / aarch64  OK    OK    ERROR  
Package 14/52HostnameOS / ArchINSTALLBUILDCHECKBUILD BIN
ggspavis 1.15.6  (landing page)
Lukas M. Weber
git_last_commit: 6f36d81
git_last_commit_date: 2025-05-11 14:30:03 -0400
nebbiolo2Linux (Ubuntu 24.04.1 LTS) / x86_64  OK    OK    OK  UNNEEDED, same version is already published
palomino8Windows Server 2022 Datacenter / x64  OK    OK    OK    OK  UNNEEDED, same version is already published
lconwaymacOS 12.7.1 Monterey / x86_64  OK    OK    OK    OK  UNNEEDED, same version is already published
kjohnson3macOS 13.7.1 Ventura / arm64  OK    OK    OK    OK  UNNEEDED, same version is already published
taishanLinux (openEuler 24.03 LTS) / aarch64  OK    OK    OK  
Package 15/52HostnameOS / ArchINSTALLBUILDCHECKBUILD BIN
GSVA 2.3.1  (landing page)
Robert Castelo
git_last_commit: a603221
git_last_commit_date: 2025-04-23 13:02:32 -0400
nebbiolo2Linux (Ubuntu 24.04.1 LTS) / x86_64  OK    OK    OK  UNNEEDED, same version is already published
palomino8Windows Server 2022 Datacenter / x64  OK    OK    OK    OK  UNNEEDED, same version is already published
lconwaymacOS 12.7.1 Monterey / x86_64  OK    OK    OK    OK  UNNEEDED, same version is already published
kjohnson3macOS 13.7.1 Ventura / arm64  OK    OK    OK    OK  NO, package depends on 'DelayedArray' which is only available as a source package that needs compilation
taishanLinux (openEuler 24.03 LTS) / aarch64  OK    OK    OK  
Package 16/52HostnameOS / ArchINSTALLBUILDCHECKBUILD BIN
hoodscanR 1.7.0  (landing page)
Ning Liu
git_last_commit: a3f1cc4
git_last_commit_date: 2025-04-15 13:20:53 -0400
nebbiolo2Linux (Ubuntu 24.04.1 LTS) / x86_64  OK    OK    OK  UNNEEDED, same version is already published
palomino8Windows Server 2022 Datacenter / x64  OK    OK    OK    OK  UNNEEDED, same version is already published
lconwaymacOS 12.7.1 Monterey / x86_64  OK    OK    OK    OK  UNNEEDED, same version is already published
kjohnson3macOS 13.7.1 Ventura / arm64  OK    OK    OK    OK  UNNEEDED, same version is already published
taishanLinux (openEuler 24.03 LTS) / aarch64  OK    OK    OK  
Package 17/52HostnameOS / ArchINSTALLBUILDCHECKBUILD BIN
imcRtools 1.15.0  (landing page)
Daniel Schulz
git_last_commit: 4226af0
git_last_commit_date: 2025-04-15 12:39:16 -0400
nebbiolo2Linux (Ubuntu 24.04.1 LTS) / x86_64  OK    OK    OK  UNNEEDED, same version is already published
palomino8Windows Server 2022 Datacenter / x64  OK    OK    OK    OK  UNNEEDED, same version is already published
lconwaymacOS 12.7.1 Monterey / x86_64  OK    OK    OK    OK  UNNEEDED, same version is already published
kjohnson3macOS 13.7.1 Ventura / arm64  OK    OK    ERROR    OK  
taishanLinux (openEuler 24.03 LTS) / aarch64  OK    OK    OK  
Package 18/52HostnameOS / ArchINSTALLBUILDCHECKBUILD BIN
jazzPanda 1.1.0  (landing page)
Melody Jin
git_last_commit: 6e38c59
git_last_commit_date: 2025-04-15 13:48:40 -0400
nebbiolo2Linux (Ubuntu 24.04.1 LTS) / x86_64  OK    OK    OK  UNNEEDED, same version is already published
palomino8Windows Server 2022 Datacenter / x64  OK    OK    OK    OK  UNNEEDED, same version is already published
lconwaymacOS 12.7.1 Monterey / x86_64  OK    OK    OK    OK  UNNEEDED, same version is already published
kjohnson3macOS 13.7.1 Ventura / arm64  OK    OK    OK    OK  UNNEEDED, same version is already published
taishanLinux (openEuler 24.03 LTS) / aarch64  OK    OK    ERROR  
Package 19/52HostnameOS / ArchINSTALLBUILDCHECKBUILD BIN
lisaClust 1.17.0  (landing page)
Ellis Patrick
git_last_commit: c9cf0e3
git_last_commit_date: 2025-04-15 12:22:27 -0400
nebbiolo2Linux (Ubuntu 24.04.1 LTS) / x86_64  OK    OK    OK  UNNEEDED, same version is already published
palomino8Windows Server 2022 Datacenter / x64  OK    OK    OK    OK  UNNEEDED, same version is already published
lconwaymacOS 12.7.1 Monterey / x86_64  OK    OK    OK    OK  UNNEEDED, same version is already published
kjohnson3macOS 13.7.1 Ventura / arm64  OK    OK    OK    OK  UNNEEDED, same version is already published
taishanLinux (openEuler 24.03 LTS) / aarch64  OK    OK    OK  
Package 20/52HostnameOS / ArchINSTALLBUILDCHECKBUILD BIN
MoleculeExperiment 1.9.0  (landing page)
Shila Ghazanfar
git_last_commit: 3dd8051
git_last_commit_date: 2025-04-15 13:14:02 -0400
nebbiolo2Linux (Ubuntu 24.04.1 LTS) / x86_64  OK    OK    OK  UNNEEDED, same version is already published
palomino8Windows Server 2022 Datacenter / x64  OK    OK    OK    OK  UNNEEDED, same version is already published
lconwaymacOS 12.7.1 Monterey / x86_64  OK    OK    OK    OK  UNNEEDED, same version is already published
kjohnson3macOS 13.7.1 Ventura / arm64  OK    OK    OK    OK  UNNEEDED, same version is already published
taishanLinux (openEuler 24.03 LTS) / aarch64  OK    OK    OK  
Package 21/52HostnameOS / ArchINSTALLBUILDCHECKBUILD BIN
nnSVG 1.13.1  (landing page)
Lukas M. Weber
git_last_commit: dffcd75
git_last_commit_date: 2025-05-18 22:08:24 -0400
nebbiolo2Linux (Ubuntu 24.04.1 LTS) / x86_64  OK    OK    OK  YES
palomino8Windows Server 2022 Datacenter / x64  OK    OK    OK    OK  YES
lconwaymacOS 12.7.1 Monterey / x86_64  OK    OK    OK    OK  YES
kjohnson3macOS 13.7.1 Ventura / arm64  OK    OK    OK    OK  YES
taishanLinux (openEuler 24.03 LTS) / aarch64  OK    OK    OK  
Package 22/52HostnameOS / ArchINSTALLBUILDCHECKBUILD BIN
poem 1.1.2  (landing page)
Siyuan Luo
git_last_commit: 19d6b8c
git_last_commit_date: 2025-05-16 07:36:19 -0400
nebbiolo2Linux (Ubuntu 24.04.1 LTS) / x86_64  OK    OK    WARNINGS  UNNEEDED, same version is already published
palomino8Windows Server 2022 Datacenter / x64  OK    OK    WARNINGS    OK  NO, package depends on 'bluster' which is only available as a source package that needs compilation
lconwaymacOS 12.7.1 Monterey / x86_64  OK    OK    WARNINGS    OK  UNNEEDED, same version is already published
kjohnson3macOS 13.7.1 Ventura / arm64  OK    OK    WARNINGS    OK  UNNEEDED, same version is already published
taishanLinux (openEuler 24.03 LTS) / aarch64  OK    OK    WARNINGS  
Package 23/52HostnameOS / ArchINSTALLBUILDCHECKBUILD BIN
scider 1.7.0  (landing page)
Yunshun Chen
git_last_commit: f29810f
git_last_commit_date: 2025-04-15 13:23:55 -0400
nebbiolo2Linux (Ubuntu 24.04.1 LTS) / x86_64  OK    OK    OK  UNNEEDED, same version is already published
palomino8Windows Server 2022 Datacenter / x64  OK    OK    OK    OK  UNNEEDED, same version is already published
lconwaymacOS 12.7.1 Monterey / x86_64  OK    OK    OK    OK  UNNEEDED, same version is already published
kjohnson3macOS 13.7.1 Ventura / arm64  OK    OK    OK    OK  UNNEEDED, same version is already published
taishanLinux (openEuler 24.03 LTS) / aarch64  OK    OK    OK  
Package 24/52HostnameOS / ArchINSTALLBUILDCHECKBUILD BIN
SEraster 1.1.0  (landing page)
Gohta Aihara
git_last_commit: b927ba9
git_last_commit_date: 2025-04-15 13:51:28 -0400
nebbiolo2Linux (Ubuntu 24.04.1 LTS) / x86_64  OK    OK    OK  UNNEEDED, same version is already published
palomino8Windows Server 2022 Datacenter / x64  OK    OK    OK    OK  UNNEEDED, same version is already published
lconwaymacOS 12.7.1 Monterey / x86_64  OK    OK    OK    OK  UNNEEDED, same version is already published
kjohnson3macOS 13.7.1 Ventura / arm64  OK    OK    OK    OK  UNNEEDED, same version is already published
taishanLinux (openEuler 24.03 LTS) / aarch64  OK    OK    OK  
Package 25/52HostnameOS / ArchINSTALLBUILDCHECKBUILD BIN
signifinder 1.11.0  (landing page)
Stefania Pirrotta
git_last_commit: 37cabfa
git_last_commit_date: 2025-04-15 12:58:25 -0400
nebbiolo2Linux (Ubuntu 24.04.1 LTS) / x86_64  OK    OK    OK  UNNEEDED, same version is already published
palomino8Windows Server 2022 Datacenter / x64  OK    OK    OK    OK  UNNEEDED, same version is already published
lconwaymacOS 12.7.1 Monterey / x86_64  OK    OK    OK    OK  UNNEEDED, same version is already published
kjohnson3macOS 13.7.1 Ventura / arm64  OK    OK    OK    OK  NO, package depends on 'GSVA' which is only available as a source package that needs compilation
taishanLinux (openEuler 24.03 LTS) / aarch64  OK    OK    OK  
Package 26/52HostnameOS / ArchINSTALLBUILDCHECKBUILD BIN
smoothclust 1.5.0  (landing page)
Lukas M. Weber
git_last_commit: 0cc9bae
git_last_commit_date: 2025-04-15 13:32:03 -0400
nebbiolo2Linux (Ubuntu 24.04.1 LTS) / x86_64  OK    OK    OK  UNNEEDED, same version is already published
palomino8Windows Server 2022 Datacenter / x64  OK    OK    OK    OK  UNNEEDED, same version is already published
lconwaymacOS 12.7.1 Monterey / x86_64  OK    OK    OK    OK  UNNEEDED, same version is already published
kjohnson3macOS 13.7.1 Ventura / arm64  OK    OK    OK    OK  UNNEEDED, same version is already published
taishanLinux (openEuler 24.03 LTS) / aarch64  OK    OK    OK  
Package 27/52HostnameOS / ArchINSTALLBUILDCHECKBUILD BIN
smoppix 1.1.2  (landing page)
Stijn Hawinkel
git_last_commit: 3e21644
git_last_commit_date: 2025-05-09 08:54:28 -0400
nebbiolo2Linux (Ubuntu 24.04.1 LTS) / x86_64  OK    OK    OK  UNNEEDED, same version is already published
palomino8Windows Server 2022 Datacenter / x64  OK    OK    TIMEOUT    OK  
lconwaymacOS 12.7.1 Monterey / x86_64  OK    OK    OK    OK  UNNEEDED, same version is already published
kjohnson3macOS 13.7.1 Ventura / arm64  OK    OK    OK    OK  UNNEEDED, same version is already published
taishanLinux (openEuler 24.03 LTS) / aarch64  OK    OK    TIMEOUT  
Package 28/52HostnameOS / ArchINSTALLBUILDCHECKBUILD BIN
sosta 1.1.0  (landing page)
Samuel Gunz
git_last_commit: f14490b
git_last_commit_date: 2025-04-15 13:45:41 -0400
nebbiolo2Linux (Ubuntu 24.04.1 LTS) / x86_64  OK    OK    OK  UNNEEDED, same version is already published
palomino8Windows Server 2022 Datacenter / x64  OK    OK    OK    OK  UNNEEDED, same version is already published
lconwaymacOS 12.7.1 Monterey / x86_64  OK    OK    OK    OK  UNNEEDED, same version is already published
kjohnson3macOS 13.7.1 Ventura / arm64  OK    OK    OK    OK  UNNEEDED, same version is already published
taishanLinux (openEuler 24.03 LTS) / aarch64  OK    OK    OK  
Package 29/52HostnameOS / ArchINSTALLBUILDCHECKBUILD BIN
spacexr 1.1.0  (landing page)
Gabriel Grajeda
git_last_commit: 1767cb1
git_last_commit_date: 2025-04-15 13:50:44 -0400
nebbiolo2Linux (Ubuntu 24.04.1 LTS) / x86_64  OK    OK    OK  UNNEEDED, same version is already published
palomino8Windows Server 2022 Datacenter / x64  OK    OK    OK    OK  UNNEEDED, same version is already published
lconwaymacOS 12.7.1 Monterey / x86_64  OK    OK    OK    OK  UNNEEDED, same version is already published
kjohnson3macOS 13.7.1 Ventura / arm64  OK    OK    OK    OK  UNNEEDED, same version is already published
taishanLinux (openEuler 24.03 LTS) / aarch64  OK    OK    OK  
Package 30/52HostnameOS / ArchINSTALLBUILDCHECKBUILD BIN
SpaNorm 1.3.0  (landing page)
Dharmesh D. Bhuva
git_last_commit: 7e8bee9
git_last_commit_date: 2025-04-15 13:42:58 -0400
nebbiolo2Linux (Ubuntu 24.04.1 LTS) / x86_64  OK    OK    OK  UNNEEDED, same version is already published
palomino8Windows Server 2022 Datacenter / x64  OK    OK    OK    OK  NO, package depends on 'scran' which is only available as a source package that needs compilation
lconwaymacOS 12.7.1 Monterey / x86_64  OK    OK    OK    OK  UNNEEDED, same version is already published
kjohnson3macOS 13.7.1 Ventura / arm64  OK    OK    OK    OK  NO, package depends on 'scran' which is only available as a source package that needs compilation
taishanLinux (openEuler 24.03 LTS) / aarch64  OK    OK    OK  
Package 31/52HostnameOS / ArchINSTALLBUILDCHECKBUILD BIN
spaSim 1.11.0  (landing page)
Yuzhou Feng
git_last_commit: 7c4ef82
git_last_commit_date: 2025-04-15 12:52:59 -0400
nebbiolo2Linux (Ubuntu 24.04.1 LTS) / x86_64  OK    OK    OK  UNNEEDED, same version is already published
palomino8Windows Server 2022 Datacenter / x64  OK    OK    OK    OK  UNNEEDED, same version is already published
lconwaymacOS 12.7.1 Monterey / x86_64  OK    OK    OK    OK  UNNEEDED, same version is already published
kjohnson3macOS 13.7.1 Ventura / arm64  OK    OK    OK    OK  UNNEEDED, same version is already published
taishanLinux (openEuler 24.03 LTS) / aarch64  OK    OK    ERROR  
Package 32/52HostnameOS / ArchINSTALLBUILDCHECKBUILD BIN
spatialDE 1.15.1  (landing page)
Gabriele Sales
git_last_commit: 361ffda
git_last_commit_date: 2025-04-16 02:22:34 -0400
nebbiolo2Linux (Ubuntu 24.04.1 LTS) / x86_64  OK    OK    OK  UNNEEDED, same version is already published
palomino8Windows Server 2022 Datacenter / x64  OK    ERROR  skippedskipped
lconwaymacOS 12.7.1 Monterey / x86_64  OK    OK    OK    OK  UNNEEDED, same version is already published
kjohnson3macOS 13.7.1 Ventura / arm64  OK    ERROR  skippedskipped
taishanLinux (openEuler 24.03 LTS) / aarch64  OK    OK    OK  
Package 33/52HostnameOS / ArchINSTALLBUILDCHECKBUILD BIN
SpatialExperimentIO 1.1.0  (landing page)
Yixing E. Dong
git_last_commit: a7ffc23
git_last_commit_date: 2025-04-15 13:46:21 -0400
nebbiolo2Linux (Ubuntu 24.04.1 LTS) / x86_64  OK    OK    OK  UNNEEDED, same version is already published
palomino8Windows Server 2022 Datacenter / x64  OK    OK    OK    OK  UNNEEDED, same version is already published
lconwaymacOS 12.7.1 Monterey / x86_64  OK    OK    OK    OK  UNNEEDED, same version is already published
kjohnson3macOS 13.7.1 Ventura / arm64  OK    OK    OK    OK  NO, package depends on 'DropletUtils' which is only available as a source package that needs compilation
taishanLinux (openEuler 24.03 LTS) / aarch64  OK    OK    OK  
Package 34/52HostnameOS / ArchINSTALLBUILDCHECKBUILD BIN
spatialFDA 1.1.0  (landing page)
Martin Emons
git_last_commit: 0b1da5c
git_last_commit_date: 2025-04-15 13:46:04 -0400
nebbiolo2Linux (Ubuntu 24.04.1 LTS) / x86_64  OK    OK    OK  UNNEEDED, same version is already published
palomino8Windows Server 2022 Datacenter / x64  OK    OK    OK    OK  UNNEEDED, same version is already published
lconwaymacOS 12.7.1 Monterey / x86_64  OK    OK    OK    OK  UNNEEDED, same version is already published
kjohnson3macOS 13.7.1 Ventura / arm64  OK    OK    OK    OK  UNNEEDED, same version is already published
taishanLinux (openEuler 24.03 LTS) / aarch64  OK    OK    OK  
Package 35/52HostnameOS / ArchINSTALLBUILDCHECKBUILD BIN
SpatialFeatureExperiment 1.11.0  (landing page)
Lambda Moses
git_last_commit: 126834a
git_last_commit_date: 2025-04-15 12:57:20 -0400
nebbiolo2Linux (Ubuntu 24.04.1 LTS) / x86_64  OK    OK    OK  UNNEEDED, same version is already published
palomino8Windows Server 2022 Datacenter / x64  OK    OK    OK    OK  UNNEEDED, same version is already published
lconwaymacOS 12.7.1 Monterey / x86_64  OK    OK    OK    OK  UNNEEDED, same version is already published
kjohnson3macOS 13.7.1 Ventura / arm64  OK    OK    ERROR    OK  
taishanLinux (openEuler 24.03 LTS) / aarch64  OK    OK    ERROR  
Package 36/52HostnameOS / ArchINSTALLBUILDCHECKBUILD BIN
spatialSimGP 1.3.0  (landing page)
Kinnary Shah
git_last_commit: 73f8c51
git_last_commit_date: 2025-04-15 13:41:55 -0400
nebbiolo2Linux (Ubuntu 24.04.1 LTS) / x86_64  OK    OK    OK  UNNEEDED, same version is already published
palomino8Windows Server 2022 Datacenter / x64  OK    OK    OK    OK  UNNEEDED, same version is already published
lconwaymacOS 12.7.1 Monterey / x86_64  OK    OK    OK    OK  UNNEEDED, same version is already published
kjohnson3macOS 13.7.1 Ventura / arm64  OK    OK    OK    OK  UNNEEDED, same version is already published
taishanLinux (openEuler 24.03 LTS) / aarch64  OK    OK    OK  
Package 37/52HostnameOS / ArchINSTALLBUILDCHECKBUILD BIN
SPIAT 1.11.0  (landing page)
Yuzhou Feng
git_last_commit: 6b188b4
git_last_commit_date: 2025-04-15 12:56:43 -0400
nebbiolo2Linux (Ubuntu 24.04.1 LTS) / x86_64  OK    OK    OK  UNNEEDED, same version is already published
palomino8Windows Server 2022 Datacenter / x64  OK    OK    OK    OK  UNNEEDED, same version is already published
lconwaymacOS 12.7.1 Monterey / x86_64  OK    OK    OK    OK  UNNEEDED, same version is already published
kjohnson3macOS 13.7.1 Ventura / arm64  OK    OK    OK    OK  UNNEEDED, same version is already published
taishanLinux (openEuler 24.03 LTS) / aarch64  OK    OK    OK  
Package 38/52HostnameOS / ArchINSTALLBUILDCHECKBUILD BIN
spicyR 1.21.1  (landing page)
Ellis Patrick
git_last_commit: 072576d
git_last_commit_date: 2025-05-15 17:14:52 -0400
nebbiolo2Linux (Ubuntu 24.04.1 LTS) / x86_64  OK    OK    OK  UNNEEDED, same version is already published
palomino8Windows Server 2022 Datacenter / x64  OK    OK    OK    OK  UNNEEDED, same version is already published
lconwaymacOS 12.7.1 Monterey / x86_64  OK    OK    OK    OK  UNNEEDED, same version is already published
kjohnson3macOS 13.7.1 Ventura / arm64  OK    OK    OK    OK  UNNEEDED, same version is already published
taishanLinux (openEuler 24.03 LTS) / aarch64  OK    OK    ERROR  
Package 39/52HostnameOS / ArchINSTALLBUILDCHECKBUILD BIN
spoon 1.5.0  (landing page)
Kinnary Shah
git_last_commit: a142b22
git_last_commit_date: 2025-04-15 13:29:27 -0400
nebbiolo2Linux (Ubuntu 24.04.1 LTS) / x86_64  OK    OK    OK  UNNEEDED, same version is already published
palomino8Windows Server 2022 Datacenter / x64  OK    OK    OK    OK  UNNEEDED, same version is already published
lconwaymacOS 12.7.1 Monterey / x86_64  OK    OK    OK    OK  UNNEEDED, same version is already published
kjohnson3macOS 13.7.1 Ventura / arm64  OK    OK    OK    OK  NO, package depends on 'scuttle' which is only available as a source package that needs compilation
taishanLinux (openEuler 24.03 LTS) / aarch64  OK    OK    OK  
Package 40/52HostnameOS / ArchINSTALLBUILDCHECKBUILD BIN
SpotClean 1.11.0  (landing page)
Zijian Ni
git_last_commit: 70137e5
git_last_commit_date: 2025-04-15 12:51:51 -0400
nebbiolo2Linux (Ubuntu 24.04.1 LTS) / x86_64  OK    OK    OK  UNNEEDED, same version is already published
palomino8Windows Server 2022 Datacenter / x64  OK    OK    OK    OK  UNNEEDED, same version is already published
lconwaymacOS 12.7.1 Monterey / x86_64  OK    OK    OK    OK  UNNEEDED, same version is already published
kjohnson3macOS 13.7.1 Ventura / arm64  OK    OK    OK    OK  UNNEEDED, same version is already published
taishanLinux (openEuler 24.03 LTS) / aarch64  OK    OK    OK  
Package 41/52HostnameOS / ArchINSTALLBUILDCHECKBUILD BIN
SpotSweeper 1.5.0  (landing page)
Michael Totty
git_last_commit: 087c6dd
git_last_commit_date: 2025-04-15 13:34:31 -0400
nebbiolo2Linux (Ubuntu 24.04.1 LTS) / x86_64  OK    OK    OK  UNNEEDED, same version is already published
palomino8Windows Server 2022 Datacenter / x64  OK    OK    OK    OK  UNNEEDED, same version is already published
lconwaymacOS 12.7.1 Monterey / x86_64  OK    OK    OK    OK  UNNEEDED, same version is already published
kjohnson3macOS 13.7.1 Ventura / arm64  OK    OK    OK    OK  UNNEEDED, same version is already published
taishanLinux (openEuler 24.03 LTS) / aarch64  OK    OK    OK  
Package 42/52HostnameOS / ArchINSTALLBUILDCHECKBUILD BIN
standR 1.13.0  (landing page)
Ning Liu
git_last_commit: a068e89
git_last_commit_date: 2025-04-15 12:48:52 -0400
nebbiolo2Linux (Ubuntu 24.04.1 LTS) / x86_64  OK    OK    OK  UNNEEDED, same version is already published
palomino8Windows Server 2022 Datacenter / x64  OK    OK    OK    OK  UNNEEDED, same version is already published
lconwaymacOS 12.7.1 Monterey / x86_64  OK    OK    OK    OK  UNNEEDED, same version is already published
kjohnson3macOS 13.7.1 Ventura / arm64  OK    OK    OK    OK  UNNEEDED, same version is already published
taishanLinux (openEuler 24.03 LTS) / aarch64  OK    OK    OK  
Package 43/52HostnameOS / ArchINSTALLBUILDCHECKBUILD BIN
Statial 1.11.0  (landing page)
Farhan Ameen
git_last_commit: ba5a9a8
git_last_commit_date: 2025-04-15 12:59:37 -0400
nebbiolo2Linux (Ubuntu 24.04.1 LTS) / x86_64  OK    OK    WARNINGS  UNNEEDED, same version is already published
palomino8Windows Server 2022 Datacenter / x64  OK    OK    WARNINGS    OK  UNNEEDED, same version is already published
lconwaymacOS 12.7.1 Monterey / x86_64  OK    OK    WARNINGS    OK  UNNEEDED, same version is already published
kjohnson3macOS 13.7.1 Ventura / arm64  OK    OK    WARNINGS    OK  UNNEEDED, same version is already published
taishanLinux (openEuler 24.03 LTS) / aarch64  OK    OK    WARNINGS  
Package 44/52HostnameOS / ArchINSTALLBUILDCHECKBUILD BIN
stJoincount 1.11.0  (landing page)
Jiarong Song
git_last_commit: 3c16bb4
git_last_commit_date: 2025-04-15 12:58:39 -0400
nebbiolo2Linux (Ubuntu 24.04.1 LTS) / x86_64  OK    OK    OK  UNNEEDED, same version is already published
palomino8Windows Server 2022 Datacenter / x64  OK    OK    OK    OK  UNNEEDED, same version is already published
lconwaymacOS 12.7.1 Monterey / x86_64  OK    OK    OK    OK  UNNEEDED, same version is already published
kjohnson3macOS 13.7.1 Ventura / arm64  OK    OK    OK    OK  UNNEEDED, same version is already published
taishanLinux (openEuler 24.03 LTS) / aarch64  OK    OK    OK  
Package 45/52HostnameOS / ArchINSTALLBUILDCHECKBUILD BIN
SVP 1.1.0  (landing page)
Shuangbin Xu
git_last_commit: a9a165a
git_last_commit_date: 2025-04-15 13:49:09 -0400
nebbiolo2Linux (Ubuntu 24.04.1 LTS) / x86_64  OK    OK    OK  UNNEEDED, same version is already published
palomino8Windows Server 2022 Datacenter / x64  OK    OK    OK    OK  UNNEEDED, same version is already published
lconwaymacOS 12.7.1 Monterey / x86_64  OK    OK    OK    OK  UNNEEDED, same version is already published
kjohnson3macOS 13.7.1 Ventura / arm64  OK    OK    OK    OK  UNNEEDED, same version is already published
taishanLinux (openEuler 24.03 LTS) / aarch64  OK    ERROR  skipped
Package 46/52HostnameOS / ArchINSTALLBUILDCHECKBUILD BIN
tidySpatialExperiment 1.5.0  (landing page)
William Hutchison
git_last_commit: 3cac96f
git_last_commit_date: 2025-04-15 13:27:14 -0400
nebbiolo2Linux (Ubuntu 24.04.1 LTS) / x86_64  OK    OK    OK  UNNEEDED, same version is already published
palomino8Windows Server 2022 Datacenter / x64  OK    OK    OK    OK  UNNEEDED, same version is already published
lconwaymacOS 12.7.1 Monterey / x86_64  OK    OK    OK    OK  UNNEEDED, same version is already published
kjohnson3macOS 13.7.1 Ventura / arm64  OK    OK    OK    OK  UNNEEDED, same version is already published
taishanLinux (openEuler 24.03 LTS) / aarch64  OK    OK    OK  
Package 47/52HostnameOS / ArchINSTALLBUILDCHECKBUILD BIN
tpSVG 1.5.0  (landing page)
Boyi Guo
git_last_commit: 98f4d48
git_last_commit_date: 2025-04-15 13:29:49 -0400
nebbiolo2Linux (Ubuntu 24.04.1 LTS) / x86_64  OK    OK    OK  UNNEEDED, same version is already published
palomino8Windows Server 2022 Datacenter / x64  OK    OK    OK    OK  UNNEEDED, same version is already published
lconwaymacOS 12.7.1 Monterey / x86_64  OK    OK    OK    OK  UNNEEDED, same version is already published
kjohnson3macOS 13.7.1 Ventura / arm64  OK    OK    OK    OK  UNNEEDED, same version is already published
taishanLinux (openEuler 24.03 LTS) / aarch64  OK    OK    OK  
Package 48/52HostnameOS / ArchINSTALLBUILDCHECKBUILD BIN
VisiumIO 1.5.6  (landing page)
Marcel Ramos
git_last_commit: 0ffa1d4
git_last_commit_date: 2025-05-07 11:07:34 -0400
nebbiolo2Linux (Ubuntu 24.04.1 LTS) / x86_64  OK    OK    OK  UNNEEDED, same version is already published
palomino8Windows Server 2022 Datacenter / x64  OK    OK    OK    OK  UNNEEDED, same version is already published
lconwaymacOS 12.7.1 Monterey / x86_64  OK    OK    OK    OK  UNNEEDED, same version is already published
kjohnson3macOS 13.7.1 Ventura / arm64  OK    OK    OK    OK  UNNEEDED, same version is already published
taishanLinux (openEuler 24.03 LTS) / aarch64  OK    OK    OK  
Package 49/52HostnameOS / ArchINSTALLBUILDCHECKBUILD BIN
visiumStitched 1.1.0  (landing page)
Nicholas J. Eagles
git_last_commit: 142b910
git_last_commit_date: 2025-04-15 13:44:04 -0400
nebbiolo2Linux (Ubuntu 24.04.1 LTS) / x86_64  OK    OK    OK  UNNEEDED, same version is already published
palomino8Windows Server 2022 Datacenter / x64  OK    OK    OK    OK  UNNEEDED, same version is already published
lconwaymacOS 12.7.1 Monterey / x86_64  OK    OK    OK    OK  UNNEEDED, same version is already published
kjohnson3macOS 13.7.1 Ventura / arm64  OK    OK    OK    OK  NO, package depends on 'DropletUtils' which is only available as a source package that needs compilation
taishanLinux (openEuler 24.03 LTS) / aarch64  OK    OK    OK  
Package 50/52HostnameOS / ArchINSTALLBUILDCHECKBUILD BIN
Voyager 1.11.0  (landing page)
Lambda Moses
git_last_commit: 43e1fed
git_last_commit_date: 2025-04-15 12:57:28 -0400
nebbiolo2Linux (Ubuntu 24.04.1 LTS) / x86_64  OK    OK    WARNINGS  UNNEEDED, same version is already published
palomino8Windows Server 2022 Datacenter / x64  OK    OK    WARNINGS    OK  NO, package depends on 'bluster' which is only available as a source package that needs compilation
lconwaymacOS 12.7.1 Monterey / x86_64  OK    OK    WARNINGS    OK  UNNEEDED, same version is already published
kjohnson3macOS 13.7.1 Ventura / arm64  OK    OK    WARNINGS    OK  NO, package depends on 'DelayedArray' which is only available as a source package that needs compilation
taishanLinux (openEuler 24.03 LTS) / aarch64  OK    OK    WARNINGS  
Package 51/52HostnameOS / ArchINSTALLBUILDCHECKBUILD BIN
XeniumIO 1.1.2  (landing page)
Marcel Ramos
git_last_commit: 302b3c8
git_last_commit_date: 2025-05-06 18:23:23 -0400
nebbiolo2Linux (Ubuntu 24.04.1 LTS) / x86_64  OK    OK    OK  UNNEEDED, same version is already published
palomino8Windows Server 2022 Datacenter / x64  OK    OK    OK    OK  UNNEEDED, same version is already published
lconwaymacOS 12.7.1 Monterey / x86_64  OK    OK    OK    OK  UNNEEDED, same version is already published
kjohnson3macOS 13.7.1 Ventura / arm64  OK    OK    OK    OK  UNNEEDED, same version is already published
taishanLinux (openEuler 24.03 LTS) / aarch64  OK    ERROR  skipped
Package 52/52HostnameOS / ArchINSTALLBUILDCHECKBUILD BIN
xenLite 1.3.0  (landing page)
Vincent Carey
git_last_commit: b3b7b53
git_last_commit_date: 2025-04-15 13:39:59 -0400
nebbiolo2Linux (Ubuntu 24.04.1 LTS) / x86_64  OK    OK    OK  UNNEEDED, same version is already published
palomino8Windows Server 2022 Datacenter / x64  OK    OK    OK    OK  UNNEEDED, same version is already published
lconwaymacOS 12.7.1 Monterey / x86_64  OK    OK    OK    OK  UNNEEDED, same version is already published
kjohnson3macOS 13.7.1 Ventura / arm64  OK    OK    OK    OK  UNNEEDED, same version is already published
taishanLinux (openEuler 24.03 LTS) / aarch64  OK    ERROR  skipped