Back to Multiple platform build/check report for BioC 3.21: simplified long |
|
This page was generated on 2025-02-03 12:37 -0500 (Mon, 03 Feb 2025).
Hostname | OS | Arch (*) | R version | Installed pkgs |
---|---|---|---|---|
nebbiolo1 | Linux (Ubuntu 24.04.1 LTS) | x86_64 | R Under development (unstable) (2025-01-20 r87609) -- "Unsuffered Consequences" | 4704 |
palomino7 | Windows Server 2022 Datacenter | x64 | R Under development (unstable) (2025-01-21 r87610 ucrt) -- "Unsuffered Consequences" | 4467 |
lconway | macOS 12.7.1 Monterey | x86_64 | R Under development (unstable) (2025-01-22 r87618) -- "Unsuffered Consequences" | 4478 |
Click on any hostname to see more info about the system (e.g. compilers) (*) as reported by 'uname -p', except on Windows and Mac OS X |
Package 2029/2289 | Hostname | OS / Arch | INSTALL | BUILD | CHECK | BUILD BIN | ||||||||
SPIAT 1.9.0 (landing page) Yuzhou Feng
| nebbiolo1 | Linux (Ubuntu 24.04.1 LTS) / x86_64 | OK | OK | OK | |||||||||
palomino7 | Windows Server 2022 Datacenter / x64 | OK | OK | OK | OK | |||||||||
lconway | macOS 12.7.1 Monterey / x86_64 | OK | OK | OK | OK | |||||||||
To the developers/maintainers of the SPIAT package: - Allow up to 24 hours (and sometimes 48 hours) for your latest push to git@git.bioconductor.org:packages/SPIAT.git to reflect on this report. See Troubleshooting Build Report for more information. - Use the following Renviron settings to reproduce errors and warnings. - If 'R CMD check' started to fail recently on the Linux builder(s) over a missing dependency, add the missing dependency to 'Suggests:' in your DESCRIPTION file. See Renviron.bioc for more information. |
Package: SPIAT |
Version: 1.9.0 |
Command: /home/biocbuild/bbs-3.21-bioc/R/bin/R CMD check --install=check:SPIAT.install-out.txt --library=/home/biocbuild/bbs-3.21-bioc/R/site-library --timings SPIAT_1.9.0.tar.gz |
StartedAt: 2025-02-03 02:48:56 -0500 (Mon, 03 Feb 2025) |
EndedAt: 2025-02-03 02:57:49 -0500 (Mon, 03 Feb 2025) |
EllapsedTime: 532.6 seconds |
RetCode: 0 |
Status: OK |
CheckDir: SPIAT.Rcheck |
Warnings: 0 |
############################################################################## ############################################################################## ### ### Running command: ### ### /home/biocbuild/bbs-3.21-bioc/R/bin/R CMD check --install=check:SPIAT.install-out.txt --library=/home/biocbuild/bbs-3.21-bioc/R/site-library --timings SPIAT_1.9.0.tar.gz ### ############################################################################## ############################################################################## * using log directory ‘/home/biocbuild/bbs-3.21-bioc/meat/SPIAT.Rcheck’ * using R Under development (unstable) (2025-01-20 r87609) * using platform: x86_64-pc-linux-gnu * R was compiled by gcc (Ubuntu 13.3.0-6ubuntu2~24.04) 13.3.0 GNU Fortran (Ubuntu 13.3.0-6ubuntu2~24.04) 13.3.0 * running under: Ubuntu 24.04.1 LTS * using session charset: UTF-8 * checking for file ‘SPIAT/DESCRIPTION’ ... OK * checking extension type ... Package * this is package ‘SPIAT’ version ‘1.9.0’ * package encoding: UTF-8 * checking package namespace information ... OK * checking package dependencies ... OK * checking if this is a source package ... OK * checking if there is a namespace ... OK * checking for hidden files and directories ... OK * checking for portable file names ... OK * checking for sufficient/correct file permissions ... OK * checking whether package ‘SPIAT’ can be installed ... OK * checking installed package size ... OK * checking package directory ... OK * checking ‘build’ directory ... OK * checking DESCRIPTION meta-information ... NOTE License components with restrictions not permitted: Artistic-2.0 + file LICENSE * checking top-level files ... OK * checking for left-over files ... OK * checking index information ... OK * checking package subdirectories ... OK * checking code files for non-ASCII characters ... OK * checking R files for syntax errors ... OK * checking whether the package can be loaded ... OK * checking whether the package can be loaded with stated dependencies ... OK * checking whether the package can be unloaded cleanly ... OK * checking whether the namespace can be loaded with stated dependencies ... OK * checking whether the namespace can be unloaded cleanly ... OK * checking loading without being on the library search path ... OK * checking dependencies in R code ... OK * checking S3 generic/method consistency ... OK * checking replacement functions ... OK * checking foreign function calls ... OK * checking R code for possible problems ... OK * checking Rd files ... OK * checking Rd metadata ... OK * checking Rd cross-references ... OK * checking for missing documentation entries ... OK * checking for code/documentation mismatches ... OK * checking Rd \usage sections ... OK * checking Rd contents ... OK * checking for unstated dependencies in examples ... OK * checking contents of ‘data’ directory ... OK * checking data for non-ASCII characters ... OK * checking LazyData ... OK * checking data for ASCII and uncompressed saves ... OK * checking files in ‘vignettes’ ... OK * checking examples ... OK Examples with CPU (user + system) or elapsed time > 5s user system elapsed dimensionality_reduction_plot 20.581 0.093 20.676 calculate_percentage_of_grids 7.288 0.099 7.387 calculate_pairwise_distances_between_celltypes 5.246 0.852 6.100 * checking for unstated dependencies in ‘tests’ ... OK * checking tests ... Running ‘testthat.R’ OK * checking for unstated dependencies in vignettes ... OK * checking package vignettes ... OK * checking re-building of vignette outputs ... OK * checking PDF version of manual ... OK * DONE Status: 1 NOTE See ‘/home/biocbuild/bbs-3.21-bioc/meat/SPIAT.Rcheck/00check.log’ for details.
SPIAT.Rcheck/00install.out
############################################################################## ############################################################################## ### ### Running command: ### ### /home/biocbuild/bbs-3.21-bioc/R/bin/R CMD INSTALL SPIAT ### ############################################################################## ############################################################################## * installing to library ‘/home/biocbuild/bbs-3.21-bioc/R/site-library’ * installing *source* package ‘SPIAT’ ... ** this is package ‘SPIAT’ version ‘1.9.0’ ** using staged installation ** R ** data *** moving datasets to lazyload DB ** inst ** byte-compile and prepare package for lazy loading ** help *** installing help indices ** building package indices ** installing vignettes ** testing if installed package can be loaded from temporary location ** testing if installed package can be loaded from final location ** testing if installed package keeps a record of temporary installation path * DONE (SPIAT)
SPIAT.Rcheck/tests/testthat.Rout
R Under development (unstable) (2025-01-20 r87609) -- "Unsuffered Consequences" Copyright (C) 2025 The R Foundation for Statistical Computing Platform: x86_64-pc-linux-gnu R is free software and comes with ABSOLUTELY NO WARRANTY. You are welcome to redistribute it under certain conditions. Type 'license()' or 'licence()' for distribution details. R is a collaborative project with many contributors. Type 'contributors()' for more information and 'citation()' on how to cite R or R packages in publications. Type 'demo()' for some demos, 'help()' for on-line help, or 'help.start()' for an HTML browser interface to help. Type 'q()' to quit R. > library(testthat) > library(SPIAT) Loading required package: SpatialExperiment Loading required package: SingleCellExperiment Loading required package: SummarizedExperiment Loading required package: MatrixGenerics Loading required package: matrixStats Attaching package: 'MatrixGenerics' The following objects are masked from 'package:matrixStats': colAlls, colAnyNAs, colAnys, colAvgsPerRowSet, colCollapse, colCounts, colCummaxs, colCummins, colCumprods, colCumsums, colDiffs, colIQRDiffs, colIQRs, colLogSumExps, colMadDiffs, colMads, colMaxs, colMeans2, colMedians, colMins, colOrderStats, colProds, colQuantiles, colRanges, colRanks, colSdDiffs, colSds, colSums2, colTabulates, colVarDiffs, colVars, colWeightedMads, colWeightedMeans, colWeightedMedians, colWeightedSds, colWeightedVars, rowAlls, rowAnyNAs, rowAnys, rowAvgsPerColSet, rowCollapse, rowCounts, rowCummaxs, rowCummins, rowCumprods, rowCumsums, rowDiffs, rowIQRDiffs, rowIQRs, rowLogSumExps, rowMadDiffs, rowMads, rowMaxs, rowMeans2, rowMedians, rowMins, rowOrderStats, rowProds, rowQuantiles, rowRanges, rowRanks, rowSdDiffs, rowSds, rowSums2, rowTabulates, rowVarDiffs, rowVars, rowWeightedMads, rowWeightedMeans, rowWeightedMedians, rowWeightedSds, rowWeightedVars Loading required package: GenomicRanges Loading required package: stats4 Loading required package: BiocGenerics Loading required package: generics Attaching package: 'generics' The following objects are masked from 'package:base': as.difftime, as.factor, as.ordered, intersect, is.element, setdiff, setequal, union Attaching package: 'BiocGenerics' The following objects are masked from 'package:stats': IQR, mad, sd, var, xtabs The following objects are masked from 'package:base': Filter, Find, Map, Position, Reduce, anyDuplicated, aperm, append, as.data.frame, basename, cbind, colnames, dirname, do.call, duplicated, eval, evalq, get, grep, grepl, is.unsorted, lapply, mapply, match, mget, order, paste, pmax, pmax.int, pmin, pmin.int, rank, rbind, rownames, sapply, saveRDS, table, tapply, unique, unsplit, which.max, which.min Loading required package: S4Vectors Attaching package: 'S4Vectors' The following object is masked from 'package:utils': findMatches The following objects are masked from 'package:base': I, expand.grid, unname Loading required package: IRanges Loading required package: GenomeInfoDb Loading required package: Biobase Welcome to Bioconductor Vignettes contain introductory material; view with 'browseVignettes()'. To cite Bioconductor, see 'citation("Biobase")', and for packages 'citation("pkgname")'. Attaching package: 'Biobase' The following object is masked from 'package:MatrixGenerics': rowMedians The following objects are masked from 'package:matrixStats': anyMissing, rowMedians > > test_check("SPIAT") [1] "Markers had been selected in minimum distance calculation: " [1] "Immune1" "Tumour" [1] "Crossing of cross K function is detected for this image, indicating a potential immune ring." [1] "The crossing happens at the 50% of the specified distance." [1] "The alpha of Polygon is: 63.24375" [1] "Markers had been selected in minimum distance calculation: " [1] "Non-border" "Border" [1] "Tumour_marker" [1] "Immune_marker1" [1] "Immune_marker2" [1] "Immune_marker3" [1] "Immune_marker4" [1] "Tumour_marker" [1] "Immune_marker1" [1] "Immune_marker2" [1] "Immune_marker3" [1] "Immune_marker4" [1] "Tumour_marker threshold intensity: 0.445450443784465" [1] "Immune_marker1 threshold intensity: 0.116980867970434" [1] "Immune_marker2 threshold intensity: 0.124283809517202" [1] "Immune_marker3 threshold intensity: 0.0166413130263845" [1] "Immune_marker4 threshold intensity: 0.00989731350898589" [ FAIL 0 | WARN 0 | SKIP 0 | PASS 80 ] > > proc.time() user system elapsed 66.019 2.129 68.130
SPIAT.Rcheck/SPIAT-Ex.timings
name | user | system | elapsed | |
AUC_of_cross_function | 0.157 | 0.006 | 0.163 | |
R_BC | 1.784 | 0.049 | 1.837 | |
average_marker_intensity_within_radius | 0.044 | 0.011 | 0.053 | |
average_minimum_distance | 0.021 | 0.001 | 0.021 | |
average_nearest_neighbor_index | 0.227 | 0.015 | 0.241 | |
average_percentage_of_cells_within_radius | 0.936 | 0.010 | 0.945 | |
calculate_cell_proportions | 0.013 | 0.000 | 0.015 | |
calculate_cross_functions | 0.158 | 0.000 | 0.160 | |
calculate_distance_to_margin | 1.104 | 0.000 | 1.104 | |
calculate_entropy | 0.009 | 0.000 | 0.009 | |
calculate_minimum_distances_between_celltypes | 0.014 | 0.000 | 0.015 | |
calculate_pairwise_distances_between_celltypes | 5.246 | 0.852 | 6.100 | |
calculate_percentage_of_grids | 7.288 | 0.099 | 7.387 | |
calculate_proportions_of_cells_in_structure | 1.222 | 0.006 | 1.227 | |
calculate_spatial_autocorrelation | 2.864 | 0.009 | 2.873 | |
calculate_summary_distances_between_celltypes | 2.946 | 0.197 | 3.143 | |
calculate_summary_distances_of_cells_to_borders | 1.056 | 0.066 | 1.121 | |
composition_of_neighborhoods | 1.089 | 0.188 | 1.277 | |
compute_gradient | 0.052 | 0.000 | 0.052 | |
crossing_of_crossK | 0.112 | 0.001 | 0.114 | |
define_celltypes | 0.559 | 0.009 | 0.567 | |
define_structure | 1.399 | 0.004 | 1.403 | |
dimensionality_reduction_plot | 20.581 | 0.093 | 20.676 | |
entropy_gradient_aggregated | 0.501 | 0.041 | 0.542 | |
format_cellprofiler_to_spe | 0.129 | 0.018 | 0.146 | |
format_codex_to_spe | 0.084 | 0.010 | 0.095 | |
format_colData_to_spe | 0.090 | 0.003 | 0.093 | |
format_halo_to_spe | 0.362 | 0.100 | 0.456 | |
format_image_to_spe | 0.092 | 0.001 | 0.094 | |
format_inform_to_spe | 0.145 | 0.056 | 0.203 | |
format_spe_to_ppp | 0.016 | 0.002 | 0.016 | |
grid_metrics | 2.483 | 0.012 | 2.496 | |
identify_bordering_cells | 0.587 | 0.033 | 0.620 | |
identify_neighborhoods | 1.184 | 0.086 | 1.269 | |
image_splitter | 0.834 | 0.006 | 0.840 | |
marker_intensity_boxplot | 0.29 | 0.00 | 0.29 | |
marker_prediction_plot | 0.607 | 0.004 | 0.611 | |
marker_surface_plot | 0.201 | 0.014 | 0.215 | |
marker_surface_plot_stack | 0.200 | 0.005 | 0.205 | |
measure_association_to_cell_properties | 0.412 | 0.002 | 0.414 | |
mixing_score_summary | 0.018 | 0.001 | 0.018 | |
number_of_cells_within_radius | 0.011 | 0.000 | 0.011 | |
plot_average_intensity | 0.247 | 0.000 | 0.247 | |
plot_cell_categories | 0.215 | 0.000 | 0.214 | |
plot_cell_distances_violin | 2.030 | 0.114 | 2.145 | |
plot_cell_marker_levels | 0.173 | 0.001 | 0.174 | |
plot_cell_percentages | 0.402 | 0.001 | 0.402 | |
plot_composition_heatmap | 3.158 | 0.078 | 3.236 | |
plot_distance_heatmap | 3.213 | 0.001 | 3.214 | |
plot_marker_level_heatmap | 0.340 | 0.001 | 0.341 | |
predict_phenotypes | 1.007 | 0.002 | 1.010 | |
select_celltypes | 0.044 | 0.000 | 0.044 | |