| Back to Multiple platform build/check report for BioC 3.23: simplified long |
|
This page was generated on 2025-11-24 11:37 -0500 (Mon, 24 Nov 2025).
| Hostname | OS | Arch (*) | R version | Installed pkgs |
|---|---|---|---|---|
| nebbiolo1 | Linux (Ubuntu 24.04.3 LTS) | x86_64 | R Under development (unstable) (2025-10-20 r88955) -- "Unsuffered Consequences" | 4829 |
| lconway | macOS 12.7.6 Monterey | x86_64 | R Under development (unstable) (2025-10-21 r88958) -- "Unsuffered Consequences" | 4605 |
| kjohnson3 | macOS 13.7.7 Ventura | arm64 | R Under development (unstable) (2025-11-04 r88984) -- "Unsuffered Consequences" | 4568 |
| Click on any hostname to see more info about the system (e.g. compilers) (*) as reported by 'uname -p', except on Windows and Mac OS X | ||||
| Package 255/2327 | Hostname | OS / Arch | INSTALL | BUILD | CHECK | BUILD BIN | ||||||||
| BulkSignalR 1.3.1 (landing page) Jean-Philippe Villemin
| nebbiolo1 | Linux (Ubuntu 24.04.3 LTS) / x86_64 | OK | OK | OK | |||||||||
| lconway | macOS 12.7.6 Monterey / x86_64 | OK | OK | OK | OK | |||||||||
| kjohnson3 | macOS 13.7.7 Ventura / arm64 | OK | OK | OK | OK | |||||||||
|
To the developers/maintainers of the BulkSignalR package: - Allow up to 24 hours (and sometimes 48 hours) for your latest push to git@git.bioconductor.org:packages/BulkSignalR.git to reflect on this report. See Troubleshooting Build Report for more information. - Use the following Renviron settings to reproduce errors and warnings. - If 'R CMD check' started to fail recently on the Linux builder(s) over a missing dependency, add the missing dependency to 'Suggests:' in your DESCRIPTION file. See Renviron.bioc for more information. |
| Package: BulkSignalR |
| Version: 1.3.1 |
| Command: /home/biocbuild/bbs-3.23-bioc/R/bin/R CMD check --install=check:BulkSignalR.install-out.txt --library=/home/biocbuild/bbs-3.23-bioc/R/site-library --timings BulkSignalR_1.3.1.tar.gz |
| StartedAt: 2025-11-23 21:38:57 -0500 (Sun, 23 Nov 2025) |
| EndedAt: 2025-11-23 21:49:44 -0500 (Sun, 23 Nov 2025) |
| EllapsedTime: 646.8 seconds |
| RetCode: 0 |
| Status: OK |
| CheckDir: BulkSignalR.Rcheck |
| Warnings: 0 |
##############################################################################
##############################################################################
###
### Running command:
###
### /home/biocbuild/bbs-3.23-bioc/R/bin/R CMD check --install=check:BulkSignalR.install-out.txt --library=/home/biocbuild/bbs-3.23-bioc/R/site-library --timings BulkSignalR_1.3.1.tar.gz
###
##############################################################################
##############################################################################
* using log directory ‘/home/biocbuild/bbs-3.23-bioc/meat/BulkSignalR.Rcheck’
* using R Under development (unstable) (2025-10-20 r88955)
* using platform: x86_64-pc-linux-gnu
* R was compiled by
gcc (Ubuntu 13.3.0-6ubuntu2~24.04) 13.3.0
GNU Fortran (Ubuntu 13.3.0-6ubuntu2~24.04) 13.3.0
* running under: Ubuntu 24.04.3 LTS
* using session charset: UTF-8
* checking for file ‘BulkSignalR/DESCRIPTION’ ... OK
* checking extension type ... Package
* this is package ‘BulkSignalR’ version ‘1.3.1’
* package encoding: UTF-8
* checking package namespace information ... OK
* checking package dependencies ... INFO
Imports includes 26 non-default packages.
Importing from so many packages makes the package vulnerable to any of
them becoming unavailable. Move as many as possible to Suggests and
use conditionally.
* checking if this is a source package ... OK
* checking if there is a namespace ... OK
* checking for hidden files and directories ... OK
* checking for portable file names ... OK
* checking for sufficient/correct file permissions ... OK
* checking whether package ‘BulkSignalR’ can be installed ... OK
* checking installed package size ... OK
* checking package directory ... OK
* checking ‘build’ directory ... OK
* checking DESCRIPTION meta-information ... OK
* checking top-level files ... OK
* checking for left-over files ... OK
* checking index information ... OK
* checking package subdirectories ... OK
* checking code files for non-ASCII characters ... OK
* checking R files for syntax errors ... OK
* checking whether the package can be loaded ... OK
* checking whether the package can be loaded with stated dependencies ... OK
* checking whether the package can be unloaded cleanly ... OK
* checking whether the namespace can be loaded with stated dependencies ... OK
* checking whether the namespace can be unloaded cleanly ... OK
* checking loading without being on the library search path ... OK
* checking whether startup messages can be suppressed ... OK
* checking dependencies in R code ... OK
* checking S3 generic/method consistency ... OK
* checking replacement functions ... OK
* checking foreign function calls ... OK
* checking R code for possible problems ... OK
* checking Rd files ... OK
* checking Rd metadata ... OK
* checking Rd cross-references ... OK
* checking for missing documentation entries ... OK
* checking for code/documentation mismatches ... OK
* checking Rd \usage sections ... OK
* checking Rd contents ... OK
* checking for unstated dependencies in examples ... OK
* checking contents of ‘data’ directory ... OK
* checking data for non-ASCII characters ... OK
* checking data for ASCII and uncompressed saves ... OK
* checking files in ‘vignettes’ ... OK
* checking examples ... OK
Examples with CPU (user + system) or elapsed time > 5s
user system elapsed
simpleHeatmap 6.792 0.639 7.432
cacheClear 3.771 0.612 6.792
* checking for unstated dependencies in ‘tests’ ... OK
* checking tests ...
Running ‘testthat.R’
OK
* checking for unstated dependencies in vignettes ... OK
* checking package vignettes ... OK
* checking re-building of vignette outputs ... OK
* checking PDF version of manual ... OK
* DONE
Status: OK
BulkSignalR.Rcheck/00install.out
############################################################################## ############################################################################## ### ### Running command: ### ### /home/biocbuild/bbs-3.23-bioc/R/bin/R CMD INSTALL BulkSignalR ### ############################################################################## ############################################################################## * installing to library ‘/home/biocbuild/bbs-3.23-bioc/R/site-library’ * installing *source* package ‘BulkSignalR’ ... ** this is package ‘BulkSignalR’ version ‘1.3.1’ ** using staged installation ** R ** data ** inst ** byte-compile and prepare package for lazy loading ** help *** installing help indices *** copying figures ** building package indices ** installing vignettes ** testing if installed package can be loaded from temporary location ** testing if installed package can be loaded from final location ** testing if installed package keeps a record of temporary installation path * DONE (BulkSignalR)
BulkSignalR.Rcheck/tests/testthat.Rout
R Under development (unstable) (2025-10-20 r88955) -- "Unsuffered Consequences"
Copyright (C) 2025 The R Foundation for Statistical Computing
Platform: x86_64-pc-linux-gnu
R is free software and comes with ABSOLUTELY NO WARRANTY.
You are welcome to redistribute it under certain conditions.
Type 'license()' or 'licence()' for distribution details.
R is a collaborative project with many contributors.
Type 'contributors()' for more information and
'citation()' on how to cite R or R packages in publications.
Type 'demo()' for some demos, 'help()' for on-line help, or
'help.start()' for an HTML browser interface to help.
Type 'q()' to quit R.
> library(testthat)
> library(BulkSignalR)
Local "resources" are up to date.
> test_check("BulkSignalR")
[ FAIL 0 | WARN 0 | SKIP 0 | PASS 1 ]
>
> proc.time()
user system elapsed
14.015 0.680 15.789
BulkSignalR.Rcheck/BulkSignalR-Ex.timings
| name | user | system | elapsed | |
| BSRClusterComp-class | 0.002 | 0.001 | 0.003 | |
| BSRClusterComp | 0.236 | 0.025 | 0.261 | |
| BSRDataModel-class | 0.050 | 0.014 | 0.064 | |
| BSRDataModel | 0.158 | 0.002 | 0.161 | |
| BSRDataModelComp-class | 0.005 | 0.001 | 0.006 | |
| BSRDataModelComp | 0.159 | 0.002 | 0.161 | |
| BSRInference-class | 0.004 | 0.001 | 0.005 | |
| BSRInference | 3.318 | 0.269 | 3.592 | |
| BSRInferenceComp-class | 0.007 | 0.000 | 0.006 | |
| BSRInferenceComp | 1.093 | 0.078 | 1.170 | |
| BSRSignature-class | 0.002 | 0.000 | 0.002 | |
| BSRSignature | 0.028 | 0.000 | 0.029 | |
| BSRSignatureComp-class | 0.003 | 0.000 | 0.003 | |
| BSRSignatureComp | 0.013 | 0.000 | 0.013 | |
| LRinter | 0.002 | 0.000 | 0.002 | |
| LRinterScore | 0.004 | 0.000 | 0.004 | |
| LRinterShort | 0.004 | 0.000 | 0.004 | |
| addClusterComp | 0.204 | 0.002 | 0.206 | |
| alluvialPlot | 0.577 | 0.005 | 0.582 | |
| assignCellTypesToInteractions | 0.639 | 0.023 | 0.663 | |
| bubblePlotPathwaysLR | 0.457 | 0.008 | 0.465 | |
| cacheClear | 3.771 | 0.612 | 6.792 | |
| cacheInfo | 0.099 | 0.027 | 0.127 | |
| cacheVersion | 0.289 | 0.090 | 0.769 | |
| cellTypeFrequency | 0.685 | 0.152 | 0.837 | |
| cellularNetwork | 0.631 | 0.103 | 0.733 | |
| cellularNetworkTable | 0.597 | 0.095 | 0.693 | |
| chordDiagramLR | 1.239 | 0.311 | 1.549 | |
| coerce | 0.001 | 0.001 | 0.002 | |
| colClusterA | 0.001 | 0.000 | 0.000 | |
| colClusterB | 0 | 0 | 0 | |
| comparison | 0 | 0 | 0 | |
| comparisonName | 0 | 0 | 0 | |
| convertToHuman | 0.212 | 0.046 | 1.951 | |
| createResources | 0.317 | 0.039 | 1.047 | |
| differentialStats | 0.000 | 0.002 | 0.002 | |
| findOrthoGenes | 0.149 | 0.006 | 0.416 | |
| generateSpatialPlots | 1.948 | 0.314 | 2.262 | |
| getLRIntracellNetwork | 1.786 | 0.126 | 1.911 | |
| getLRNetwork | 0.033 | 0.008 | 0.040 | |
| getPathwayStats | 0.014 | 0.004 | 0.017 | |
| getResource | 0.297 | 0.023 | 0.320 | |
| inferenceParameters | 0.000 | 0.001 | 0.000 | |
| initialOrganism | 0.002 | 0.000 | 0.001 | |
| initialOrthologs | 0.001 | 0.001 | 0.001 | |
| learnParameters | 2.503 | 0.255 | 2.758 | |
| ligands | 0.000 | 0.000 | 0.001 | |
| logTransformed | 0.002 | 0.001 | 0.002 | |
| maxLigandSpatialCounts | 0.052 | 0.006 | 0.059 | |
| mu | 0.000 | 0.000 | 0.001 | |
| ncounts | 0.001 | 0.000 | 0.002 | |
| normalization | 0.000 | 0.000 | 0.002 | |
| parameters | 0.001 | 0.000 | 0.001 | |
| pathways | 0 | 0 | 0 | |
| receptors | 0.001 | 0.000 | 0.000 | |
| reduceToBestPathway | 0.084 | 0.004 | 0.090 | |
| reduceToLigand | 0.055 | 0.012 | 0.068 | |
| reduceToPathway | 0.074 | 0.001 | 0.075 | |
| reduceToReceptor | 0.015 | 0.001 | 0.015 | |
| relateToGeneSet | 0.071 | 0.012 | 0.082 | |
| removeClusterComp | 0.212 | 0.032 | 0.244 | |
| rescoreInference | 0.032 | 0.002 | 0.035 | |
| resetLRdb | 0.024 | 0.005 | 0.029 | |
| resetNetwork | 0.007 | 0.000 | 0.007 | |
| resetPathways | 0.268 | 0.031 | 0.299 | |
| resetToInitialOrganism | 0.152 | 0.011 | 0.163 | |
| scoreLRGeneSignatures | 1.313 | 0.167 | 1.480 | |
| scoreSignatures | 0.268 | 0.002 | 0.270 | |
| separatedLRPlot | 1.613 | 0.028 | 1.641 | |
| signatureHeatmaps | 0.022 | 0.000 | 0.022 | |
| simpleHeatmap | 6.792 | 0.639 | 7.432 | |
| smoothSpatialCounts | 0.049 | 0.000 | 0.049 | |
| sourceComparisonName | 0 | 0 | 0 | |
| spatialAssociation | 0.052 | 0.001 | 0.052 | |
| spatialAssociationPlot | 3.518 | 0.044 | 3.563 | |
| spatialDiversityPlot | 0.924 | 0.074 | 0.998 | |
| spatialIndexPlot | 1.380 | 0.032 | 1.413 | |
| spatialPlot | 1.138 | 0.032 | 1.169 | |
| summarizedCellularNetwork | 0.562 | 0.021 | 0.583 | |
| tgCorr | 0.000 | 0.001 | 0.001 | |
| tgExpr | 0 | 0 | 0 | |
| tgGenes | 0 | 0 | 0 | |
| tgLogFC | 0 | 0 | 0 | |
| tgPval | 0.000 | 0.000 | 0.001 | |
| updateInference | 0.085 | 0.003 | 0.088 | |