Back to Multiple platform build/check report for BioC 3.23:   simplified   long
AB[C]DEFGHIJKLMNOPQRSTUVWXYZ

This page was generated on 2025-11-28 11:37 -0500 (Fri, 28 Nov 2025).

HostnameOSArch (*)R versionInstalled pkgs
nebbiolo1Linux (Ubuntu 24.04.3 LTS)x86_64R Under development (unstable) (2025-10-20 r88955) -- "Unsuffered Consequences" 4866
lconwaymacOS 12.7.6 Montereyx86_64R Under development (unstable) (2025-10-21 r88958) -- "Unsuffered Consequences" 4614
kjohnson3macOS 13.7.7 Venturaarm64R Under development (unstable) (2025-11-04 r88984) -- "Unsuffered Consequences" 4571
Click on any hostname to see more info about the system (e.g. compilers)      (*) as reported by 'uname -p', except on Windows and Mac OS X

Package 284/2328HostnameOS / ArchINSTALLBUILDCHECKBUILD BIN
CatsCradle 1.5.1  (landing page)
Michael Shapiro
Snapshot Date: 2025-11-27 13:40 -0500 (Thu, 27 Nov 2025)
git_url: https://git.bioconductor.org/packages/CatsCradle
git_branch: devel
git_last_commit: 032f58b
git_last_commit_date: 2025-11-04 07:21:19 -0500 (Tue, 04 Nov 2025)
nebbiolo1Linux (Ubuntu 24.04.3 LTS) / x86_64  OK    OK    OK  UNNEEDED, same version is already published
lconwaymacOS 12.7.6 Monterey / x86_64  OK    OK    OK    OK  UNNEEDED, same version is already published
kjohnson3macOS 13.7.7 Ventura / arm64  OK    OK    OK    OK  UNNEEDED, same version is already published


CHECK results for CatsCradle on nebbiolo1

To the developers/maintainers of the CatsCradle package:
- Allow up to 24 hours (and sometimes 48 hours) for your latest push to git@git.bioconductor.org:packages/CatsCradle.git to reflect on this report. See Troubleshooting Build Report for more information.
- Use the following Renviron settings to reproduce errors and warnings.
- If 'R CMD check' started to fail recently on the Linux builder(s) over a missing dependency, add the missing dependency to 'Suggests:' in your DESCRIPTION file. See Renviron.bioc for more information.

raw results


Summary

Package: CatsCradle
Version: 1.5.1
Command: /home/biocbuild/bbs-3.23-bioc/R/bin/R CMD check --install=check:CatsCradle.install-out.txt --library=/home/biocbuild/bbs-3.23-bioc/R/site-library --timings CatsCradle_1.5.1.tar.gz
StartedAt: 2025-11-27 21:43:41 -0500 (Thu, 27 Nov 2025)
EndedAt: 2025-11-27 22:01:46 -0500 (Thu, 27 Nov 2025)
EllapsedTime: 1085.4 seconds
RetCode: 0
Status:   OK  
CheckDir: CatsCradle.Rcheck
Warnings: 0

Command output

##############################################################################
##############################################################################
###
### Running command:
###
###   /home/biocbuild/bbs-3.23-bioc/R/bin/R CMD check --install=check:CatsCradle.install-out.txt --library=/home/biocbuild/bbs-3.23-bioc/R/site-library --timings CatsCradle_1.5.1.tar.gz
###
##############################################################################
##############################################################################


* using log directory ‘/home/biocbuild/bbs-3.23-bioc/meat/CatsCradle.Rcheck’
* using R Under development (unstable) (2025-10-20 r88955)
* using platform: x86_64-pc-linux-gnu
* R was compiled by
    gcc (Ubuntu 13.3.0-6ubuntu2~24.04) 13.3.0
    GNU Fortran (Ubuntu 13.3.0-6ubuntu2~24.04) 13.3.0
* running under: Ubuntu 24.04.3 LTS
* using session charset: UTF-8
* checking for file ‘CatsCradle/DESCRIPTION’ ... OK
* this is package ‘CatsCradle’ version ‘1.5.1’
* package encoding: UTF-8
* checking package namespace information ... OK
* checking package dependencies ... INFO
Imports includes 21 non-default packages.
Importing from so many packages makes the package vulnerable to any of
them becoming unavailable.  Move as many as possible to Suggests and
use conditionally.
* checking if this is a source package ... OK
* checking if there is a namespace ... OK
* checking for hidden files and directories ... OK
* checking for portable file names ... OK
* checking for sufficient/correct file permissions ... OK
* checking whether package ‘CatsCradle’ can be installed ... OK
* checking installed package size ... OK
* checking package directory ... OK
* checking ‘build’ directory ... OK
* checking DESCRIPTION meta-information ... OK
* checking top-level files ... OK
* checking for left-over files ... OK
* checking index information ... OK
* checking package subdirectories ... OK
* checking code files for non-ASCII characters ... OK
* checking R files for syntax errors ... OK
* checking whether the package can be loaded ... OK
* checking whether the package can be loaded with stated dependencies ... OK
* checking whether the package can be unloaded cleanly ... OK
* checking whether the namespace can be loaded with stated dependencies ... OK
* checking whether the namespace can be unloaded cleanly ... OK
* checking loading without being on the library search path ... OK
* checking dependencies in R code ... OK
* checking S3 generic/method consistency ... OK
* checking replacement functions ... OK
* checking foreign function calls ... OK
* checking R code for possible problems ... NOTE
edgeLengthPlot: no visible binding for global variable ‘cellTypePair’
edgeLengthPlot: no visible binding for global variable ‘cutoff’
make.getExample : getExample: no visible binding for global variable
  ‘seuratGenes’
make.getExample : getExample: no visible binding for global variable
  ‘seuratCells’
make.getExample : getExample: no visible binding for global variable
  ‘xeniumCells’
make.getExample : getExample: no visible binding for global variable
  ‘moransI’
make.getExample : getExample: no visible binding for global variable
  ‘moransILigandReceptor’
make.getExample : getExample: no visible binding for global variable
  ‘humanLRN’
make.getExample : getExample: no visible binding for global variable
  ‘mouseLRN’
meanGeneClusterOnCellUMAP: no visible binding for global variable
  ‘UMAP_1’
meanGeneClusterOnCellUMAP: no visible binding for global variable
  ‘UMAP_2’
plotLRDotplot: no visible binding for global variable ‘sender’
plotLRDotplot: no visible binding for global variable ‘negLog10PValue’
plotLRDotplot: no visible binding for global variable ‘receiver’
Undefined global functions or variables:
  UMAP_1 UMAP_2 cellTypePair cutoff humanLRN moransI
  moransILigandReceptor mouseLRN negLog10PValue receiver sender
  seuratCells seuratGenes xeniumCells
* checking Rd files ... OK
* checking Rd metadata ... OK
* checking Rd cross-references ... OK
* checking for missing documentation entries ... OK
* checking for code/documentation mismatches ... OK
* checking Rd \usage sections ... OK
* checking Rd contents ... OK
* checking for unstated dependencies in examples ... OK
* checking contents of ‘data’ directory ... OK
* checking data for non-ASCII characters ... OK
* checking data for ASCII and uncompressed saves ... OK
* checking files in ‘vignettes’ ... OK
* checking examples ... OK
Examples with CPU (user + system) or elapsed time > 5s
                                      user system elapsed
annotateGeneAsVector                45.678  0.979  46.664
computeNBHDVsCTObject               18.819  0.180  18.999
randomiseNodeIndices                15.314  0.421  15.737
getObjectSubsetClusteringPValue     13.269  0.168  13.438
aggregateGeneExpression             10.980  0.227  11.142
predictAnnotation                    8.965  1.463  10.428
transposeObject                     10.149  0.231  10.381
predictAnnotationAllGenes            8.639  0.779   9.418
computeGraphEmbedding                9.282  0.014   9.297
predictGeneAnnotationImpl            7.687  0.614   8.301
runGeometricClusteringTrials         6.310  0.442   6.753
medianComplementPValue               6.622  0.040   6.662
getNearbyGenes                       6.345  0.113   6.458
meanZPerClusterOnUMAP                6.137  0.064   6.201
geneSetsVsGeneClustersPValueMatrix   6.060  0.092   6.152
getGeneNeighbors                     6.085  0.005   6.090
symmetriseNN                         5.839  0.167   6.007
combinatorialSpheres                 5.938  0.036   5.981
getAverageExpressionDF               5.906  0.034   5.941
getClusterOrder                      5.896  0.004   5.902
getObjectSubsetClusteringStatistics  5.878  0.015   5.895
tagRowAndColNames                    5.661  0.141   5.803
getGeneClusterAveragesPerCell        5.692  0.003   5.695
symmetryCheckNN                      5.542  0.150   5.693
getAverageExpressionMatrix           5.652  0.002   5.653
desymmetriseNN                       5.606  0.043   5.651
getNearestNeighbourLists             5.510  0.009   5.519
meanGeneClusterOnCellUMAP            5.503  0.005   5.509
meanZPerCluster                      5.424  0.079   5.503
* checking for unstated dependencies in vignettes ... OK
* checking package vignettes ... OK
* checking re-building of vignette outputs ... OK
* checking PDF version of manual ... OK
* DONE

Status: 1 NOTE
See
  ‘/home/biocbuild/bbs-3.23-bioc/meat/CatsCradle.Rcheck/00check.log’
for details.


Installation output

CatsCradle.Rcheck/00install.out

##############################################################################
##############################################################################
###
### Running command:
###
###   /home/biocbuild/bbs-3.23-bioc/R/bin/R CMD INSTALL CatsCradle
###
##############################################################################
##############################################################################


* installing to library ‘/home/biocbuild/bbs-3.23-bioc/R/site-library’
* installing *source* package ‘CatsCradle’ ...
** this is package ‘CatsCradle’ version ‘1.5.1’
** using staged installation
** R
** data
** inst
** byte-compile and prepare package for lazy loading
** help
*** installing help indices
** building package indices
** installing vignettes
** testing if installed package can be loaded from temporary location
** testing if installed package can be loaded from final location
** testing if installed package keeps a record of temporary installation path
* DONE (CatsCradle)

Tests output


Example timings

CatsCradle.Rcheck/CatsCradle-Ex.timings

nameusersystemelapsed
aggregateGeneExpression10.980 0.22711.142
annotateGeneAsVector45.678 0.97946.664
annotateGenesByGeneSet1.5220.2121.734
cellTypesPerCellTypeGraphFromCellMatrix0.1870.0030.190
collapseExtendedNBHDs2.4690.0022.396
combinatorialSpheres5.9380.0365.981
computeCellTypesPerCellTypeMatrix0.1100.0180.128
computeEdgeGraph0.1580.0210.147
computeEdgeObject0.8750.0200.896
computeGraphEmbedding9.2820.0149.297
computeNBHDByCTMatrix0.1020.0010.103
computeNBHDVsCTObject18.819 0.18018.999
computeNeighbourEnrichment0.1220.0020.124
computeNeighboursDelaunay0.0910.0010.092
computeNeighboursEuclidean1.0230.0210.635
cullEdges0.5120.0030.516
desymmetriseNN5.6060.0435.651
directedHausdorfDistance0.0000.0000.001
edgeCutoffsByClustering0.3690.0000.370
edgeCutoffsByPercentile0.2700.0020.271
edgeCutoffsByWatershed0.3120.0000.311
edgeCutoffsByZScore0.3210.0010.323
edgeLengthPlot0.3270.0010.328
edgeLengthsAndCellTypePairs0.3270.0010.328
exampleObjects0.0000.0010.000
geneSetsVsGeneClustersPValueMatrix6.0600.0926.152
getAverageExpressionDF5.9060.0345.941
getAverageExpressionMatrix5.6520.0025.653
getClusterOrder5.8960.0045.902
getExtendedNBHDs1.0110.0190.851
getFeatureZScores0.2180.0020.220
getGeneClusterAveragesPerCell5.6920.0035.695
getGeneNeighbors6.0850.0056.090
getLigandReceptorNetwork0.0170.0000.016
getLigandReceptorPairsInPanel0.0820.0000.082
getNearbyGenes6.3450.1136.458
getNearestNeighbourLists5.5100.0095.519
getObjectSubsetClusteringPValue13.269 0.16813.438
getObjectSubsetClusteringStatistics5.8780.0155.895
make.getExample0.0910.0010.091
makeLRInteractionHeatmap0.1870.0020.188
makeSummedLRInteractionHeatmap0.1670.0020.169
meanGeneClusterOnCellUMAP5.5030.0055.509
meanZPerCluster5.4240.0795.503
meanZPerClusterOnUMAP6.1370.0646.201
medianComplementDistance0.0000.0000.001
medianComplementPValue6.6220.0406.662
nbhdsAsEdgesToNbhdsAsList0.7260.0110.738
neighbourhoodDiameter0.7400.0180.759
performLigandReceptorAnalysis1.0531.2102.263
performLigandReceptorAnalysisPermutation0.9561.1992.155
plotLRDotplot1.8090.5142.323
predictAnnotation 8.965 1.46310.428
predictAnnotationAllGenes8.6390.7799.418
predictGeneAnnotationImpl7.6870.6148.301
randomiseNodeIndices15.314 0.42115.737
runGeometricClusteringTrials6.3100.4426.753
runMoransI1.1750.0641.239
sankeyFromMatrix0.0030.0000.004
symmetriseNN5.8390.1676.007
symmetryCheckNN5.5420.1505.693
tagRowAndColNames5.6610.1415.803
transposeObject10.149 0.23110.381