| Back to Build/check report for BioC 3.22: simplified long |
|
This page was generated on 2025-10-27 12:45 -0400 (Mon, 27 Oct 2025).
| Hostname | OS | Arch (*) | R version | Installed pkgs |
|---|---|---|---|---|
| kjohnson3 | macOS 13.7.7 Ventura | arm64 | 4.5.1 Patched (2025-09-10 r88807) -- "Great Square Root" | 4637 |
| Click on any hostname to see more info about the system (e.g. compilers) (*) as reported by 'uname -p', except on Windows and Mac OS X | ||||
|
To the developers/maintainers of the SingleCellExperiment package: - Allow up to 24 hours (and sometimes 48 hours) for your latest push to git@git.bioconductor.org:packages/SingleCellExperiment.git to reflect on this report. See Troubleshooting Build Report for more information. - Use the following Renviron settings to reproduce errors and warnings. - If 'R CMD check' started to fail recently on the Linux builder(s) over a missing dependency, add the missing dependency to 'Suggests:' in your DESCRIPTION file. See Renviron.bioc for more information. |
| Package 2031/2361 | Hostname | OS / Arch | INSTALL | BUILD | CHECK | BUILD BIN | ||||||||
| SingleCellExperiment 1.31.1 (landing page) Davide Risso
| kjohnson3 | macOS 13.7.7 Ventura / arm64 | OK | OK | OK | OK | ||||||||
| QUICK STATS | OS / Arch | INSTALL | BUILD | CHECK | BUILD BIN | |||||||||||||||||
| kjohnson3 | macOS 13.7.7 Ventura / arm64 |
|
|
|
| |||||||||||||||||
| Package 1/217 | Hostname | OS / Arch | INSTALL | BUILD | CHECK | BUILD BIN | ||||||||||||||||
| ADImpute 1.19.0 (landing page) Ana Carolina Leote
| kjohnson3 | macOS 13.7.7 Ventura / arm64 | OK | OK | WARNINGS | OK | ||||||||||||||||
| Package 2/217 | Hostname | OS / Arch | INSTALL | BUILD | CHECK | BUILD BIN | ||||||||||||||||
| aggregateBioVar 1.19.1 (landing page) Jason Ratcliff
| kjohnson3 | macOS 13.7.7 Ventura / arm64 | OK | OK | OK | OK | ||||||||||||||||
| Package 3/217 | Hostname | OS / Arch | INSTALL | BUILD | CHECK | BUILD BIN | ||||||||||||||||
| airpart 1.17.0 (landing page) Wancen Mu
| kjohnson3 | macOS 13.7.7 Ventura / arm64 | OK | OK | OK | OK | ||||||||||||||||
| Package 4/217 | Hostname | OS / Arch | INSTALL | BUILD | CHECK | BUILD BIN | ||||||||||||||||
| alabaster.sce 1.9.0 (landing page) Aaron Lun
| kjohnson3 | macOS 13.7.7 Ventura / arm64 | OK | OK | OK | OK | ||||||||||||||||
| Package 5/217 | Hostname | OS / Arch | INSTALL | BUILD | CHECK | BUILD BIN | ||||||||||||||||
| alabaster.sfe 1.1.0 (landing page) Lambda Moses
| kjohnson3 | macOS 13.7.7 Ventura / arm64 | OK | OK | ERROR | OK | ||||||||||||||||
| Package 6/217 | Hostname | OS / Arch | INSTALL | BUILD | CHECK | BUILD BIN | ||||||||||||||||
| anansi 0.99.4 (landing page) Thomaz Bastiaanssen
| kjohnson3 | macOS 13.7.7 Ventura / arm64 | OK | OK | OK | OK | ||||||||||||||||
| Package 7/217 | Hostname | OS / Arch | INSTALL | BUILD | CHECK | BUILD BIN | ||||||||||||||||
| anglemania 0.99.7 (landing page) Aaron Kollotzek
| kjohnson3 | macOS 13.7.7 Ventura / arm64 | OK | OK | OK | OK | ||||||||||||||||
| Package 8/217 | Hostname | OS / Arch | INSTALL | BUILD | CHECK | BUILD BIN | ||||||||||||||||
| APL 1.13.0 (landing page) Clemens Kohl
| kjohnson3 | macOS 13.7.7 Ventura / arm64 | OK | OK | OK | OK | ||||||||||||||||
| Package 9/217 | Hostname | OS / Arch | INSTALL | BUILD | CHECK | BUILD BIN | ||||||||||||||||
| ASURAT 1.13.1 (landing page) Keita Iida
| kjohnson3 | macOS 13.7.7 Ventura / arm64 | OK | ERROR | skipped | skipped | ||||||||||||||||
| Package 10/217 | Hostname | OS / Arch | INSTALL | BUILD | CHECK | BUILD BIN | ||||||||||||||||
| Banksy 1.5.10 (landing page) Joseph Lee
| kjohnson3 | macOS 13.7.7 Ventura / arm64 | OK | ERROR | skipped | skipped | ||||||||||||||||
| Package 11/217 | Hostname | OS / Arch | INSTALL | BUILD | CHECK | BUILD BIN | ||||||||||||||||
| BASiCS 2.21.1 (landing page) Catalina Vallejos
| kjohnson3 | macOS 13.7.7 Ventura / arm64 | OK | OK | WARNINGS | OK | ||||||||||||||||
| Package 12/217 | Hostname | OS / Arch | INSTALL | BUILD | CHECK | BUILD BIN | ||||||||||||||||
| BASiCStan 1.11.0 (landing page) Alan O'Callaghan
| kjohnson3 | macOS 13.7.7 Ventura / arm64 | OK | OK | OK | OK | ||||||||||||||||
| Package 13/217 | Hostname | OS / Arch | INSTALL | BUILD | CHECK | BUILD BIN | ||||||||||||||||
| batchelor 1.25.0 (landing page) Aaron Lun
| kjohnson3 | macOS 13.7.7 Ventura / arm64 | OK | OK | OK | OK | ||||||||||||||||
| Package 14/217 | Hostname | OS / Arch | INSTALL | BUILD | CHECK | BUILD BIN | ||||||||||||||||
| BayesSpace 1.19.5 (landing page) Senbai Kang
| kjohnson3 | macOS 13.7.7 Ventura / arm64 | OK | OK | OK | OK | ||||||||||||||||
| Package 15/217 | Hostname | OS / Arch | INSTALL | BUILD | CHECK | BUILD BIN | ||||||||||||||||
| bayNorm 1.27.0 (landing page) Wenhao Tang
| kjohnson3 | macOS 13.7.7 Ventura / arm64 | OK | OK | OK | OK | ||||||||||||||||
| Package 16/217 | Hostname | OS / Arch | INSTALL | BUILD | CHECK | BUILD BIN | ||||||||||||||||
| blase 0.99.5 (landing page) Andrew McCluskey
| kjohnson3 | macOS 13.7.7 Ventura / arm64 | OK | OK | OK | OK | ||||||||||||||||
| Package 17/217 | Hostname | OS / Arch | INSTALL | BUILD | CHECK | BUILD BIN | ||||||||||||||||
| BUSseq 1.15.1 (landing page) Fangda Song
| kjohnson3 | macOS 13.7.7 Ventura / arm64 | OK | OK | OK | OK | ||||||||||||||||
| Package 18/217 | Hostname | OS / Arch | INSTALL | BUILD | CHECK | BUILD BIN | ||||||||||||||||
| CARDspa 1.1.0 (landing page) Jing Fu
| kjohnson3 | macOS 13.7.7 Ventura / arm64 | OK | OK | OK | OK | ||||||||||||||||
| Package 19/217 | Hostname | OS / Arch | INSTALL | BUILD | CHECK | BUILD BIN | ||||||||||||||||
| CATALYST 1.33.1 (landing page) Helena L. Crowell
| kjohnson3 | macOS 13.7.7 Ventura / arm64 | OK | OK | OK | OK | ||||||||||||||||
| Package 20/217 | Hostname | OS / Arch | INSTALL | BUILD | CHECK | BUILD BIN | ||||||||||||||||
| CatsCradle 1.3.3 (landing page) Michael Shapiro
| kjohnson3 | macOS 13.7.7 Ventura / arm64 | OK | OK | OK | OK | ||||||||||||||||
| Package 21/217 | Hostname | OS / Arch | INSTALL | BUILD | CHECK | BUILD BIN | ||||||||||||||||
| ccfindR 1.29.0 (landing page) Jun Woo
| kjohnson3 | macOS 13.7.7 Ventura / arm64 | ERROR | ERROR | skipped | skipped | ||||||||||||||||
| Package 22/217 | Hostname | OS / Arch | INSTALL | BUILD | CHECK | BUILD BIN | ||||||||||||||||
| ccImpute 1.11.0 (landing page) Marcin Malec
| kjohnson3 | macOS 13.7.7 Ventura / arm64 | OK | OK | OK | OK | ||||||||||||||||
| Package 23/217 | Hostname | OS / Arch | INSTALL | BUILD | CHECK | BUILD BIN | ||||||||||||||||
| CDI 1.7.0 (landing page) Jiyuan Fang
| kjohnson3 | macOS 13.7.7 Ventura / arm64 | OK | OK | OK | OK | ||||||||||||||||
| Package 24/217 | Hostname | OS / Arch | INSTALL | BUILD | CHECK | BUILD BIN | ||||||||||||||||
| celda 1.25.0 (landing page) Joshua Campbell
| kjohnson3 | macOS 13.7.7 Ventura / arm64 | OK | ERROR | skipped | skipped | ||||||||||||||||
| Package 25/217 | Hostname | OS / Arch | INSTALL | BUILD | CHECK | BUILD BIN | ||||||||||||||||
| CellBench 1.25.1 (landing page) Shian Su
| kjohnson3 | macOS 13.7.7 Ventura / arm64 | OK | OK | OK | OK | ||||||||||||||||
| Package 26/217 | Hostname | OS / Arch | INSTALL | BUILD | CHECK | BUILD BIN | ||||||||||||||||
| CelliD 1.17.0 (landing page) Akira Cortal
| kjohnson3 | macOS 13.7.7 Ventura / arm64 | OK | ERROR | skipped | skipped | ||||||||||||||||
| Package 27/217 | Hostname | OS / Arch | INSTALL | BUILD | CHECK | BUILD BIN | ||||||||||||||||
| CellMixS 1.25.1 (landing page) Almut Lütge
| kjohnson3 | macOS 13.7.7 Ventura / arm64 | OK | OK | OK | OK | ||||||||||||||||
| Package 28/217 | Hostname | OS / Arch | INSTALL | BUILD | CHECK | BUILD BIN | ||||||||||||||||
| CellTrails 1.27.1 (landing page) Daniel Ellwanger
| kjohnson3 | macOS 13.7.7 Ventura / arm64 | OK | OK | OK | OK | ||||||||||||||||
| Package 29/217 | Hostname | OS / Arch | INSTALL | BUILD | CHECK | BUILD BIN | ||||||||||||||||
| Cepo 1.15.1 (landing page) Hani Jieun Kim
| kjohnson3 | macOS 13.7.7 Ventura / arm64 | OK | OK | OK | OK | ||||||||||||||||
| Package 30/217 | Hostname | OS / Arch | INSTALL | BUILD | CHECK | BUILD BIN | ||||||||||||||||
| CHETAH 1.25.1 (landing page) Jurrian de Kanter
| kjohnson3 | macOS 13.7.7 Ventura / arm64 | OK | OK | OK | OK | ||||||||||||||||
| Package 31/217 | Hostname | OS / Arch | INSTALL | BUILD | CHECK | BUILD BIN | ||||||||||||||||
| chevreulPlot 1.1.2 (landing page) Kevin Stachelek
| kjohnson3 | macOS 13.7.7 Ventura / arm64 | OK | OK | OK | OK | ||||||||||||||||
| Package 32/217 | Hostname | OS / Arch | INSTALL | BUILD | CHECK | BUILD BIN | ||||||||||||||||
| chevreulProcess 1.1.2 (landing page) Kevin Stachelek
| kjohnson3 | macOS 13.7.7 Ventura / arm64 | OK | OK | OK | OK | ||||||||||||||||
| Package 33/217 | Hostname | OS / Arch | INSTALL | BUILD | CHECK | BUILD BIN | ||||||||||||||||
| chevreulShiny 1.1.2 (landing page) Kevin Stachelek
| kjohnson3 | macOS 13.7.7 Ventura / arm64 | OK | OK | OK | OK | ||||||||||||||||
| Package 34/217 | Hostname | OS / Arch | INSTALL | BUILD | CHECK | BUILD BIN | ||||||||||||||||
| ChromSCape 1.19.1 (landing page) Pacome Prompsy
| kjohnson3 | macOS 13.7.7 Ventura / arm64 | OK | OK | WARNINGS | OK | ||||||||||||||||
| Package 35/217 | Hostname | OS / Arch | INSTALL | BUILD | CHECK | BUILD BIN | ||||||||||||||||
| CiteFuse 1.21.1 (landing page) Yingxin Lin
| kjohnson3 | macOS 13.7.7 Ventura / arm64 | OK | OK | OK | OK | ||||||||||||||||
| Package 36/217 | Hostname | OS / Arch | INSTALL | BUILD | CHECK | BUILD BIN | ||||||||||||||||
| clusterExperiment 2.29.1 (landing page) Elizabeth Purdom
| kjohnson3 | macOS 13.7.7 Ventura / arm64 | OK | OK | WARNINGS | OK | ||||||||||||||||
| Package 37/217 | Hostname | OS / Arch | INSTALL | BUILD | CHECK | BUILD BIN | ||||||||||||||||
| ClusterFoldSimilarity 1.5.0 (landing page) Oscar Gonzalez-Velasco
| kjohnson3 | macOS 13.7.7 Ventura / arm64 | OK | OK | WARNINGS | OK | ||||||||||||||||
| Package 38/217 | Hostname | OS / Arch | INSTALL | BUILD | CHECK | BUILD BIN | ||||||||||||||||
| clustifyr 1.21.0 (landing page) Rui Fu
| kjohnson3 | macOS 13.7.7 Ventura / arm64 | OK | OK | OK | OK | ||||||||||||||||
| Package 39/217 | Hostname | OS / Arch | INSTALL | BUILD | CHECK | BUILD BIN | ||||||||||||||||
| clustSIGNAL 1.1.1 (landing page) Pratibha Panwar
| kjohnson3 | macOS 13.7.7 Ventura / arm64 | OK | OK | OK | OK | ||||||||||||||||
| Package 40/217 | Hostname | OS / Arch | INSTALL | BUILD | CHECK | BUILD BIN | ||||||||||||||||
| CoGAPS 3.29.1 (landing page) Elana J. Fertig
| kjohnson3 | macOS 13.7.7 Ventura / arm64 | OK | OK | OK | OK | ||||||||||||||||
| Package 41/217 | Hostname | OS / Arch | INSTALL | BUILD | CHECK | BUILD BIN | ||||||||||||||||
| concordexR 1.9.1 (landing page) Kayla Jackson
| kjohnson3 | macOS 13.7.7 Ventura / arm64 | OK | ERROR | skipped | skipped | ||||||||||||||||
| Package 42/217 | Hostname | OS / Arch | INSTALL | BUILD | CHECK | BUILD BIN | ||||||||||||||||
| condiments 1.17.0 (landing page) Hector Roux de Bezieux
| kjohnson3 | macOS 13.7.7 Ventura / arm64 | OK | OK | OK | OK | ||||||||||||||||
| Package 43/217 | Hostname | OS / Arch | INSTALL | BUILD | CHECK | BUILD BIN | ||||||||||||||||
| Coralysis 0.99.10 (landing page) António Sousa
| kjohnson3 | macOS 13.7.7 Ventura / arm64 | OK | ERROR | skipped | skipped | ||||||||||||||||
| Package 44/217 | Hostname | OS / Arch | INSTALL | BUILD | CHECK | BUILD BIN | ||||||||||||||||
| corral 1.19.0 (landing page) Lauren Hsu
| kjohnson3 | macOS 13.7.7 Ventura / arm64 | OK | ERROR | skipped | skipped | ||||||||||||||||
| Package 45/217 | Hostname | OS / Arch | INSTALL | BUILD | CHECK | BUILD BIN | ||||||||||||||||
| COTAN 2.9.7 (landing page) Galfrè Silvia Giulia
| kjohnson3 | macOS 13.7.7 Ventura / arm64 | OK | ERROR | skipped | skipped | ||||||||||||||||
| Package 46/217 | Hostname | OS / Arch | INSTALL | BUILD | CHECK | BUILD BIN | ||||||||||||||||
| crumblr 1.1.0 (landing page) Gabriel Hoffman
| kjohnson3 | macOS 13.7.7 Ventura / arm64 | OK | ERROR | skipped | skipped | ||||||||||||||||
| Package 47/217 | Hostname | OS / Arch | INSTALL | BUILD | CHECK | BUILD BIN | ||||||||||||||||
| CTexploreR 1.5.2 (landing page) Axelle Loriot
| kjohnson3 | macOS 13.7.7 Ventura / arm64 | OK | ERROR | skipped | skipped | ||||||||||||||||
| Package 48/217 | Hostname | OS / Arch | INSTALL | BUILD | CHECK | BUILD BIN | ||||||||||||||||
| CuratedAtlasQueryR 1.7.0 (landing page) Stefano Mangiola
| kjohnson3 | macOS 13.7.7 Ventura / arm64 | OK | OK | OK | OK | ||||||||||||||||
| Package 49/217 | Hostname | OS / Arch | INSTALL | BUILD | CHECK | BUILD BIN | ||||||||||||||||
| cydar 1.33.0 (landing page) Aaron Lun
| kjohnson3 | macOS 13.7.7 Ventura / arm64 | OK | OK | OK | OK | ||||||||||||||||
| Package 50/217 | Hostname | OS / Arch | INSTALL | BUILD | CHECK | BUILD BIN | ||||||||||||||||
| cytofQC 1.9.0 (landing page) Jill Lundell
| kjohnson3 | macOS 13.7.7 Ventura / arm64 | ERROR | ERROR | skipped | skipped | ||||||||||||||||
| Package 51/217 | Hostname | OS / Arch | INSTALL | BUILD | CHECK | BUILD BIN | ||||||||||||||||
| cytomapper 1.21.1 (landing page) Lasse Meyer
| kjohnson3 | macOS 13.7.7 Ventura / arm64 | OK | OK | OK | OK | ||||||||||||||||
| Package 52/217 | Hostname | OS / Arch | INSTALL | BUILD | CHECK | BUILD BIN | ||||||||||||||||
| cytoviewer 1.9.0 (landing page) Lasse Meyer
| kjohnson3 | macOS 13.7.7 Ventura / arm64 | OK | OK | OK | OK | ||||||||||||||||
| Package 53/217 | Hostname | OS / Arch | INSTALL | BUILD | CHECK | BUILD BIN | ||||||||||||||||
| dandelionR 1.1.5 (landing page) Kelvin Tuong
| kjohnson3 | macOS 13.7.7 Ventura / arm64 | OK | OK | OK | OK | ||||||||||||||||
| Package 54/217 | Hostname | OS / Arch | INSTALL | BUILD | CHECK | BUILD BIN | ||||||||||||||||
| decontX 1.7.0 (landing page) Joshua Campbell
| kjohnson3 | macOS 13.7.7 Ventura / arm64 | OK | ERROR | skipped | skipped | ||||||||||||||||
| Package 55/217 | Hostname | OS / Arch | INSTALL | BUILD | CHECK | BUILD BIN | ||||||||||||||||
| DeconvoBuddies 1.1.5 (landing page) Louise Huuki-Myers
| kjohnson3 | macOS 13.7.7 Ventura / arm64 | OK | ERROR | skipped | skipped | ||||||||||||||||
| Package 56/217 | Hostname | OS / Arch | INSTALL | BUILD | CHECK | BUILD BIN | ||||||||||||||||
| DeeDeeExperiment 0.99.5 (landing page) Najla Abassi
| kjohnson3 | macOS 13.7.7 Ventura / arm64 | OK | OK | OK | OK | ||||||||||||||||
| Package 57/217 | Hostname | OS / Arch | INSTALL | BUILD | CHECK | BUILD BIN | ||||||||||||||||
| demuxSNP 1.7.1 (landing page) Michael Lynch
| kjohnson3 | macOS 13.7.7 Ventura / arm64 | OK | OK | OK | OK | ||||||||||||||||
| Package 58/217 | Hostname | OS / Arch | INSTALL | BUILD | CHECK | BUILD BIN | ||||||||||||||||
| destiny 3.23.0 (landing page) Philipp Angerer
| kjohnson3 | macOS 13.7.7 Ventura / arm64 | OK | OK | ERROR | OK | ||||||||||||||||
| Package 59/217 | Hostname | OS / Arch | INSTALL | BUILD | CHECK | BUILD BIN | ||||||||||||||||
| DifferentialRegulation 2.7.0 (landing page) Simone Tiberi
| kjohnson3 | macOS 13.7.7 Ventura / arm64 | OK | OK | OK | OK | ||||||||||||||||
| Package 60/217 | Hostname | OS / Arch | INSTALL | BUILD | CHECK | BUILD BIN | ||||||||||||||||
| Dino 1.15.0 (landing page) Jared Brown
| kjohnson3 | macOS 13.7.7 Ventura / arm64 | OK | OK | OK | OK | ||||||||||||||||
| Package 61/217 | Hostname | OS / Arch | INSTALL | BUILD | CHECK | BUILD BIN | ||||||||||||||||
| distinct 1.21.1 (landing page) Simone Tiberi
| kjohnson3 | macOS 13.7.7 Ventura / arm64 | OK | OK | OK | OK | ||||||||||||||||
| Package 62/217 | Hostname | OS / Arch | INSTALL | BUILD | CHECK | BUILD BIN | ||||||||||||||||
| dittoSeq 1.21.1 (landing page) Daniel Bunis
| kjohnson3 | macOS 13.7.7 Ventura / arm64 | OK | OK | OK | OK | ||||||||||||||||
| Package 63/217 | Hostname | OS / Arch | INSTALL | BUILD | CHECK | BUILD BIN | ||||||||||||||||
| DOtools 0.99.11 (landing page) Mariano Ruz Jurado
| kjohnson3 | macOS 13.7.7 Ventura / arm64 | OK | ERROR | skipped | skipped | ||||||||||||||||
| Package 64/217 | Hostname | OS / Arch | INSTALL | BUILD | CHECK | BUILD BIN | ||||||||||||||||
| dreamlet 1.7.1 (landing page) Gabriel Hoffman
| kjohnson3 | macOS 13.7.7 Ventura / arm64 | OK | ERROR | skipped | skipped | ||||||||||||||||
| Package 65/217 | Hostname | OS / Arch | INSTALL | BUILD | CHECK | BUILD BIN | ||||||||||||||||
| DropletUtils 1.29.7 (landing page) Jonathan Griffiths
| kjohnson3 | macOS 13.7.7 Ventura / arm64 | OK | OK | WARNINGS | OK | ||||||||||||||||
| Package 66/217 | Hostname | OS / Arch | INSTALL | BUILD | CHECK | BUILD BIN | ||||||||||||||||
| epiregulon 1.99.7 (landing page) Xiaosai Yao
| kjohnson3 | macOS 13.7.7 Ventura / arm64 | OK | ERROR | skipped | skipped | ||||||||||||||||
| Package 67/217 | Hostname | OS / Arch | INSTALL | BUILD | CHECK | BUILD BIN | ||||||||||||||||
| epiregulon.extra 1.5.1 (landing page) Xiaosai Yao
| kjohnson3 | macOS 13.7.7 Ventura / arm64 | OK | ERROR | skipped | skipped | ||||||||||||||||
| Package 68/217 | Hostname | OS / Arch | INSTALL | BUILD | CHECK | BUILD BIN | ||||||||||||||||
| escheR 1.9.0 (landing page) Boyi Guo
| kjohnson3 | macOS 13.7.7 Ventura / arm64 | OK | ERROR | skipped | skipped | ||||||||||||||||
| Package 69/217 | Hostname | OS / Arch | INSTALL | BUILD | CHECK | BUILD BIN | ||||||||||||||||
| EWCE 1.17.1 (landing page) Hiranyamaya Dash
| kjohnson3 | macOS 13.7.7 Ventura / arm64 | OK | ERROR | skipped | skipped | ||||||||||||||||
| Package 70/217 | Hostname | OS / Arch | INSTALL | BUILD | CHECK | BUILD BIN | ||||||||||||||||
| ExperimentSubset 1.19.0 (landing page) Irzam Sarfraz
| kjohnson3 | macOS 13.7.7 Ventura / arm64 | OK | OK | OK | OK | ||||||||||||||||
| Package 71/217 | Hostname | OS / Arch | INSTALL | BUILD | CHECK | BUILD BIN | ||||||||||||||||
| FEAST 1.17.0 (landing page) Kenong Su
| kjohnson3 | macOS 13.7.7 Ventura / arm64 | OK | OK | OK | OK | ||||||||||||||||
| Package 72/217 | Hostname | OS / Arch | INSTALL | BUILD | CHECK | BUILD BIN | ||||||||||||||||
| fishpond 2.15.0 (landing page) Michael Love
| kjohnson3 | macOS 13.7.7 Ventura / arm64 | OK | OK | OK | OK | ||||||||||||||||
| Package 73/217 | Hostname | OS / Arch | INSTALL | BUILD | CHECK | BUILD BIN | ||||||||||||||||
| FLAMES 2.3.5 (landing page) Changqing Wang
| kjohnson3 | macOS 13.7.7 Ventura / arm64 | OK | OK | OK | OK | ||||||||||||||||
| Package 74/217 | Hostname | OS / Arch | INSTALL | BUILD | CHECK | BUILD BIN | ||||||||||||||||
| ggsc 1.7.1 (landing page) Guangchuang Yu
| kjohnson3 | macOS 13.7.7 Ventura / arm64 | OK | OK | OK | OK | ||||||||||||||||
| Package 75/217 | Hostname | OS / Arch | INSTALL | BUILD | CHECK | BUILD BIN | ||||||||||||||||
| ggspavis 1.15.9 (landing page) Lukas M. Weber
| kjohnson3 | macOS 13.7.7 Ventura / arm64 | OK | ERROR | skipped | skipped | ||||||||||||||||
| Package 76/217 | Hostname | OS / Arch | INSTALL | BUILD | CHECK | BUILD BIN | ||||||||||||||||
| glmGamPoi 1.21.0 (landing page) Constantin Ahlmann-Eltze
| kjohnson3 | macOS 13.7.7 Ventura / arm64 | OK | ERROR | skipped | skipped | ||||||||||||||||
| Package 77/217 | Hostname | OS / Arch | INSTALL | BUILD | CHECK | BUILD BIN | ||||||||||||||||
| GloScope 1.99.2 (landing page) William Torous
| kjohnson3 | macOS 13.7.7 Ventura / arm64 | OK | OK | OK | OK | ||||||||||||||||
| Package 78/217 | Hostname | OS / Arch | INSTALL | BUILD | CHECK | BUILD BIN | ||||||||||||||||
| GSVA 2.3.5 (landing page) Robert Castelo
| kjohnson3 | macOS 13.7.7 Ventura / arm64 | OK | OK | OK | OK | ||||||||||||||||
| Package 79/217 | Hostname | OS / Arch | INSTALL | BUILD | CHECK | BUILD BIN | ||||||||||||||||
| HIPPO 1.21.0 (landing page) Tae Kim
| kjohnson3 | macOS 13.7.7 Ventura / arm64 | OK | OK | OK | OK | ||||||||||||||||
| Package 80/217 | Hostname | OS / Arch | INSTALL | BUILD | CHECK | BUILD BIN | ||||||||||||||||
| Ibex 0.99.34 (landing page) Nick Borcherding
| kjohnson3 | macOS 13.7.7 Ventura / arm64 | OK | OK | OK | OK | ||||||||||||||||
| Package 81/217 | Hostname | OS / Arch | INSTALL | BUILD | CHECK | BUILD BIN | ||||||||||||||||
| ILoReg 1.19.0 (landing page) Johannes Smolander
| kjohnson3 | macOS 13.7.7 Ventura / arm64 | OK | OK | WARNINGS | OK | ||||||||||||||||
| Package 82/217 | Hostname | OS / Arch | INSTALL | BUILD | CHECK | BUILD BIN | ||||||||||||||||
| imcRtools 1.15.5 (landing page) Daniel Schulz
| kjohnson3 | macOS 13.7.7 Ventura / arm64 | OK | OK | OK | OK | ||||||||||||||||
| Package 83/217 | Hostname | OS / Arch | INSTALL | BUILD | CHECK | BUILD BIN | ||||||||||||||||
| immApex 1.3.8 (landing page) Nick Borcherding
| kjohnson3 | macOS 13.7.7 Ventura / arm64 | OK | OK | OK | OK | ||||||||||||||||
| Package 84/217 | Hostname | OS / Arch | INSTALL | BUILD | CHECK | BUILD BIN | ||||||||||||||||
| infercnv 1.25.0 (landing page) Christophe Georgescu
| kjohnson3 | macOS 13.7.7 Ventura / arm64 | OK | OK | OK | OK | ||||||||||||||||
| Package 85/217 | Hostname | OS / Arch | INSTALL | BUILD | CHECK | BUILD BIN | ||||||||||||||||
| iSEE 2.21.1 (landing page) Kevin Rue-Albrecht
| kjohnson3 | macOS 13.7.7 Ventura / arm64 | OK | ERROR | skipped | skipped | ||||||||||||||||
| Package 86/217 | Hostname | OS / Arch | INSTALL | BUILD | CHECK | BUILD BIN | ||||||||||||||||
| iSEEfier 1.5.0 (landing page) Najla Abassi
| kjohnson3 | macOS 13.7.7 Ventura / arm64 | OK | OK | OK | OK | ||||||||||||||||
| Package 87/217 | Hostname | OS / Arch | INSTALL | BUILD | CHECK | BUILD BIN | ||||||||||||||||
| iSEEhub 1.11.0 (landing page) Kevin Rue-Albrecht
| kjohnson3 | macOS 13.7.7 Ventura / arm64 | OK | ERROR | skipped | skipped | ||||||||||||||||
| Package 88/217 | Hostname | OS / Arch | INSTALL | BUILD | CHECK | BUILD BIN | ||||||||||||||||
| iSEEindex 1.7.0 (landing page) Kevin Rue-Albrecht
| kjohnson3 | macOS 13.7.7 Ventura / arm64 | OK | OK | OK | OK | ||||||||||||||||
| Package 89/217 | Hostname | OS / Arch | INSTALL | BUILD | CHECK | BUILD BIN | ||||||||||||||||
| iSEEtree 1.3.2 (landing page) Giulio Benedetti
| kjohnson3 | macOS 13.7.7 Ventura / arm64 | OK | OK | OK | OK | ||||||||||||||||
| Package 90/217 | Hostname | OS / Arch | INSTALL | BUILD | CHECK | BUILD BIN | ||||||||||||||||
| iSEEu 1.21.0 (landing page) Kevin Rue-Albrecht
| kjohnson3 | macOS 13.7.7 Ventura / arm64 | OK | OK | WARNINGS | OK | ||||||||||||||||
| Package 91/217 | Hostname | OS / Arch | INSTALL | BUILD | CHECK | BUILD BIN | ||||||||||||||||
| lemur 1.7.1 (landing page) Constantin Ahlmann-Eltze
| kjohnson3 | macOS 13.7.7 Ventura / arm64 | OK | OK | WARNINGS | OK | ||||||||||||||||
| Package 92/217 | Hostname | OS / Arch | INSTALL | BUILD | CHECK | BUILD BIN | ||||||||||||||||
| lisaClust 1.17.0 (landing page) Ellis Patrick
| kjohnson3 | macOS 13.7.7 Ventura / arm64 | OK | ERROR | skipped | skipped | ||||||||||||||||
| Package 93/217 | Hostname | OS / Arch | INSTALL | BUILD | CHECK | BUILD BIN | ||||||||||||||||
| looking4clusters 0.99.4 (landing page) David Barrios
| kjohnson3 | macOS 13.7.7 Ventura / arm64 | OK | OK | OK | OK | ||||||||||||||||
| Package 94/217 | Hostname | OS / Arch | INSTALL | BUILD | CHECK | BUILD BIN | ||||||||||||||||
| LoomExperiment 1.27.0 (landing page) Bioconductor Package Maintainer
| kjohnson3 | macOS 13.7.7 Ventura / arm64 | OK | OK | OK | OK | ||||||||||||||||
| Package 95/217 | Hostname | OS / Arch | INSTALL | BUILD | CHECK | BUILD BIN | ||||||||||||||||
Sean K Maden
| kjohnson3 | macOS 13.7.7 Ventura / arm64 | OK | OK | ERROR | OK | ||||||||||||||||
| Package 96/217 | Hostname | OS / Arch | INSTALL | BUILD | CHECK | BUILD BIN | ||||||||||||||||
| MAST 1.35.2 (landing page) Andrew McDavid
| kjohnson3 | macOS 13.7.7 Ventura / arm64 | OK | OK | OK | OK | ||||||||||||||||
| Package 97/217 | Hostname | OS / Arch | INSTALL | BUILD | CHECK | BUILD BIN | ||||||||||||||||
| mastR 1.9.1 (landing page) Jinjin Chen
| kjohnson3 | macOS 13.7.7 Ventura / arm64 | OK | OK | OK | OK | ||||||||||||||||
| Package 98/217 | Hostname | OS / Arch | INSTALL | BUILD | CHECK | BUILD BIN | ||||||||||||||||
| mbkmeans 1.25.0 (landing page) Davide Risso
| kjohnson3 | macOS 13.7.7 Ventura / arm64 | OK | ERROR | skipped | skipped | ||||||||||||||||
| Package 99/217 | Hostname | OS / Arch | INSTALL | BUILD | CHECK | BUILD BIN | ||||||||||||||||
| MEB 1.23.1 (landing page) Jiadi Zhu
| kjohnson3 | macOS 13.7.7 Ventura / arm64 | OK | OK | OK | OK | ||||||||||||||||
| Package 100/217 | Hostname | OS / Arch | INSTALL | BUILD | CHECK | BUILD BIN | ||||||||||||||||
| MetaNeighbor 1.29.0 (landing page) Stephan Fischer
| kjohnson3 | macOS 13.7.7 Ventura / arm64 | OK | OK | ERROR | OK | ||||||||||||||||
| Package 101/217 | Hostname | OS / Arch | INSTALL | BUILD | CHECK | BUILD BIN | ||||||||||||||||
| mia 1.17.11 (landing page) Tuomas Borman
| kjohnson3 | macOS 13.7.7 Ventura / arm64 | OK | OK | ERROR | OK | ||||||||||||||||
| Package 102/217 | Hostname | OS / Arch | INSTALL | BUILD | CHECK | BUILD BIN | ||||||||||||||||
| miaDash 1.1.5 (landing page) Giulio Benedetti
| kjohnson3 | macOS 13.7.7 Ventura / arm64 | OK | OK | OK | OK | ||||||||||||||||
| Package 103/217 | Hostname | OS / Arch | INSTALL | BUILD | CHECK | BUILD BIN | ||||||||||||||||
| miaTime 0.99.13 (landing page) Tuomas Borman
| kjohnson3 | macOS 13.7.7 Ventura / arm64 | OK | OK | OK | OK | ||||||||||||||||
| Package 104/217 | Hostname | OS / Arch | INSTALL | BUILD | CHECK | BUILD BIN | ||||||||||||||||
| miaViz 1.17.10 (landing page) Tuomas Borman
| kjohnson3 | macOS 13.7.7 Ventura / arm64 | OK | OK | OK | OK | ||||||||||||||||
| Package 105/217 | Hostname | OS / Arch | INSTALL | BUILD | CHECK | BUILD BIN | ||||||||||||||||
| miloR 2.5.2 (landing page) Mike Morgan
| kjohnson3 | macOS 13.7.7 Ventura / arm64 | OK | ERROR | skipped | skipped | ||||||||||||||||
| Package 106/217 | Hostname | OS / Arch | INSTALL | BUILD | CHECK | BUILD BIN | ||||||||||||||||
| miQC 1.17.0 (landing page) Ariel Hippen
| kjohnson3 | macOS 13.7.7 Ventura / arm64 | OK | ERROR | skipped | skipped | ||||||||||||||||
| Package 107/217 | Hostname | OS / Arch | INSTALL | BUILD | CHECK | BUILD BIN | ||||||||||||||||
| mist 1.1.0 (landing page) Daoyu Duan
| kjohnson3 | macOS 13.7.7 Ventura / arm64 | OK | OK | WARNINGS | OK | ||||||||||||||||
| Package 108/217 | Hostname | OS / Arch | INSTALL | BUILD | CHECK | BUILD BIN | ||||||||||||||||
| MPAC 1.3.1 (landing page) Peng Liu
| kjohnson3 | macOS 13.7.7 Ventura / arm64 | OK | OK | OK | OK | ||||||||||||||||
| Package 109/217 | Hostname | OS / Arch | INSTALL | BUILD | CHECK | BUILD BIN | ||||||||||||||||
| MuData 1.13.0 (landing page) Ilia Kats
| kjohnson3 | macOS 13.7.7 Ventura / arm64 | OK | OK | OK | OK | ||||||||||||||||
| Package 110/217 | Hostname | OS / Arch | INSTALL | BUILD | CHECK | BUILD BIN | ||||||||||||||||
| mumosa 1.17.0 (landing page) Aaron Lun
| kjohnson3 | macOS 13.7.7 Ventura / arm64 | OK | OK | OK | OK | ||||||||||||||||
| Package 111/217 | Hostname | OS / Arch | INSTALL | BUILD | CHECK | BUILD BIN | ||||||||||||||||
| muscat 1.23.2 (landing page) Helena L. Crowell
| kjohnson3 | macOS 13.7.7 Ventura / arm64 | OK | ERROR | skipped | skipped | ||||||||||||||||
| Package 112/217 | Hostname | OS / Arch | INSTALL | BUILD | CHECK | BUILD BIN | ||||||||||||||||
| Nebulosa 1.19.0 (landing page) Jose Alquicira-Hernandez
| kjohnson3 | macOS 13.7.7 Ventura / arm64 | OK | OK | OK | OK | ||||||||||||||||
| Package 113/217 | Hostname | OS / Arch | INSTALL | BUILD | CHECK | BUILD BIN | ||||||||||||||||
| netSmooth 1.29.0 (landing page) Jonathan Ronen
| kjohnson3 | macOS 13.7.7 Ventura / arm64 | OK | OK | OK | OK | ||||||||||||||||
| Package 114/217 | Hostname | OS / Arch | INSTALL | BUILD | CHECK | BUILD BIN | ||||||||||||||||
| NewWave 1.19.0 (landing page) Federico Agostinis
| kjohnson3 | macOS 13.7.7 Ventura / arm64 | OK | OK | OK | OK | ||||||||||||||||
| Package 115/217 | Hostname | OS / Arch | INSTALL | BUILD | CHECK | BUILD BIN | ||||||||||||||||
| nnSVG 1.13.1 (landing page) Lukas M. Weber
| kjohnson3 | macOS 13.7.7 Ventura / arm64 | OK | ERROR | skipped | skipped | ||||||||||||||||
| Package 116/217 | Hostname | OS / Arch | INSTALL | BUILD | CHECK | BUILD BIN | ||||||||||||||||
| omicsGMF 0.99.7 (landing page) Alexandre Segers
| kjohnson3 | macOS 13.7.7 Ventura / arm64 | OK | OK | OK | OK | ||||||||||||||||
| Package 117/217 | Hostname | OS / Arch | INSTALL | BUILD | CHECK | BUILD BIN | ||||||||||||||||
| partCNV 1.7.0 (landing page) Ziyi Li
| kjohnson3 | macOS 13.7.7 Ventura / arm64 | OK | ERROR | skipped | skipped | ||||||||||||||||
| Package 118/217 | Hostname | OS / Arch | INSTALL | BUILD | CHECK | BUILD BIN | ||||||||||||||||
| peco 1.21.1 (landing page) Chiaowen Joyce Hsiao
| kjohnson3 | macOS 13.7.7 Ventura / arm64 | OK | OK | OK | OK | ||||||||||||||||
| Package 119/217 | Hostname | OS / Arch | INSTALL | BUILD | CHECK | BUILD BIN | ||||||||||||||||
| pipeComp 1.19.0 (landing page) Pierre-Luc Germain
| kjohnson3 | macOS 13.7.7 Ventura / arm64 | OK | OK | OK | OK | ||||||||||||||||
| Package 120/217 | Hostname | OS / Arch | INSTALL | BUILD | CHECK | BUILD BIN | ||||||||||||||||
| POWSC 1.17.1 (landing page) Kenong Su
| kjohnson3 | macOS 13.7.7 Ventura / arm64 | OK | OK | OK | OK | ||||||||||||||||
| Package 121/217 | Hostname | OS / Arch | INSTALL | BUILD | CHECK | BUILD BIN | ||||||||||||||||
| projectR 1.25.0 (landing page) Genevieve Stein-O'Brien
| kjohnson3 | macOS 13.7.7 Ventura / arm64 | OK | OK | OK | OK | ||||||||||||||||
| Package 122/217 | Hostname | OS / Arch | INSTALL | BUILD | CHECK | BUILD BIN | ||||||||||||||||
| raer 1.7.2 (landing page) Kent Riemondy
| kjohnson3 | macOS 13.7.7 Ventura / arm64 | OK | ERROR | skipped | skipped | ||||||||||||||||
| Package 123/217 | Hostname | OS / Arch | INSTALL | BUILD | CHECK | BUILD BIN | ||||||||||||||||
| RCSL 1.17.0 (landing page) Qinglin Mei
| kjohnson3 | macOS 13.7.7 Ventura / arm64 | OK | OK | OK | OK | ||||||||||||||||
| Package 124/217 | Hostname | OS / Arch | INSTALL | BUILD | CHECK | BUILD BIN | ||||||||||||||||
| RegionalST 1.7.1 (landing page) Ziyi Li
| kjohnson3 | macOS 13.7.7 Ventura / arm64 | OK | OK | OK | OK | ||||||||||||||||
| Package 125/217 | Hostname | OS / Arch | INSTALL | BUILD | CHECK | BUILD BIN | ||||||||||||||||
| RUCova 1.1.0 (landing page) Rosario Astaburuaga-GarcÃa
| kjohnson3 | macOS 13.7.7 Ventura / arm64 | OK | OK | OK | OK | ||||||||||||||||
| Package 126/217 | Hostname | OS / Arch | INSTALL | BUILD | CHECK | BUILD BIN | ||||||||||||||||
| SanityR 0.99.3 (landing page) Teo Sakel
| kjohnson3 | macOS 13.7.7 Ventura / arm64 | OK | OK | OK | OK | ||||||||||||||||
| Package 127/217 | Hostname | OS / Arch | INSTALL | BUILD | CHECK | BUILD BIN | ||||||||||||||||
| SC3 1.37.0 (landing page) Vladimir Kiselev
| kjohnson3 | macOS 13.7.7 Ventura / arm64 | OK | OK | OK | OK | ||||||||||||||||
| Package 128/217 | Hostname | OS / Arch | INSTALL | BUILD | CHECK | BUILD BIN | ||||||||||||||||
| scafari 0.99.12 (landing page) Sophie Wind
| kjohnson3 | macOS 13.7.7 Ventura / arm64 | OK | ERROR | skipped | skipped | ||||||||||||||||
| Package 129/217 | Hostname | OS / Arch | INSTALL | BUILD | CHECK | BUILD BIN | ||||||||||||||||
| scAnnotatR 1.15.0 (landing page) Johannes Griss
| kjohnson3 | macOS 13.7.7 Ventura / arm64 | OK | ERROR | skipped | skipped | ||||||||||||||||
| Package 130/217 | Hostname | OS / Arch | INSTALL | BUILD | CHECK | BUILD BIN | ||||||||||||||||
| SCArray 1.17.0 (landing page) Xiuwen Zheng
| kjohnson3 | macOS 13.7.7 Ventura / arm64 | OK | OK | OK | OK | ||||||||||||||||
| Package 131/217 | Hostname | OS / Arch | INSTALL | BUILD | CHECK | BUILD BIN | ||||||||||||||||
| scater 1.37.0 (landing page) Alan O'Callaghan
| kjohnson3 | macOS 13.7.7 Ventura / arm64 | OK | OK | ERROR | OK | ||||||||||||||||
| Package 132/217 | Hostname | OS / Arch | INSTALL | BUILD | CHECK | BUILD BIN | ||||||||||||||||
| scBFA 1.23.0 (landing page) Ruoxin Li
| kjohnson3 | macOS 13.7.7 Ventura / arm64 | OK | OK | OK | OK | ||||||||||||||||
| Package 133/217 | Hostname | OS / Arch | INSTALL | BUILD | CHECK | BUILD BIN | ||||||||||||||||
| scCB2 1.19.0 (landing page) Zijian Ni
| kjohnson3 | macOS 13.7.7 Ventura / arm64 | OK | OK | OK | OK | ||||||||||||||||
| Package 134/217 | Hostname | OS / Arch | INSTALL | BUILD | CHECK | BUILD BIN | ||||||||||||||||
| sccomp 2.1.18 (landing page) Stefano Mangiola
| kjohnson3 | macOS 13.7.7 Ventura / arm64 | OK | OK | OK | OK | ||||||||||||||||
| Package 135/217 | Hostname | OS / Arch | INSTALL | BUILD | CHECK | BUILD BIN | ||||||||||||||||
| scDataviz 1.19.1 (landing page) Kevin Blighe
| kjohnson3 | macOS 13.7.7 Ventura / arm64 | OK | OK | OK | OK | ||||||||||||||||
| Package 136/217 | Hostname | OS / Arch | INSTALL | BUILD | CHECK | BUILD BIN | ||||||||||||||||
| scDblFinder 1.23.9 (landing page) Pierre-Luc Germain
| kjohnson3 | macOS 13.7.7 Ventura / arm64 | OK | ERROR | skipped | skipped | ||||||||||||||||
| Package 137/217 | Hostname | OS / Arch | INSTALL | BUILD | CHECK | BUILD BIN | ||||||||||||||||
| scDD 1.33.1 (landing page) Keegan Korthauer
| kjohnson3 | macOS 13.7.7 Ventura / arm64 | OK | OK | OK | OK | ||||||||||||||||
| Package 138/217 | Hostname | OS / Arch | INSTALL | BUILD | CHECK | BUILD BIN | ||||||||||||||||
| scDDboost 1.11.0 (landing page) Xiuyu Ma
| kjohnson3 | macOS 13.7.7 Ventura / arm64 | OK | OK | OK | OK | ||||||||||||||||
| Package 139/217 | Hostname | OS / Arch | INSTALL | BUILD | CHECK | BUILD BIN | ||||||||||||||||
| scDesign3 1.7.7 (landing page) Dongyuan Song
| kjohnson3 | macOS 13.7.7 Ventura / arm64 | OK | OK | OK | OK | ||||||||||||||||
| Package 140/217 | Hostname | OS / Arch | INSTALL | BUILD | CHECK | BUILD BIN | ||||||||||||||||
| scDiagnostics 1.3.0 (landing page) Anthony Christidis
| kjohnson3 | macOS 13.7.7 Ventura / arm64 | OK | OK | OK | OK | ||||||||||||||||
| Package 141/217 | Hostname | OS / Arch | INSTALL | BUILD | CHECK | BUILD BIN | ||||||||||||||||
| scDotPlot 1.3.1 (landing page) Benjamin I Laufer
| kjohnson3 | macOS 13.7.7 Ventura / arm64 | OK | OK | OK | OK | ||||||||||||||||
| Package 142/217 | Hostname | OS / Arch | INSTALL | BUILD | CHECK | BUILD BIN | ||||||||||||||||
| scds 1.25.1 (landing page) Dennis Kostka
| kjohnson3 | macOS 13.7.7 Ventura / arm64 | OK | OK | OK | OK | ||||||||||||||||
| Package 143/217 | Hostname | OS / Arch | INSTALL | BUILD | CHECK | BUILD BIN | ||||||||||||||||
| scGPS 1.23.0 (landing page) Quan Nguyen
| kjohnson3 | macOS 13.7.7 Ventura / arm64 | OK | OK | OK | OK | ||||||||||||||||
| Package 144/217 | Hostname | OS / Arch | INSTALL | BUILD | CHECK | BUILD BIN | ||||||||||||||||
| scGraphVerse 0.99.21 (landing page) Francesco Cecere
| kjohnson3 | macOS 13.7.7 Ventura / arm64 | OK | ERROR | skipped | skipped | ||||||||||||||||
| Package 145/217 | Hostname | OS / Arch | INSTALL | BUILD | CHECK | BUILD BIN | ||||||||||||||||
| schex 1.23.0 (landing page) Saskia Freytag
| kjohnson3 | macOS 13.7.7 Ventura / arm64 | OK | ERROR | skipped | skipped | ||||||||||||||||
| Package 146/217 | Hostname | OS / Arch | INSTALL | BUILD | CHECK | BUILD BIN | ||||||||||||||||
| scHOT 1.21.0 (landing page) Shila Ghazanfar
| kjohnson3 | macOS 13.7.7 Ventura / arm64 | OK | OK | OK | OK | ||||||||||||||||
| Package 147/217 | Hostname | OS / Arch | INSTALL | BUILD | CHECK | BUILD BIN | ||||||||||||||||
| scider 1.7.3 (landing page) Yunshun Chen
| kjohnson3 | macOS 13.7.7 Ventura / arm64 | OK | OK | OK | OK | ||||||||||||||||
| Package 148/217 | Hostname | OS / Arch | INSTALL | BUILD | CHECK | BUILD BIN | ||||||||||||||||
| scmap 1.31.0 (landing page) Vladimir Kiselev
| kjohnson3 | macOS 13.7.7 Ventura / arm64 | OK | OK | OK | OK | ||||||||||||||||
| Package 149/217 | Hostname | OS / Arch | INSTALL | BUILD | CHECK | BUILD BIN | ||||||||||||||||
| scMerge 1.25.1 (landing page) Yingxin Lin
| kjohnson3 | macOS 13.7.7 Ventura / arm64 | OK | OK | OK | OK | ||||||||||||||||
| Package 150/217 | Hostname | OS / Arch | INSTALL | BUILD | CHECK | BUILD BIN | ||||||||||||||||
| scMET 1.11.0 (landing page) Andreas C. Kapourani
| kjohnson3 | macOS 13.7.7 Ventura / arm64 | OK | OK | OK | OK | ||||||||||||||||
| Package 151/217 | Hostname | OS / Arch | INSTALL | BUILD | CHECK | BUILD BIN | ||||||||||||||||
| SCnorm 1.31.1 (landing page) Rhonda Bacher
| kjohnson3 | macOS 13.7.7 Ventura / arm64 | OK | OK | OK | OK | ||||||||||||||||
| Package 152/217 | Hostname | OS / Arch | INSTALL | BUILD | CHECK | BUILD BIN | ||||||||||||||||
| scone 1.33.0 (landing page) Davide Risso
| kjohnson3 | macOS 13.7.7 Ventura / arm64 | OK | ERROR | skipped | skipped | ||||||||||||||||
| Package 153/217 | Hostname | OS / Arch | INSTALL | BUILD | CHECK | BUILD BIN | ||||||||||||||||
| scp 1.19.5 (landing page) Christophe Vanderaa
| kjohnson3 | macOS 13.7.7 Ventura / arm64 | OK | ERROR | skipped | skipped | ||||||||||||||||
| Package 154/217 | Hostname | OS / Arch | INSTALL | BUILD | CHECK | BUILD BIN | ||||||||||||||||
| scPipe 2.9.0 (landing page) Shian Su
| kjohnson3 | macOS 13.7.7 Ventura / arm64 | OK | OK | OK | OK | ||||||||||||||||
| Package 155/217 | Hostname | OS / Arch | INSTALL | BUILD | CHECK | BUILD BIN | ||||||||||||||||
| scQTLtools 1.1.7 (landing page) Xiaofeng Wu
| kjohnson3 | macOS 13.7.7 Ventura / arm64 | OK | ERROR | skipped | skipped | ||||||||||||||||
| Package 156/217 | Hostname | OS / Arch | INSTALL | BUILD | CHECK | BUILD BIN | ||||||||||||||||
| scran 1.37.0 (landing page) Aaron Lun
| kjohnson3 | macOS 13.7.7 Ventura / arm64 | OK | OK | WARNINGS | OK | ||||||||||||||||
| Package 157/217 | Hostname | OS / Arch | INSTALL | BUILD | CHECK | BUILD BIN | ||||||||||||||||
| scReClassify 1.15.1 (landing page) Taiyun Kim
| kjohnson3 | macOS 13.7.7 Ventura / arm64 | OK | OK | OK | OK | ||||||||||||||||
| Package 158/217 | Hostname | OS / Arch | INSTALL | BUILD | CHECK | BUILD BIN | ||||||||||||||||
| scRepertoire 2.5.8 (landing page) Nick Borcherding
| kjohnson3 | macOS 13.7.7 Ventura / arm64 | OK | ERROR | skipped | skipped | ||||||||||||||||
| Package 159/217 | Hostname | OS / Arch | INSTALL | BUILD | CHECK | BUILD BIN | ||||||||||||||||
| scRNAseqApp 1.9.26 (landing page) Jianhong Ou
| kjohnson3 | macOS 13.7.7 Ventura / arm64 | OK | ERROR | skipped | skipped | ||||||||||||||||
| Package 160/217 | Hostname | OS / Arch | INSTALL | BUILD | CHECK | BUILD BIN | ||||||||||||||||
| scruff 1.27.1 (landing page) Zhe Wang
| kjohnson3 | macOS 13.7.7 Ventura / arm64 | OK | OK | OK | OK | ||||||||||||||||
| Package 161/217 | Hostname | OS / Arch | INSTALL | BUILD | CHECK | BUILD BIN | ||||||||||||||||
| scry 1.21.0 (landing page) Kelly Street
| kjohnson3 | macOS 13.7.7 Ventura / arm64 | OK | ERROR | skipped | skipped | ||||||||||||||||
| Package 162/217 | Hostname | OS / Arch | INSTALL | BUILD | CHECK | BUILD BIN | ||||||||||||||||
| scTensor 2.19.2 (landing page) Koki Tsuyuzaki
| kjohnson3 | macOS 13.7.7 Ventura / arm64 | OK | ERROR | skipped | skipped | ||||||||||||||||
| Package 163/217 | Hostname | OS / Arch | INSTALL | BUILD | CHECK | BUILD BIN | ||||||||||||||||
| scTGIF 1.23.0 (landing page) Koki Tsuyuzaki
| kjohnson3 | macOS 13.7.7 Ventura / arm64 | OK | OK | OK | OK | ||||||||||||||||
| Package 164/217 | Hostname | OS / Arch | INSTALL | BUILD | CHECK | BUILD BIN | ||||||||||||||||
| scTreeViz 1.15.0 (landing page) Jayaram Kancherla
| kjohnson3 | macOS 13.7.7 Ventura / arm64 | OK | OK | OK | OK | ||||||||||||||||
| Package 165/217 | Hostname | OS / Arch | INSTALL | BUILD | CHECK | BUILD BIN | ||||||||||||||||
| scuttle 1.19.0 (landing page) Aaron Lun
| kjohnson3 | macOS 13.7.7 Ventura / arm64 | OK | ERROR | skipped | skipped | ||||||||||||||||
| Package 166/217 | Hostname | OS / Arch | INSTALL | BUILD | CHECK | BUILD BIN | ||||||||||||||||
| scviR 1.9.14 (landing page) Vincent Carey
| kjohnson3 | macOS 13.7.7 Ventura / arm64 | OK | ERROR | skipped | skipped | ||||||||||||||||
| Package 167/217 | Hostname | OS / Arch | INSTALL | BUILD | CHECK | BUILD BIN | ||||||||||||||||
| SETA 0.99.7 (landing page) Kyle Kimler
| kjohnson3 | macOS 13.7.7 Ventura / arm64 | OK | ERROR | skipped | skipped | ||||||||||||||||
| Package 168/217 | Hostname | OS / Arch | INSTALL | BUILD | CHECK | BUILD BIN | ||||||||||||||||
| shinyDSP 1.1.2 (landing page) Seung J. Kim
| kjohnson3 | macOS 13.7.7 Ventura / arm64 | OK | ERROR | skipped | skipped | ||||||||||||||||
| Package 169/217 | Hostname | OS / Arch | INSTALL | BUILD | CHECK | BUILD BIN | ||||||||||||||||
| simPIC 1.5.3 (landing page) Sagrika Chugh
| kjohnson3 | macOS 13.7.7 Ventura / arm64 | OK | OK | OK | OK | ||||||||||||||||
| Package 170/217 | Hostname | OS / Arch | INSTALL | BUILD | CHECK | BUILD BIN | ||||||||||||||||
| SingleCellAlleleExperiment 1.5.1 (landing page) Jonas Schuck
| kjohnson3 | macOS 13.7.7 Ventura / arm64 | OK | ERROR | skipped | skipped | ||||||||||||||||
| Package 171/217 | Hostname | OS / Arch | INSTALL | BUILD | CHECK | BUILD BIN | ||||||||||||||||
| singleCellTK 2.19.2 (landing page) Joshua David Campbell
| kjohnson3 | macOS 13.7.7 Ventura / arm64 | OK | OK | OK | OK | ||||||||||||||||
| Package 172/217 | Hostname | OS / Arch | INSTALL | BUILD | CHECK | BUILD BIN | ||||||||||||||||
| SiPSiC 1.9.0 (landing page) Daniel Davis
| kjohnson3 | macOS 13.7.7 Ventura / arm64 | OK | OK | OK | OK | ||||||||||||||||
| Package 173/217 | Hostname | OS / Arch | INSTALL | BUILD | CHECK | BUILD BIN | ||||||||||||||||
| slalom 1.31.1 (landing page) Davis McCarthy
| kjohnson3 | macOS 13.7.7 Ventura / arm64 | ERROR | ERROR | skipped | skipped | ||||||||||||||||
| Package 174/217 | Hostname | OS / Arch | INSTALL | BUILD | CHECK | BUILD BIN | ||||||||||||||||
| slingshot 2.17.0 (landing page) Kelly Street
| kjohnson3 | macOS 13.7.7 Ventura / arm64 | OK | OK | OK | OK | ||||||||||||||||
| Package 175/217 | Hostname | OS / Arch | INSTALL | BUILD | CHECK | BUILD BIN | ||||||||||||||||
| sosta 1.1.4 (landing page) Samuel Gunz
| kjohnson3 | macOS 13.7.7 Ventura / arm64 | OK | ERROR | skipped | skipped | ||||||||||||||||
| Package 176/217 | Hostname | OS / Arch | INSTALL | BUILD | CHECK | BUILD BIN | ||||||||||||||||
| Spaniel 1.23.0 (landing page) Rachel Queen
| kjohnson3 | macOS 13.7.7 Ventura / arm64 | OK | OK | OK | OK | ||||||||||||||||
| Package 177/217 | Hostname | OS / Arch | INSTALL | BUILD | CHECK | BUILD BIN | ||||||||||||||||
| SpaNorm 1.3.1 (landing page) Dharmesh D. Bhuva
| kjohnson3 | macOS 13.7.7 Ventura / arm64 | OK | OK | OK | OK | ||||||||||||||||
| Package 178/217 | Hostname | OS / Arch | INSTALL | BUILD | CHECK | BUILD BIN | ||||||||||||||||
| SpatialExperiment 1.19.1 (landing page) Dario Righelli
| kjohnson3 | macOS 13.7.7 Ventura / arm64 | OK | ERROR | skipped | skipped | ||||||||||||||||
| Package 179/217 | Hostname | OS / Arch | INSTALL | BUILD | CHECK | BUILD BIN | ||||||||||||||||
| SpatialExperimentIO 1.1.0 (landing page) Yixing E. Dong
| kjohnson3 | macOS 13.7.7 Ventura / arm64 | OK | OK | OK | OK | ||||||||||||||||
| Package 180/217 | Hostname | OS / Arch | INSTALL | BUILD | CHECK | BUILD BIN | ||||||||||||||||
| SpatialFeatureExperiment 1.11.1 (landing page) Lambda Moses
| kjohnson3 | macOS 13.7.7 Ventura / arm64 | OK | ERROR | skipped | skipped | ||||||||||||||||
| Package 181/217 | Hostname | OS / Arch | INSTALL | BUILD | CHECK | BUILD BIN | ||||||||||||||||
| spatialHeatmap 2.15.2 (landing page) Jianhai Zhang
| kjohnson3 | macOS 13.7.7 Ventura / arm64 | OK | OK | OK | OK | ||||||||||||||||
| Package 182/217 | Hostname | OS / Arch | INSTALL | BUILD | CHECK | BUILD BIN | ||||||||||||||||
| speckle 1.9.1 (landing page) Belinda Phipson
| kjohnson3 | macOS 13.7.7 Ventura / arm64 | OK | OK | OK | OK | ||||||||||||||||
| Package 183/217 | Hostname | OS / Arch | INSTALL | BUILD | CHECK | BUILD BIN | ||||||||||||||||
| spicyR 1.21.9 (landing page) Ellis Patrick
| kjohnson3 | macOS 13.7.7 Ventura / arm64 | OK | ERROR | skipped | skipped | ||||||||||||||||
| Package 184/217 | Hostname | OS / Arch | INSTALL | BUILD | CHECK | BUILD BIN | ||||||||||||||||
| splatter 1.33.1 (landing page) Luke Zappia
| kjohnson3 | macOS 13.7.7 Ventura / arm64 | OK | OK | OK | OK | ||||||||||||||||
| Package 185/217 | Hostname | OS / Arch | INSTALL | BUILD | CHECK | BUILD BIN | ||||||||||||||||
| SplineDV 1.1.1 (landing page) Shreyan Gupta
| kjohnson3 | macOS 13.7.7 Ventura / arm64 | OK | OK | OK | OK | ||||||||||||||||
| Package 186/217 | Hostname | OS / Arch | INSTALL | BUILD | CHECK | BUILD BIN | ||||||||||||||||
| SPOTlight 1.13.2 (landing page) Marc Elosua-Bayes
| kjohnson3 | macOS 13.7.7 Ventura / arm64 | OK | ERROR | skipped | skipped | ||||||||||||||||
| Package 187/217 | Hostname | OS / Arch | INSTALL | BUILD | CHECK | BUILD BIN | ||||||||||||||||
| SpotSweeper 1.5.1 (landing page) Michael Totty
| kjohnson3 | macOS 13.7.7 Ventura / arm64 | OK | ERROR | skipped | skipped | ||||||||||||||||
| Package 188/217 | Hostname | OS / Arch | INSTALL | BUILD | CHECK | BUILD BIN | ||||||||||||||||
| SPsimSeq 1.19.0 (landing page) Joris Meys
| kjohnson3 | macOS 13.7.7 Ventura / arm64 | OK | OK | OK | OK | ||||||||||||||||
| Package 189/217 | Hostname | OS / Arch | INSTALL | BUILD | CHECK | BUILD BIN | ||||||||||||||||
| standR 1.13.0 (landing page) Ning Liu
| kjohnson3 | macOS 13.7.7 Ventura / arm64 | OK | ERROR | skipped | skipped | ||||||||||||||||
| Package 190/217 | Hostname | OS / Arch | INSTALL | BUILD | CHECK | BUILD BIN | ||||||||||||||||
| Statial 1.11.7 (landing page) Farhan Ameen
| kjohnson3 | macOS 13.7.7 Ventura / arm64 | OK | OK | OK | OK | ||||||||||||||||
| Package 191/217 | Hostname | OS / Arch | INSTALL | BUILD | CHECK | BUILD BIN | ||||||||||||||||
| stPipe 0.99.995 (landing page) Yang Xu
| kjohnson3 | macOS 13.7.7 Ventura / arm64 | OK | ERROR | skipped | skipped | ||||||||||||||||
| Package 192/217 | Hostname | OS / Arch | INSTALL | BUILD | CHECK | BUILD BIN | ||||||||||||||||
| SVP 1.1.1 (landing page) Shuangbin Xu
| kjohnson3 | macOS 13.7.7 Ventura / arm64 | OK | ERROR | skipped | skipped | ||||||||||||||||
| Package 193/217 | Hostname | OS / Arch | INSTALL | BUILD | CHECK | BUILD BIN | ||||||||||||||||
| switchde 1.35.0 (landing page) Kieran Campbell
| kjohnson3 | macOS 13.7.7 Ventura / arm64 | OK | OK | OK | OK | ||||||||||||||||
| Package 194/217 | Hostname | OS / Arch | INSTALL | BUILD | CHECK | BUILD BIN | ||||||||||||||||
| TENxIO 1.11.5 (landing page) Marcel Ramos
| kjohnson3 | macOS 13.7.7 Ventura / arm64 | OK | ERROR | skipped | skipped | ||||||||||||||||
| Package 195/217 | Hostname | OS / Arch | INSTALL | BUILD | CHECK | BUILD BIN | ||||||||||||||||
| tidySingleCellExperiment 1.19.2 (landing page) Stefano Mangiola
| kjohnson3 | macOS 13.7.7 Ventura / arm64 | OK | OK | OK | OK | ||||||||||||||||
| Package 196/217 | Hostname | OS / Arch | INSTALL | BUILD | CHECK | BUILD BIN | ||||||||||||||||
| tidySpatialExperiment 1.5.1 (landing page) William Hutchison
| kjohnson3 | macOS 13.7.7 Ventura / arm64 | OK | OK | ERROR | OK | ||||||||||||||||
| Package 197/217 | Hostname | OS / Arch | INSTALL | BUILD | CHECK | BUILD BIN | ||||||||||||||||
| tpSVG 1.5.0 (landing page) Boyi Guo
| kjohnson3 | macOS 13.7.7 Ventura / arm64 | OK | OK | OK | OK | ||||||||||||||||
| Package 198/217 | Hostname | OS / Arch | INSTALL | BUILD | CHECK | BUILD BIN | ||||||||||||||||
| tradeSeq 1.23.0 (landing page) Hector Roux de Bezieux
| kjohnson3 | macOS 13.7.7 Ventura / arm64 | OK | OK | OK | OK | ||||||||||||||||
| Package 199/217 | Hostname | OS / Arch | INSTALL | BUILD | CHECK | BUILD BIN | ||||||||||||||||
| TrajectoryUtils 1.17.0 (landing page) Aaron Lun
| kjohnson3 | macOS 13.7.7 Ventura / arm64 | OK | OK | OK | OK | ||||||||||||||||
| Package 200/217 | Hostname | OS / Arch | INSTALL | BUILD | CHECK | BUILD BIN | ||||||||||||||||
Koen Van den Berge
| kjohnson3 | macOS 13.7.7 Ventura / arm64 | ERROR | ERROR | skipped | skipped | ||||||||||||||||
| Package 201/217 | Hostname | OS / Arch | INSTALL | BUILD | CHECK | BUILD BIN | ||||||||||||||||
| treekoR 1.17.0 (landing page) Adam Chan
| kjohnson3 | macOS 13.7.7 Ventura / arm64 | OK | OK | OK | OK | ||||||||||||||||
| Package 202/217 | Hostname | OS / Arch | INSTALL | BUILD | CHECK | BUILD BIN | ||||||||||||||||
| TreeSummarizedExperiment 2.17.1 (landing page) Ruizhu Huang
| kjohnson3 | macOS 13.7.7 Ventura / arm64 | OK | OK | OK | OK | ||||||||||||||||
| Package 203/217 | Hostname | OS / Arch | INSTALL | BUILD | CHECK | BUILD BIN | ||||||||||||||||
| tricycle 1.17.1 (landing page) Shijie Zheng
| kjohnson3 | macOS 13.7.7 Ventura / arm64 | OK | OK | WARNINGS | OK | ||||||||||||||||
| Package 204/217 | Hostname | OS / Arch | INSTALL | BUILD | CHECK | BUILD BIN | ||||||||||||||||
| TSCAN 1.47.0 (landing page) Zhicheng Ji
| kjohnson3 | macOS 13.7.7 Ventura / arm64 | OK | OK | OK | OK | ||||||||||||||||
| Package 205/217 | Hostname | OS / Arch | INSTALL | BUILD | CHECK | BUILD BIN | ||||||||||||||||
| UCell 2.13.3 (landing page) Massimo Andreatta
| kjohnson3 | macOS 13.7.7 Ventura / arm64 | OK | OK | OK | OK | ||||||||||||||||
| Package 206/217 | Hostname | OS / Arch | INSTALL | BUILD | CHECK | BUILD BIN | ||||||||||||||||
| VAExprs 1.15.0 (landing page) Dongmin Jung
| kjohnson3 | macOS 13.7.7 Ventura / arm64 | OK | OK | OK | OK | ||||||||||||||||
| Package 207/217 | Hostname | OS / Arch | INSTALL | BUILD | CHECK | BUILD BIN | ||||||||||||||||
| VDJdive 1.11.0 (landing page) Kelly Street
| kjohnson3 | macOS 13.7.7 Ventura / arm64 | OK | OK | OK | OK | ||||||||||||||||
| Package 208/217 | Hostname | OS / Arch | INSTALL | BUILD | CHECK | BUILD BIN | ||||||||||||||||
| velociraptor 1.19.1 (landing page) Kevin Rue-Albrecht
| kjohnson3 | macOS 13.7.7 Ventura / arm64 | OK | ERROR | skipped | skipped | ||||||||||||||||
| Package 209/217 | Hostname | OS / Arch | INSTALL | BUILD | CHECK | BUILD BIN | ||||||||||||||||
| VisiumIO 1.5.12 (landing page) Marcel Ramos
| kjohnson3 | macOS 13.7.7 Ventura / arm64 | OK | OK | OK | OK | ||||||||||||||||
| Package 210/217 | Hostname | OS / Arch | INSTALL | BUILD | CHECK | BUILD BIN | ||||||||||||||||
| visiumStitched 1.1.3 (landing page) Nicholas J. Eagles
| kjohnson3 | macOS 13.7.7 Ventura / arm64 | OK | OK | OK | OK | ||||||||||||||||
| Package 211/217 | Hostname | OS / Arch | INSTALL | BUILD | CHECK | BUILD BIN | ||||||||||||||||
| Voyager 1.11.0 (landing page) Lambda Moses
| kjohnson3 | macOS 13.7.7 Ventura / arm64 | OK | OK | WARNINGS | OK | ||||||||||||||||
| Package 212/217 | Hostname | OS / Arch | INSTALL | BUILD | CHECK | BUILD BIN | ||||||||||||||||
| waddR 1.23.0 (landing page) Julian Flesch
| kjohnson3 | macOS 13.7.7 Ventura / arm64 | OK | ERROR | skipped | skipped | ||||||||||||||||
| Package 213/217 | Hostname | OS / Arch | INSTALL | BUILD | CHECK | BUILD BIN | ||||||||||||||||
| xCell2 1.1.0 (landing page) Almog Angel
| kjohnson3 | macOS 13.7.7 Ventura / arm64 | OK | OK | OK | OK | ||||||||||||||||
| Package 214/217 | Hostname | OS / Arch | INSTALL | BUILD | CHECK | BUILD BIN | ||||||||||||||||
| XeniumIO 1.1.3 (landing page) Marcel Ramos
| kjohnson3 | macOS 13.7.7 Ventura / arm64 | OK | OK | OK | OK | ||||||||||||||||
| Package 215/217 | Hostname | OS / Arch | INSTALL | BUILD | CHECK | BUILD BIN | ||||||||||||||||
| xenLite 1.3.0 (landing page) Vincent Carey
| kjohnson3 | macOS 13.7.7 Ventura / arm64 | OK | OK | OK | OK | ||||||||||||||||
| Package 216/217 | Hostname | OS / Arch | INSTALL | BUILD | CHECK | BUILD BIN | ||||||||||||||||
| zellkonverter 1.19.3 (landing page) Luke Zappia
| kjohnson3 | macOS 13.7.7 Ventura / arm64 | OK | ERROR | skipped | skipped | ||||||||||||||||
| Package 217/217 | Hostname | OS / Arch | INSTALL | BUILD | CHECK | BUILD BIN | ||||||||||||||||
| zinbwave 1.31.0 (landing page) Davide Risso
| kjohnson3 | macOS 13.7.7 Ventura / arm64 | OK | OK | OK | OK | ||||||||||||||||