| Back to Multiple platform build/check report for BioC 3.22: simplified long |
|
This page was generated on 2025-10-25 12:04 -0400 (Sat, 25 Oct 2025).
| Hostname | OS | Arch (*) | R version | Installed pkgs |
|---|---|---|---|---|
| nebbiolo2 | Linux (Ubuntu 24.04.3 LTS) | x86_64 | 4.5.1 Patched (2025-08-23 r88802) -- "Great Square Root" | 4901 |
| lconway | macOS 12.7.6 Monterey | x86_64 | 4.5.1 Patched (2025-09-10 r88807) -- "Great Square Root" | 4691 |
| kjohnson3 | macOS 13.7.7 Ventura | arm64 | 4.5.1 Patched (2025-09-10 r88807) -- "Great Square Root" | 4637 |
| taishan | Linux (openEuler 24.03 LTS) | aarch64 | 4.5.0 (2025-04-11) -- "How About a Twenty-Six" | 4658 |
| Click on any hostname to see more info about the system (e.g. compilers) (*) as reported by 'uname -p', except on Windows and Mac OS X | ||||
| Package 1919/2361 | Hostname | OS / Arch | INSTALL | BUILD | CHECK | BUILD BIN | ||||||||
| scDiagnostics 1.3.0 (landing page) Anthony Christidis
| nebbiolo2 | Linux (Ubuntu 24.04.3 LTS) / x86_64 | OK | OK | OK | |||||||||
| lconway | macOS 12.7.6 Monterey / x86_64 | OK | OK | OK | OK | |||||||||
| kjohnson3 | macOS 13.7.7 Ventura / arm64 | OK | OK | OK | OK | |||||||||
| taishan | Linux (openEuler 24.03 LTS) / aarch64 | OK | NA | NA | ||||||||||
|
To the developers/maintainers of the scDiagnostics package: - Allow up to 24 hours (and sometimes 48 hours) for your latest push to git@git.bioconductor.org:packages/scDiagnostics.git to reflect on this report. See Troubleshooting Build Report for more information. - Use the following Renviron settings to reproduce errors and warnings. - If 'R CMD check' started to fail recently on the Linux builder(s) over a missing dependency, add the missing dependency to 'Suggests:' in your DESCRIPTION file. See Renviron.bioc for more information. |
| Package: scDiagnostics |
| Version: 1.3.0 |
| Command: /home/biocbuild/bbs-3.22-bioc/R/bin/R CMD check --install=check:scDiagnostics.install-out.txt --library=/home/biocbuild/bbs-3.22-bioc/R/site-library --timings scDiagnostics_1.3.0.tar.gz |
| StartedAt: 2025-10-25 03:46:31 -0400 (Sat, 25 Oct 2025) |
| EndedAt: 2025-10-25 03:57:12 -0400 (Sat, 25 Oct 2025) |
| EllapsedTime: 640.5 seconds |
| RetCode: 0 |
| Status: OK |
| CheckDir: scDiagnostics.Rcheck |
| Warnings: 0 |
##############################################################################
##############################################################################
###
### Running command:
###
### /home/biocbuild/bbs-3.22-bioc/R/bin/R CMD check --install=check:scDiagnostics.install-out.txt --library=/home/biocbuild/bbs-3.22-bioc/R/site-library --timings scDiagnostics_1.3.0.tar.gz
###
##############################################################################
##############################################################################
* using log directory ‘/home/biocbuild/bbs-3.22-bioc/meat/scDiagnostics.Rcheck’
* using R version 4.5.1 Patched (2025-08-23 r88802)
* using platform: x86_64-pc-linux-gnu
* R was compiled by
gcc (Ubuntu 13.3.0-6ubuntu2~24.04) 13.3.0
GNU Fortran (Ubuntu 13.3.0-6ubuntu2~24.04) 13.3.0
* running under: Ubuntu 24.04.3 LTS
* using session charset: UTF-8
* checking for file ‘scDiagnostics/DESCRIPTION’ ... OK
* checking extension type ... Package
* this is package ‘scDiagnostics’ version ‘1.3.0’
* package encoding: UTF-8
* checking package namespace information ... OK
* checking package dependencies ... OK
* checking if this is a source package ... OK
* checking if there is a namespace ... OK
* checking for hidden files and directories ... OK
* checking for portable file names ... OK
* checking for sufficient/correct file permissions ... OK
* checking whether package ‘scDiagnostics’ can be installed ... OK
* checking installed package size ... OK
* checking package directory ... OK
* checking ‘build’ directory ... OK
* checking DESCRIPTION meta-information ... OK
* checking top-level files ... OK
* checking for left-over files ... OK
* checking index information ... OK
* checking package subdirectories ... OK
* checking code files for non-ASCII characters ... OK
* checking R files for syntax errors ... OK
* checking whether the package can be loaded ... OK
* checking whether the package can be loaded with stated dependencies ... OK
* checking whether the package can be unloaded cleanly ... OK
* checking whether the namespace can be loaded with stated dependencies ... OK
* checking whether the namespace can be unloaded cleanly ... OK
* checking loading without being on the library search path ... OK
* checking dependencies in R code ... OK
* checking S3 generic/method consistency ... OK
* checking replacement functions ... OK
* checking foreign function calls ... OK
* checking R code for possible problems ... OK
* checking Rd files ... OK
* checking Rd metadata ... OK
* checking Rd cross-references ... NOTE
Found the following Rd file(s) with Rd \link{} targets missing package
anchors:
argumentCheck.Rd: SingleCellExperiment-class
boxplotPCA.Rd: SingleCellExperiment-class
calculateAveragePairwiseCorrelation.Rd: SingleCellExperiment-class
calculateCellDistances.Rd: SingleCellExperiment-class
calculateCellDistancesSimilarity.Rd: SingleCellExperiment-class
calculateCellSimilarityPCA.Rd: SingleCellExperiment-class
calculateCramerPValue.Rd: SingleCellExperiment-class
calculateDiscriminantSpace.Rd: SingleCellExperiment-class
calculateHotellingPValue.Rd: SingleCellExperiment-class
calculateNearestNeighborProbabilities.Rd: SingleCellExperiment-class
calculateSIRSpace.Rd: SingleCellExperiment-class
calculateVarImpOverlap.Rd: SingleCellExperiment-class
calculateWassersteinDistance.Rd: SingleCellExperiment-class
compareCCA.Rd: SingleCellExperiment-class
comparePCA.Rd: SingleCellExperiment-class
comparePCASubspace.Rd: SingleCellExperiment-class
detectAnomaly.Rd: SingleCellExperiment-class
histQCvsAnnotation.Rd: SingleCellExperiment-class
plotCellTypeMDS.Rd: SingleCellExperiment-class
plotCellTypePCA.Rd: SingleCellExperiment-class
plotGeneExpressionDimred.Rd: SingleCellExperiment-class
plotGeneSetScores.Rd: SingleCellExperiment-class
plotMarkerExpression.Rd: SingleCellExperiment-class
plotPairwiseDistancesDensity.Rd: SingleCellExperiment-class
plotQCvsAnnotation.Rd: SingleCellExperiment-class
projectPCA.Rd: SingleCellExperiment-class
projectSIR.Rd: SingleCellExperiment-class
regressPC.Rd: SingleCellExperiment-class
Please provide package anchors for all Rd \link{} targets not in the
package itself and the base packages.
* checking for missing documentation entries ... OK
* checking for code/documentation mismatches ... OK
* checking Rd \usage sections ... OK
* checking Rd contents ... OK
* checking for unstated dependencies in examples ... OK
* checking contents of ‘data’ directory ... OK
* checking data for non-ASCII characters ... OK
* checking LazyData ... NOTE
'LazyDataCompression' is specified without 'LazyData'
* checking data for ASCII and uncompressed saves ... OK
* checking files in ‘vignettes’ ... OK
* checking examples ... OK
Examples with CPU (user + system) or elapsed time > 5s
user system elapsed
plotCellTypeMDS 18.570 0.269 18.840
calculateCellDistances 16.537 1.000 16.944
calculateCramerPValue 9.064 2.981 12.046
calculateCellDistancesSimilarity 5.808 0.315 5.567
* checking for unstated dependencies in ‘tests’ ... OK
* checking tests ...
Running ‘testthat.R’
OK
* checking for unstated dependencies in vignettes ... OK
* checking package vignettes ... OK
* checking re-building of vignette outputs ... OK
* checking PDF version of manual ... OK
* DONE
Status: 2 NOTEs
See
‘/home/biocbuild/bbs-3.22-bioc/meat/scDiagnostics.Rcheck/00check.log’
for details.
scDiagnostics.Rcheck/00install.out
############################################################################## ############################################################################## ### ### Running command: ### ### /home/biocbuild/bbs-3.22-bioc/R/bin/R CMD INSTALL scDiagnostics ### ############################################################################## ############################################################################## * installing to library ‘/home/biocbuild/bbs-3.22-bioc/R/site-library’ * installing *source* package ‘scDiagnostics’ ... ** this is package ‘scDiagnostics’ version ‘1.3.0’ ** using staged installation ** R ** data ** inst ** byte-compile and prepare package for lazy loading ** help *** installing help indices ** building package indices ** installing vignettes ** testing if installed package can be loaded from temporary location ** testing if installed package can be loaded from final location ** testing if installed package keeps a record of temporary installation path * DONE (scDiagnostics)
scDiagnostics.Rcheck/tests/testthat.Rout
R version 4.5.1 Patched (2025-08-23 r88802) -- "Great Square Root"
Copyright (C) 2025 The R Foundation for Statistical Computing
Platform: x86_64-pc-linux-gnu
R is free software and comes with ABSOLUTELY NO WARRANTY.
You are welcome to redistribute it under certain conditions.
Type 'license()' or 'licence()' for distribution details.
R is a collaborative project with many contributors.
Type 'contributors()' for more information and
'citation()' on how to cite R or R packages in publications.
Type 'demo()' for some demos, 'help()' for on-line help, or
'help.start()' for an HTML browser interface to help.
Type 'q()' to quit R.
> # This file is part of the standard setup for testthat.
> # It is recommended that you do not modify it.
> #
> # Where should you do additional test configuration?
> # Learn more about the roles of various files in:
> # * https://r-pkgs.org/testing-design.html#sec-tests-files-overview
> # * https://testthat.r-lib.org/articles/special-files.html
>
> library(testthat)
> library(scDiagnostics)
>
> test_check("scDiagnostics")
[ FAIL 0 | WARN 0 | SKIP 0 | PASS 276 ]
>
> proc.time()
user system elapsed
138.953 9.280 140.103
scDiagnostics.Rcheck/scDiagnostics-Ex.timings
| name | user | system | elapsed | |
| boxplotPCA | 3.107 | 0.082 | 3.190 | |
| calculateAveragePairwiseCorrelation | 3.564 | 0.055 | 3.620 | |
| calculateCategorizationEntropy | 0.056 | 0.000 | 0.055 | |
| calculateCellDistances | 16.537 | 1.000 | 16.944 | |
| calculateCellDistancesSimilarity | 5.808 | 0.315 | 5.567 | |
| calculateCellSimilarityPCA | 2.131 | 0.067 | 1.670 | |
| calculateCramerPValue | 9.064 | 2.981 | 12.046 | |
| calculateDiscriminantSpace | 4.755 | 0.076 | 3.653 | |
| calculateHVGOverlap | 1.131 | 0.029 | 1.161 | |
| calculateHotellingPValue | 1.614 | 0.017 | 1.631 | |
| calculateNearestNeighborProbabilities | 1.683 | 0.052 | 1.735 | |
| calculateSIRSpace | 3.124 | 0.066 | 3.190 | |
| calculateVarImpOverlap | 4.002 | 0.080 | 2.537 | |
| calculateWassersteinDistance | 2.766 | 0.178 | 2.944 | |
| compareCCA | 1.191 | 0.033 | 1.224 | |
| comparePCA | 1.226 | 0.034 | 1.260 | |
| comparePCASubspace | 1.458 | 0.027 | 1.486 | |
| detectAnomaly | 2.796 | 0.053 | 2.264 | |
| histQCvsAnnotation | 0.896 | 0.004 | 0.900 | |
| plot.calculateWassersteinDistanceObject | 2.269 | 0.173 | 2.443 | |
| plotCellTypeMDS | 18.570 | 0.269 | 18.840 | |
| plotCellTypePCA | 3.029 | 0.164 | 3.193 | |
| plotGeneExpressionDimred | 1.729 | 0.020 | 1.749 | |
| plotGeneSetScores | 1.385 | 0.004 | 1.390 | |
| plotMarkerExpression | 0.699 | 0.013 | 0.713 | |
| plotPairwiseDistancesDensity | 1.269 | 0.065 | 1.335 | |
| plotQCvsAnnotation | 0.328 | 0.005 | 0.333 | |
| projectPCA | 0.312 | 0.008 | 0.320 | |
| projectSIR | 1.398 | 0.009 | 1.407 | |
| qc_data | 0.036 | 0.001 | 0.037 | |
| query_data | 0.034 | 0.000 | 0.034 | |
| reference_data | 0.073 | 0.005 | 0.078 | |
| regressPC | 2.213 | 0.043 | 2.256 | |