| Back to Multiple platform build/check report for BioC 3.22: simplified long |
|
This page was generated on 2025-11-17 11:58 -0500 (Mon, 17 Nov 2025).
| Hostname | OS | Arch (*) | R version | Installed pkgs |
|---|---|---|---|---|
| nebbiolo2 | Linux (Ubuntu 24.04.3 LTS) | x86_64 | 4.5.1 Patched (2025-08-23 r88802) -- "Great Square Root" | 4903 |
| taishan | Linux (openEuler 24.03 LTS) | aarch64 | 4.5.0 (2025-04-11) -- "How About a Twenty-Six" | 4668 |
| Click on any hostname to see more info about the system (e.g. compilers) (*) as reported by 'uname -p', except on Windows and Mac OS X | ||||
| Package 460/2361 | Hostname | OS / Arch | INSTALL | BUILD | CHECK | BUILD BIN | ||||||||
| COTAN 2.10.0 (landing page) Galfrè Silvia Giulia
| nebbiolo2 | Linux (Ubuntu 24.04.3 LTS) / x86_64 | OK | OK | OK | |||||||||
| taishan | Linux (openEuler 24.03 LTS) / aarch64 | OK | OK | OK | ||||||||||
|
To the developers/maintainers of the COTAN package: - Allow up to 24 hours (and sometimes 48 hours) for your latest push to git@git.bioconductor.org:packages/COTAN.git to reflect on this report. See Troubleshooting Build Report for more information. - Use the following Renviron settings to reproduce errors and warnings. - If 'R CMD check' started to fail recently on the Linux builder(s) over a missing dependency, add the missing dependency to 'Suggests:' in your DESCRIPTION file. See Renviron.bioc for more information. |
| Package: COTAN |
| Version: 2.10.0 |
| Command: /home/biocbuild/bbs-3.22-bioc/R/bin/R CMD check --install=check:COTAN.install-out.txt --library=/home/biocbuild/bbs-3.22-bioc/R/site-library --timings COTAN_2.10.0.tar.gz |
| StartedAt: 2025-11-16 22:35:06 -0500 (Sun, 16 Nov 2025) |
| EndedAt: 2025-11-16 23:04:20 -0500 (Sun, 16 Nov 2025) |
| EllapsedTime: 1753.5 seconds |
| RetCode: 0 |
| Status: OK |
| CheckDir: COTAN.Rcheck |
| Warnings: 0 |
##############################################################################
##############################################################################
###
### Running command:
###
### /home/biocbuild/bbs-3.22-bioc/R/bin/R CMD check --install=check:COTAN.install-out.txt --library=/home/biocbuild/bbs-3.22-bioc/R/site-library --timings COTAN_2.10.0.tar.gz
###
##############################################################################
##############################################################################
* using log directory ‘/home/biocbuild/bbs-3.22-bioc/meat/COTAN.Rcheck’
* using R version 4.5.1 Patched (2025-08-23 r88802)
* using platform: x86_64-pc-linux-gnu
* R was compiled by
gcc (Ubuntu 13.3.0-6ubuntu2~24.04) 13.3.0
GNU Fortran (Ubuntu 13.3.0-6ubuntu2~24.04) 13.3.0
* running under: Ubuntu 24.04.3 LTS
* using session charset: UTF-8
* checking for file ‘COTAN/DESCRIPTION’ ... OK
* checking extension type ... Package
* this is package ‘COTAN’ version ‘2.10.0’
* package encoding: UTF-8
* checking package namespace information ... OK
* checking package dependencies ... INFO
Imports includes 26 non-default packages.
Importing from so many packages makes the package vulnerable to any of
them becoming unavailable. Move as many as possible to Suggests and
use conditionally.
* checking if this is a source package ... OK
* checking if there is a namespace ... OK
* checking for hidden files and directories ... OK
* checking for portable file names ... OK
* checking for sufficient/correct file permissions ... OK
* checking whether package ‘COTAN’ can be installed ... OK
* checking installed package size ... OK
* checking package directory ... OK
* checking ‘build’ directory ... OK
* checking DESCRIPTION meta-information ... OK
* checking top-level files ... OK
* checking for left-over files ... OK
* checking index information ... OK
* checking package subdirectories ... OK
* checking code files for non-ASCII characters ... OK
* checking R files for syntax errors ... OK
* checking whether the package can be loaded ... OK
* checking whether the package can be loaded with stated dependencies ... OK
* checking whether the package can be unloaded cleanly ... OK
* checking whether the namespace can be loaded with stated dependencies ... OK
* checking whether the namespace can be unloaded cleanly ... OK
* checking loading without being on the library search path ... OK
* checking whether startup messages can be suppressed ... OK
* checking dependencies in R code ... OK
* checking S3 generic/method consistency ... OK
* checking replacement functions ... OK
* checking foreign function calls ... OK
* checking R code for possible problems ... OK
* checking Rd files ... OK
* checking Rd metadata ... OK
* checking Rd cross-references ... OK
* checking for missing documentation entries ... OK
* checking for code/documentation mismatches ... OK
* checking Rd \usage sections ... OK
* checking Rd contents ... OK
* checking for unstated dependencies in examples ... OK
* checking contents of ‘data’ directory ... OK
* checking data for non-ASCII characters ... OK
* checking data for ASCII and uncompressed saves ... OK
* checking files in ‘vignettes’ ... OK
* checking examples ... OK
Examples with CPU (user + system) or elapsed time > 5s
user system elapsed
UniformClusters 68.553 0.157 67.919
CalculatingCOEX 51.035 0.466 50.454
HandlingClusterizations 39.990 0.323 39.977
HeatmapPlots 30.579 0.473 30.279
ParametersEstimations 21.311 0.253 21.560
GenesStatistics 10.287 0.056 10.052
COTAN_ObjectCreation 10.084 0.123 9.926
* checking for unstated dependencies in ‘tests’ ... OK
* checking tests ...
Running ‘outputTestDatasetCreation.R’
Running ‘spelling.R’
Running ‘testthat.R’
OK
* checking for unstated dependencies in vignettes ... OK
* checking package vignettes ... OK
* checking re-building of vignette outputs ... OK
* checking PDF version of manual ... OK
* DONE
Status: OK
COTAN.Rcheck/00install.out
############################################################################## ############################################################################## ### ### Running command: ### ### /home/biocbuild/bbs-3.22-bioc/R/bin/R CMD INSTALL COTAN ### ############################################################################## ############################################################################## * installing to library ‘/home/biocbuild/bbs-3.22-bioc/R/site-library’ * installing *source* package ‘COTAN’ ... ** this is package ‘COTAN’ version ‘2.10.0’ ** using staged installation ** R ** data ** inst ** byte-compile and prepare package for lazy loading ** help *** installing help indices ** building package indices ** installing vignettes ** testing if installed package can be loaded from temporary location ** testing if installed package can be loaded from final location ** testing if installed package keeps a record of temporary installation path * DONE (COTAN)
COTAN.Rcheck/tests/outputTestDatasetCreation.Rout
R version 4.5.1 Patched (2025-08-23 r88802) -- "Great Square Root"
Copyright (C) 2025 The R Foundation for Statistical Computing
Platform: x86_64-pc-linux-gnu
R is free software and comes with ABSOLUTELY NO WARRANTY.
You are welcome to redistribute it under certain conditions.
Type 'license()' or 'licence()' for distribution details.
R is a collaborative project with many contributors.
Type 'contributors()' for more information and
'citation()' on how to cite R or R packages in publications.
Type 'demo()' for some demos, 'help()' for on-line help, or
'help.start()' for an HTML browser interface to help.
Type 'q()' to quit R.
>
> # Creates the files to be reloaded by the tests for comparisons
>
> outputTestDatasetCreation <-
+ function(testsDir = file.path("tests", "testthat")) {
+ utils::data("test.dataset", package = "COTAN")
+ options(parallelly.fork.enable = TRUE)
+ setLoggingLevel(3L)
+
+ obj <- COTAN(raw = test.dataset)
+ obj <- initializeMetaDataset(objCOTAN = obj, GEO = " ",
+ sequencingMethod = "artificial",
+ sampleCondition = "test")
+
+ obj <- proceedToCoex(objCOTAN = obj, cores = 6L, saveObj = FALSE)
+
+ if (FALSE) {
+ saveRDS(obj, file = file.path(testsDir,"test.COTAN.RDS"))
+ }
+
+ cells.names.test <-
+ getCells(objCOTAN = obj)[c(1L:10L, 591L:610L, 991L:1000L)]
+ genes.names.test <-
+ getGenes(objCOTAN = obj)[c(131L:140L, 291L:310L, 591L: 600L)]
+ saveRDS(cells.names.test, file.path(testsDir, "cells.names.test.RDS"))
+ saveRDS(genes.names.test, file.path(testsDir, "genes.names.test.RDS"))
+
+ pcaRaw <- runPCA(x = getRawData(objCOTAN = obj), rank = 10L,
+ BSPARAM = IrlbaParam(), get.rotation = FALSE)[["x"]]
+
+ pca.raw.test <- pcaRaw[genes.names.test, ]
+ saveRDS(pca.raw.test, file.path(testsDir, "pca.raw.test.RDS"))
+
+ dispersion.test <- getDispersion(objCOTAN = obj)[genes.names.test]
+ saveRDS(dispersion.test, file.path(testsDir, "dispersion.test.RDS"))
+
+ raw.norm.test <-
+ getNuNormData(objCOTAN = obj)[genes.names.test, cells.names.test]
+ saveRDS(raw.norm.test, file.path(testsDir, "raw.norm.test.RDS"))
+
+ coex.test <-
+ getGenesCoex(objCOTAN = obj, genes = genes.names.test, zeroDiagonal = FALSE)
+ saveRDS(coex.test, file.path(testsDir, "coex.test.RDS"))
+
+ lambda.test <- getLambda(objCOTAN = obj)[genes.names.test]
+ saveRDS(lambda.test, file.path(testsDir, "lambda.test.RDS"))
+
+ GDI.test <- calculateGDI(objCOTAN = obj)
+ GDI.test <- GDI.test[genes.names.test, ]
+ saveRDS(GDI.test, file.path(testsDir, "GDI.test.RDS"))
+
+ nu.test <- getNu(objCOTAN = obj)[cells.names.test]
+ saveRDS(nu.test, file.path(testsDir, "nu.test.RDS"))
+
+ pvalues.test <- calculatePValue(objCOTAN = obj,
+ geneSubsetCol = genes.names.test,
+ geneSubsetRow = genes.names.test)
+ saveRDS(pvalues.test, file.path(testsDir, "pvalues.test.RDS"))
+
+ groupMarkers <- list(G1 = c("g-000010", "g-000020", "g-000138"),
+ G2 = c("g-000300", "g-000330", "g-000660"),
+ G3 = c("g-000510", "g-000530", "g-000550",
+ "g-000570", "g-000590"))
+
+ gcsData <- genesCoexSpace(objCOTAN = obj,
+ primaryMarkers = unlist(groupMarkers),
+ numGenesPerMarker = 11L)
+
+ genes.coex.space.test <- gcsData[["GCS"]]
+ saveRDS(genes.coex.space.test,
+ file.path(testsDir, "genes.coex.space.test.RDS"))
+
+ genesClustersData <-
+ establishGenesClusters(objCOTAN = obj,
+ groupMarkers = groupMarkers,
+ numGenesPerMarker = 11L,
+ kCuts = 6L, distance = "cosine",
+ hclustMethod = "ward.D2")
+
+ pca.genes.clusters.test <- genesClustersData[["pca_clusters"]]
+ saveRDS(pca.genes.clusters.test,
+ file.path(testsDir, "pca.genes.clusters.test.RDS"))
+
+ # Make it a less strict check as it is only for testing
+ checker <- new("AdvancedGDIUniformityCheck")
+ checker <- shiftCheckerThresholds(checker, 0.1)
+
+ initialResolution <- 1.3
+ splitData <- cellsUniformClustering(objCOTAN = obj,
+ checker = checker,
+ initialResolution = initialResolution,
+ useCoexEigen = TRUE,
+ dataMethod = "LL",
+ numReducedComp = 50L,
+ cores = 6L, optimizeForSpeed = TRUE,
+ deviceStr = "cuda", saveObj = FALSE)
+
+ split.clusters.test <- splitData[["clusters"]]
+ saveRDS(split.clusters.test,
+ file = file.path(testsDir, "split.clusters.test.RDS"))
+
+ test.dataset.clusters1 <- split.clusters.test
+ save(test.dataset.clusters1, compress = TRUE,
+ file = file.path("data", "test.dataset.clusters1.rda"))
+
+ obj <- addClusterization(objCOTAN = obj,
+ clName = "split",
+ clusters = splitData[["clusters"]],
+ coexDF = splitData[["coex"]])
+
+ coex.clusters.test <- splitData[["coex"]][genes.names.test, ]
+ saveRDS(coex.clusters.test, file.path(testsDir, "coex.clusters.test.RDS"))
+
+ pvalDF <- pValueFromDEA(splitData[["coex"]],
+ getNumCells(objCOTAN = obj),
+ adjustmentMethod = "none")
+
+ pvalues.clusters.test <- pvalDF[genes.names.test, ]
+ saveRDS(pvalues.clusters.test,
+ file.path(testsDir, "pvalues.clusters.test.RDS"))
+
+ mergedData <- mergeUniformCellsClusters(objCOTAN = obj,
+ clusters = splitData[["clusters"]],
+ checkers = checker,
+ batchSize = 1L,
+ cores = 6L,
+ distance = "cosine",
+ hclustMethod = "ward.D2",
+ saveObj = FALSE)
+
+ merge.clusters.test <- mergedData[["clusters"]]
+ saveRDS(merge.clusters.test,
+ file = file.path(testsDir, "merge.clusters.test.RDS"))
+
+ test.dataset.clusters2 <- merge.clusters.test
+ save(test.dataset.clusters2, compress = TRUE,
+ file = file.path("data", "test.dataset.clusters2.rda"))
+
+ obj <- addClusterization(objCOTAN = obj,
+ clName = "merge",
+ clusters = mergedData[["clusters"]],
+ coexDF = mergedData[["coex"]])
+ }
>
> proc.time()
user system elapsed
0.164 0.036 0.188
COTAN.Rcheck/tests/spelling.Rout
R version 4.5.1 Patched (2025-08-23 r88802) -- "Great Square Root"
Copyright (C) 2025 The R Foundation for Statistical Computing
Platform: x86_64-pc-linux-gnu
R is free software and comes with ABSOLUTELY NO WARRANTY.
You are welcome to redistribute it under certain conditions.
Type 'license()' or 'licence()' for distribution details.
R is a collaborative project with many contributors.
Type 'contributors()' for more information and
'citation()' on how to cite R or R packages in publications.
Type 'demo()' for some demos, 'help()' for on-line help, or
'help.start()' for an HTML browser interface to help.
Type 'q()' to quit R.
> if (requireNamespace("spelling", quietly = TRUE))
+ spelling::spell_check_test(vignettes = TRUE, error = FALSE,
+ skip_on_cran = TRUE)
All Done!
>
> proc.time()
user system elapsed
0.135 0.046 0.170
COTAN.Rcheck/tests/testthat.Rout
R version 4.5.1 Patched (2025-08-23 r88802) -- "Great Square Root"
Copyright (C) 2025 The R Foundation for Statistical Computing
Platform: x86_64-pc-linux-gnu
R is free software and comes with ABSOLUTELY NO WARRANTY.
You are welcome to redistribute it under certain conditions.
Type 'license()' or 'licence()' for distribution details.
R is a collaborative project with many contributors.
Type 'contributors()' for more information and
'citation()' on how to cite R or R packages in publications.
Type 'demo()' for some demos, 'help()' for on-line help, or
'help.start()' for an HTML browser interface to help.
Type 'q()' to quit R.
> Sys.setenv(R_TESTS = "")
> library(testthat)
> library(COTAN)
> library(zeallot)
> test_check("COTAN")
Setting new log level to 4
Initializing `COTAN` meta-data
Genes/cells selection done: dropped [0] genes and [0] cells
Working on [10] genes and [20] cells
Estimate `dispersion`: START
Effective number of cores used: 1
Executing 1 genes batches
Parallel dispersion Newton-Raphson: used up to 5 iterations
Total calculations elapsed time: 1.70416975021362
Estimate `dispersion`: DONE
Estimate `dispersion`: DONE
`dispersion` | min: 0.903596292963576 | max: 4.67949426963453 | % negative: 10
Calculate genes' COEX (legacy): START
Retrieving expected genes' contingency table
calculating NN.. done
calculating NY..YN..YY..t().. done
Expected genes' contingency table elapsed time: 2.52401661872864
Calculating genes' COEX normalization factor
Calculate genes' normalization factor elapsed time: 0.000605106353759766
Retrieving observed genes' yes/yes contingency table
calculating YY.. done
Observed genes' contingency table elapsed time: 0.00698018074035645
Estimating genes' COEX
Calculate genes' COEX elapsed time: 0.838773012161255
Total calculations elapsed time: 3.37037491798401
Calculate genes' COEX (legacy): DONE
Genes/cells selection done: dropped [0] genes and [0] cells
Working on [10] genes and [20] cells
Estimate `dispersion`: START
Effective number of cores used: 1
Executing 5 genes batches
Parallel dispersion Newton-Raphson: used up to 5 iterations
Parallel dispersion Newton-Raphson: used up to 4 iterations
Parallel dispersion Newton-Raphson: used up to 5 iterations
Parallel dispersion Newton-Raphson: used up to 5 iterations
Parallel dispersion Newton-Raphson: used up to 5 iterations
Total calculations elapsed time: 4.7744152545929
Estimate `dispersion`: DONE
Estimate `dispersion`: DONE
`dispersion` | min: 0.903596292963576 | max: 4.67949426963453 | % negative: 10
Estimate `nu`: START
Effective number of cores used: 1
Executing 7 cells batches
Total calculations elapsed time: 0.833309888839722
Estimate `nu`: DONE
`nu` change (abs) | max: 1.75595238095238 | median: 1.07156808035714 | mean: 1.07156808035714
Estimate `dispersion`/`nu`: START
Estimate `dispersion`: START
Effective number of cores used: 1
Executing 1 genes batches
Parallel dispersion Newton-Raphson: used up to 5 iterations
Total calculations elapsed time: 1.78101086616516
Estimate `dispersion`: DONE
Estimate `dispersion`: DONE
`dispersion` | min: 1.03734183779544 | max: 4.61112297272667 | % negative: 10
Estimate `nu`: START
Effective number of cores used: 1
Executing 1 cells batches
Total calculations elapsed time: 0.844592332839966
Estimate `nu`: DONE
`nu` change (abs) | max: 0.0295487661210321 | median: 0.016072261901129 | mean: 0.016072261901129
`nu` mean: 1.69786080481514
Marginal errors | max: 1.95799528048 | median 1.32268477389029 | mean: 1.33563364783916
Estimate `dispersion`: START
Effective number of cores used: 1
Executing 1 genes batches
Parallel dispersion Newton-Raphson: used up to 5 iterations
Total calculations elapsed time: 1.60009336471558
Estimate `dispersion`: DONE
Estimate `dispersion`: DONE
`dispersion` | min: 0.0585450475968788 | max: 3.52739274166646 | % negative: 10
Estimate `nu`: START
Effective number of cores used: 1
Executing 1 cells batches
Total calculations elapsed time: 0.835873603820801
Estimate `nu`: DONE
`nu` change (abs) | max: 0.417150556912302 | median: 0.240156504520849 | mean: 0.240156504520849
`nu` mean: 0.823005947608547
Marginal errors | max: 0.837672524335755 | median 0.704691669139065 | mean: 0.646575831699997
Estimate `dispersion`: START
Effective number of cores used: 1
Executing 1 genes batches
Parallel dispersion Newton-Raphson: used up to 5 iterations
Total calculations elapsed time: 1.60572862625122
Estimate `dispersion`: DONE
Estimate `dispersion`: DONE
`dispersion` | min: 0.328845855849147 | max: 4.03031691940854 | % negative: 10
Estimate `nu`: START
Effective number of cores used: 1
Executing 1 cells batches
Total calculations elapsed time: 0.810888051986694
Estimate `nu`: DONE
`nu` change (abs) | max: 0.164439840041 | median: 0.0957105992188852 | mean: 0.0957105992188852
`nu` mean: 1.06872924082212
Marginal errors | max: 0.260109847946692 | median 0.21392791155499 | mean: 0.197565106613054
Estimate `dispersion`: START
Effective number of cores used: 1
Executing 1 genes batches
Parallel dispersion Newton-Raphson: used up to 5 iterations
Total calculations elapsed time: 1.5510847568512
Estimate `dispersion`: DONE
Estimate `dispersion`: DONE
`dispersion` | min: 0.229469002841045 | max: 3.87206403670079 | % negative: 10
Estimate `nu`: START
Effective number of cores used: 1
Executing 1 cells batches
Total calculations elapsed time: 0.735632658004761
Estimate `nu`: DONE
`nu` change (abs) | max: 0.05539667181205 | median: 0.0321044921874999 | mean: 0.0321044921874999
`nu` mean: 0.97670782037545
Marginal errors | max: 0.095347789718808 | median 0.0796003827042702 | mean: 0.0725509735761708
Estimate `dispersion`: START
Effective number of cores used: 1
Executing 1 genes batches
Parallel dispersion Newton-Raphson: used up to 5 iterations
Total calculations elapsed time: 1.53194069862366
Estimate `dispersion`: DONE
Estimate `dispersion`: DONE
`dispersion` | min: 0.263830434255107 | max: 3.92953043775907 | % negative: 10
Estimate `nu`: START
Effective number of cores used: 1
Executing 1 cells batches
Total calculations elapsed time: 0.800090312957764
Estimate `nu`: DONE
`nu` change (abs) | max: 0.0196209299693411 | median: 0.0114037947200925 | mean: 0.0114037947200925
`nu` mean: 1.00821713524925
Marginal errors | max: 0.0329495161656741 | median 0.0273479725376324 | mean: 0.025029675152131
Estimate `dispersion`: START
Effective number of cores used: 1
Executing 1 genes batches
Parallel dispersion Newton-Raphson: used up to 5 iterations
Total calculations elapsed time: 1.84895873069763
Estimate `dispersion`: DONE
Estimate `dispersion`: DONE
`dispersion` | min: 0.251734659898779 | max: 3.9096133246649 | % negative: 10
Estimate `nu`: START
Effective number of cores used: 1
Executing 1 cells batches
Total calculations elapsed time: 0.970819711685181
Estimate `nu`: DONE
`nu` change (abs) | max: 0.0069104540740097 | median: 0.0040109538496062 | mean: 0.0040109538496062
`nu` mean: 0.997100499775596
Marginal errors | max: 0.0116950057438405 | median 0.00972280144873849 | mean: 0.00889105008777538
Estimate `dispersion`: START
Effective number of cores used: 1
Executing 1 genes batches
Parallel dispersion Newton-Raphson: used up to 5 iterations
Total calculations elapsed time: 1.94234895706177
Estimate `dispersion`: DONE
Estimate `dispersion`: DONE
`dispersion` | min: 0.256009779031907 | max: 3.91667271750655 | % negative: 10
Estimate `nu`: START
Effective number of cores used: 1
Executing 1 cells batches
Total calculations elapsed time: 0.820838451385498
Estimate `nu`: DONE
`nu` change (abs) | max: 0.00251004753849005 | median: 0.00146484374999994 | mean: 0.00146484374999994
`nu` mean: 1.00104520378849
Marginal errors | max: 0.00430755646112857 | median 0.00358203399504298 | mean: 0.00327684342604062
Estimate `dispersion`: START
Effective number of cores used: 1
Executing 1 genes batches
Parallel dispersion Newton-Raphson: used up to 5 iterations
Total calculations elapsed time: 1.62744832038879
Estimate `dispersion`: DONE
Estimate `dispersion`: DONE
`dispersion` | min: 0.254429717857093 | max: 3.91406908073254 | % negative: 10
Estimate `nu`: START
Effective number of cores used: 1
Executing 1 cells batches
Total calculations elapsed time: 0.833434104919434
Estimate `nu`: DONE
`nu` change (abs) | max: 0.00104629156456748 | median: 0.000592910406456731 | mean: 0.000592910406456731
`nu` mean: 0.999546618841889
Marginal errors | max: 0.00162038706091039 | median 0.00134441676098973 | mean: 0.00123030512553282
Estimate `dispersion`: START
Effective number of cores used: 1
Executing 1 genes batches
Parallel dispersion Newton-Raphson: used up to 5 iterations
Total calculations elapsed time: 1.61793565750122
Estimate `dispersion`: DONE
Estimate `dispersion`: DONE
`dispersion` | min: 0.255022049769696 | max: 3.91504587939868 | % negative: 10
Estimate `nu`: START
Effective number of cores used: 1
Executing 1 cells batches
Total calculations elapsed time: 0.800436973571777
Estimate `nu`: DONE
`nu` change (abs) | max: 0.000418450901304768 | median: 0.000244140625000028 | mean: 0.000244140625000028
`nu` mean: 1.0001743102763
Marginal errors | max: 0.00071569233034019 | median 0.000597297218559056 | mean: 0.00054590699507937
Total calculations elapsed time: 44.3465082645416
Estimate `dispersion`/`nu`: DONE
Estimate `dispersion`/`nu`: START
Initializing `COTAN` meta-data
Genes/cells selection done: dropped [0] genes and [0] cells
Working on [10] genes and [20] cells
Estimate `dispersion`: START
Effective number of cores used: 1
Executing 1 genes batches
Parallel dispersion Newton-Raphson: used up to 5 iterations
Total calculations elapsed time: 1.78433561325073
Estimate `dispersion`: DONE
Estimate `dispersion`: DONE
`dispersion` | min: 0.903596292963576 | max: 4.67949426963453 | % negative: 10
While trying to load the `torch` library Error in doTryCatch(return(expr), name, parentenv, handler): The `torch` library is installed but the required additional libraries are not available yet
Calculate genes' COEX (legacy): START
Retrieving expected genes' contingency table
calculating NN.. done
calculating NY..YN..YY..t().. done
Expected genes' contingency table elapsed time: 3.68802309036255
Calculating genes' COEX normalization factor
Fraction of genes' with very low expected contingency tables: 0.181818181818182
Calculate genes' normalization factor elapsed time: 0.000801324844360352
Retrieving observed genes' yes/yes contingency table
calculating YY.. done
Observed genes' contingency table elapsed time: 0.00415492057800293
Estimating genes' COEX
Calculate genes' COEX elapsed time: 1.53835678100586
Total calculations elapsed time: 5.23133611679077
Calculate genes' COEX (legacy): DONE
Calculate cells' COEX (legacy): START
Retrieving expected cells' contingency table
calculating NN.. done
calculating YN..NY..YY..t().. done
Expected cells' contingency table elapsed time: 3.83107614517212
Calculating cells' COEX normalization factor
Fraction of cells' with very low expected contingency tables: 0
Calculate cells' normalization factor elapsed time: 0.000850200653076172
Retrieving observed cells' yes/yes contingency table
calculating YY.. done
Observed cells' contingency table elapsed time: 0.00253462791442871
Estimating cells' COEX
Calculate cells' COEX elapsed time: 1.2308714389801
Total calculations elapsed time: 5.06533241271973
Calculate cells' COEX (legacy): DONE
Calculate GDI dataframe: START
Using S
Calculating S: START
Calculating S: DONE
Calculate `GDI`: START
Effective number of cores used: 1
Executing 1 genes batches
Total calculations elapsed time: 0.0113093852996826
Calculate `GDI`: DONE
Total calculations elapsed time: 3.4268593788147
Calculate GDI dataframe: DONE
Calculate GDI dataframe: START
Using S
Calculating S: START
Calculating S: DONE
Calculate `GDI`: START
Effective number of cores used: 1
Executing 1 genes batches
Total calculations elapsed time: 0.00338172912597656
Calculate `GDI`: DONE
Total calculations elapsed time: 4.02254343032837
Calculate GDI dataframe: DONE
Included 1 genes with GDI below 1.3
Selected 10 genes using HGDI selector
Running genes' selection: DONE
Running genes' selection: START
Included 1 genes with GDI below 1.3
Selected 10 genes using HGDI selector
Running genes' selection: DONE
Running genes' selection: START
Included 1 genes with GDI below 1.3
Selected 10 genes using HGDI selector
Running genes' selection: DONE
Running genes' selection: START
Selected 5 genes using HGDI selector
Running genes' selection: DONE
Running genes' selection: START
Normalizing layer: counts
Performing log-normalization
0% 10 20 30 40 50 60 70 80 90 100%
[----|----|----|----|----|----|----|----|----|----|
**************************************************|
Finding variable features for layer counts
Calculating gene variances
0% 10 20 30 40 50 60 70 80 90 100%
[----|----|----|----|----|----|----|----|----|----|
**************************************************|
Calculating feature variances of standardized and clipped values
0% 10 20 30 40 50 60 70 80 90 100%
[----|----|----|----|----|----|----|----|----|----|
**************************************************|
Selected 5 genes using HVG_Seurat selector
Running genes' selection: DONE
Running genes' selection: START
Normalizing layer: counts
Performing log-normalization
0% 10 20 30 40 50 60 70 80 90 100%
[----|----|----|----|----|----|----|----|----|----|
**************************************************|
Finding variable features for layer data
Calculating gene means
0% 10 20 30 40 50 60 70 80 90 100%
[----|----|----|----|----|----|----|----|----|----|
**************************************************|
Calculating gene variance to mean ratios
0% 10 20 30 40 50 60 70 80 90 100%
[----|----|----|----|----|----|----|----|----|----|
**************************************************|
Running genes' selection: START
Given 5 genes as input
Running genes' selection: DONE
Elaborating Reduced dimensionality Data Matrix - START
Running genes' selection: START
Included 1 genes with GDI below 1.3
Selected 10 genes using HGDI selector
Running genes' selection: DONE
Elaborating PCA - START
Elaborating PCA - DONE
Total calculations elapsed time: 3.21595478057861
Elaborating Reduced dimensionality Data Matrix - DONE
Elaborating Reduced dimensionality Data Matrix - START
Running genes' selection: START
Included 1 genes with GDI below 1.3
Selected 10 genes using HGDI selector
Running genes' selection: DONE
Elaborating PCA - START
Elaborating PCA - DONE
Total calculations elapsed time: 2.91568350791931
Elaborating Reduced dimensionality Data Matrix - DONE
Elaborating Reduced dimensionality Data Matrix - START
Running genes' selection: START
Selected 8 genes using HGDI selector
Running genes' selection: DONE
Elaborating PCA - START
Elaborating PCA - DONE
Total calculations elapsed time: 2.68747806549072
Elaborating Reduced dimensionality Data Matrix - DONE
Elaborating Reduced dimensionality Data Matrix - START
Running genes' selection: START
Normalizing layer: counts
Performing log-normalization
0% 10 20 30 40 50 60 70 80 90 100%
[----|----|----|----|----|----|----|----|----|----|
**************************************************|
Finding variable features for layer counts
Calculating gene variances
0% 10 20 30 40 50 60 70 80 90 100%
[----|----|----|----|----|----|----|----|----|----|
**************************************************|
Calculating feature variances of standardized and clipped values
0% 10 20 30 40 50 60 70 80 90 100%
[----|----|----|----|----|----|----|----|----|----|
**************************************************|
Selected 8 genes using HVG_Seurat selector
Running genes' selection: DONE
Elaborating PCA - START
Elaborating PCA - DONE
Total calculations elapsed time: 4.52020525932312
Elaborating Reduced dimensionality Data Matrix - DONE
Elaborating Reduced dimensionality Data Matrix - START
Elaborating COEX Eigen Vectors - START
Elaborating COEX Eigen Vectors - DONE
Total calculations elapsed time: 4.74326062202454
Elaborating Reduced dimensionality Data Matrix - DONE
Elaborating Reduced dimensionality Data Matrix - START
Elaborating COEX Eigen Vectors - START
Elaborating COEX Eigen Vectors - DONE
Total calculations elapsed time: 5.4168336391449
Elaborating Reduced dimensionality Data Matrix - DONE
Initializing `COTAN` meta-data
Initializing `COTAN` meta-data
Genes/cells selection done: dropped [0] genes and [0] cells
Working on [10] genes and [20] cells
Estimate `dispersion`/`nu`: START
Estimate `dispersion`: START
Effective number of cores used: 1
Executing 1 genes batches
Parallel dispersion Newton-Raphson: used up to 5 iterations
Total calculations elapsed time: 4.68233609199524
Estimate `dispersion`: DONE
Estimate `dispersion`: DONE
`dispersion` | min: 0.903596292963576 | max: 4.67949426963453 | % negative: 10
Estimate `nu`: START
Effective number of cores used: 1
Executing 1 cells batches
Total calculations elapsed time: 2.50376629829407
Estimate `nu`: DONE
`nu` change (abs) | max: 1.75719246031746 | median: 1.07229953342014 | mean: 1.07229953342014
`nu` mean: 1.68489292689732
Marginal errors | max: 1.735699617106 | median 1.37997441333659 | mean: 1.32181397451301
Estimate `dispersion`: START
Effective number of cores used: 1
Executing 1 genes batches
Parallel dispersion Newton-Raphson: used up to 5 iterations
Total calculations elapsed time: 2.78097128868103
Estimate `dispersion`: DONE
Estimate `dispersion`: DONE
`dispersion` | min: 0.0655494303592343 | max: 3.54400580804152 | % negative: 10
Estimate `nu`: START
Effective number of cores used: 1
Executing 1 cells batches
Total calculations elapsed time: 1.60836338996887
Estimate `nu`: DONE
`nu` change (abs) | max: 0.402649984216273 | median: 0.231868788425666 | mean: 0.231868788425666
`nu` mean: 0.829218804209393
Marginal errors | max: 0.803248939260364 | median 0.677504196374571 | mean: 0.619386446933351
Estimate `dispersion`: START
Effective number of cores used: 1
Executing 1 genes batches
Parallel dispersion Newton-Raphson: used up to 5 iterations
Total calculations elapsed time: 3.14945697784424
Estimate `dispersion`: DONE
Estimate `dispersion`: DONE
`dispersion` | min: 0.326019058449519 | max: 4.02612397202046 | % negative: 10
Estimate `nu`: START
Effective number of cores used: 1
Executing 1 cells batches
Total calculations elapsed time: 1.63928318023682
Estimate `nu`: DONE
`nu` change (abs) | max: 0.158004893526231 | median: 0.0919692884670312 | mean: 0.0919692884670312
`nu` mean: 1.0660356050592
Marginal errors | max: 0.25067700287536 | median 0.206241644985115 | mean: 0.190402167377958
Estimate `dispersion`: START
Effective number of cores used: 1
Executing 1 genes batches
Parallel dispersion Newton-Raphson: used up to 5 iterations
Total calculations elapsed time: 2.95222496986389
Estimate `dispersion`: DONE
Estimate `dispersion`: DONE
`dispersion` | min: 0.230397316576369 | max: 3.87365659194104 | % negative: 10
Estimate `nu`: START
Effective number of cores used: 1
Executing 1 cells batches
Total calculations elapsed time: 1.70175433158875
Estimate `nu`: DONE
`nu` change (abs) | max: 0.0532774732102337 | median: 0.0308837890624999 | mean: 0.0308837890624999
`nu` mean: 0.977606315852266
Marginal errors | max: 0.0916920322976189 | median 0.0765360853958175 | mean: 0.0697673030094085
Estimate `dispersion`: START
Effective number of cores used: 1
Executing 1 genes batches
Parallel dispersion Newton-Raphson: used up to 5 iterations
Total calculations elapsed time: 2.55808877944946
Estimate `dispersion`: DONE
Estimate `dispersion`: DONE
`dispersion` | min: 0.263457616228195 | max: 3.928924407347 | % negative: 10
Estimate `nu`: START
Effective number of cores used: 1
Executing 1 cells batches
Total calculations elapsed time: 1.52558922767639
Estimate `nu`: DONE
`nu` change (abs) | max: 0.0187878665732679 | median: 0.0109155550210726 | mean: 0.0109155550210726
`nu` mean: 1.0078723115522
Marginal errors | max: 0.0315207323253404 | median 0.0261635598193228 | mean: 0.0239435763640456
Estimate `dispersion`: START
Effective number of cores used: 1
Executing 1 genes batches
Parallel dispersion Newton-Raphson: used up to 5 iterations
Total calculations elapsed time: 3.19043946266174
Estimate `dispersion`: DONE
Estimate `dispersion`: DONE
`dispersion` | min: 0.251890641847533 | max: 3.90987172241566 | % negative: 10
Estimate `nu`: START
Effective number of cores used: 1
Executing 1 cells batches
Total calculations elapsed time: 1.27545189857483
Estimate `nu`: DONE
`nu` change (abs) | max: 0.00649137083358098 | median: 0.00376680890457393 | mean: 0.00376680890457393
`nu` mean: 0.997275438070993
Marginal errors | max: 0.0109748802265024 | median 0.00912386940474796 | mean: 0.00834350038184244
Estimate `dispersion`: START
Effective number of cores used: 1
Executing 1 genes batches
Parallel dispersion Newton-Raphson: used up to 5 iterations
Total calculations elapsed time: 2.56464338302612
Estimate `dispersion`: DONE
Estimate `dispersion`: DONE
`dispersion` | min: 0.255902752363649 | max: 3.91649655995187 | % negative: 10
Estimate `nu`: START
Effective number of cores used: 1
Executing 1 cells batches
Total calculations elapsed time: 1.1727123260498
Estimate `nu`: DONE
`nu` change (abs) | max: 0.00230094227000666 | median: 0.00132529141000018 | mean: 0.00132529141000018
`nu` mean: 1.00097565086001
Marginal errors | max: 0.00376864912836616 | median 0.00313421412286008 | mean: 0.00286709489297579
Estimate `dispersion`: START
Effective number of cores used: 1
Executing 1 genes batches
Parallel dispersion Newton-Raphson: used up to 5 iterations
Total calculations elapsed time: 3.08604693412781
Estimate `dispersion`: DONE
Estimate `dispersion`: DONE
`dispersion` | min: 0.254520292119112 | max: 3.91421850264948 | % negative: 10
Estimate `nu`: START
Effective number of cores used: 1
Executing 1 cells batches
Total calculations elapsed time: 1.48727989196777
Estimate `nu`: DONE
`nu` change (abs) | max: 0.000837013154366462 | median: 0.000488281250000028 | mean: 0.000488281250000028
`nu` mean: 0.999651268095634
Marginal errors | max: 0.00144055320514802 | median 0.00119489364392944 | mean: 0.00109355439757213
Estimate `dispersion`: START
Effective number of cores used: 1
Executing 1 genes batches
Parallel dispersion Newton-Raphson: used up to 5 iterations
Total calculations elapsed time: 2.5983669757843
Estimate `dispersion`: DONE
Estimate `dispersion`: DONE
`dispersion` | min: 0.255046800817986 | max: 3.9150866760965 | % negative: 10
Estimate `nu`: START
Effective number of cores used: 1
Executing 1 cells batches
Total calculations elapsed time: 1.37801194190979
Estimate `nu`: DONE
`nu` change (abs) | max: 0.000418448154490214 | median: 0.000244140624999917 | mean: 0.000244140624999917
`nu` mean: 1.00017430752949
Marginal errors | max: 0.000715683388516908 | median 0.0005972847342397 | mean: 0.00054589991652243
Total calculations elapsed time: 85.1963090896606
Estimate `dispersion`/`nu`: DONE
While trying to load the `torch` library Error in doTryCatch(return(expr), name, parentenv, handler): The `torch` library is installed but the required additional libraries are not available yet
Calculate genes' COEX (legacy): START
Retrieving expected genes' contingency table
calculating NN.. done
calculating NY..YN..YY..t().. done
Expected genes' contingency table elapsed time: 4.64606428146362
Calculating genes' COEX normalization factor
Calculate genes' normalization factor elapsed time: 0.000576972961425781
Retrieving observed genes' yes/yes contingency table
calculating YY.. done
Observed genes' contingency table elapsed time: 0.00156307220458984
Estimating genes' COEX
Calculate genes' COEX elapsed time: 1.28799772262573
Total calculations elapsed time: 5.93620204925537
Calculate genes' COEX (legacy): DONE
Calculate cells' COEX (legacy): START
Retrieving expected cells' contingency table
calculating NN.. done
calculating YN..NY..YY..t().. done
Expected cells' contingency table elapsed time: 3.5012538433075
Calculating cells' COEX normalization factor
Calculate cells' normalization factor elapsed time: 0.000568628311157227
Retrieving observed cells' yes/yes contingency table
calculating YY.. done
Observed cells' contingency table elapsed time: 0.00148415565490723
Estimating cells' COEX
Calculate cells' COEX elapsed time: 0.915497303009033
Total calculations elapsed time: 4.41880393028259
Calculate cells' COEX (legacy): DONE
Calculate GDI dataframe: START
Using S
Calculating S: START
Calculating S: DONE
Calculate `GDI`: START
Effective number of cores used: 1
Executing 1 genes batches
Total calculations elapsed time: 0.00312542915344238
Calculate `GDI`: DONE
Total calculations elapsed time: 2.97279095649719
Calculate GDI dataframe: DONE
Calculate genes' partial COEX: START
Retrieving expected genes' partial contingency table
calculating partial NN.. done
calculating partial NY..YN..YY.. done
Calculating genes' partial COEX normalization factor
Fraction of genes with very low expected contingency tables: 0.325
Retrieving observed genes' yes/yes partial contingency table
calculating partial YY.. done
Estimating genes' partial COEX
Total calculations elapsed time: 8.85212087631226
Calculate genes' partial COEX: DONE
Calculate cells' partial COEX: START
Retrieving expected cells' partial contingency table
calculating partial NN.. done
calculating partial YN..NY..YY.. done
Calculating cells' partial COEX normalization factor
Fraction of genes with very low expected contingency tables: 0
Retrieving observed cells' yes/yes partial contingency table
calculating partial YY.. done
Estimating cells' partial COEX
Total calculations elapsed time: 10.4056377410889
Calculate cells' partial COEX: DONE
Asked to drop 2 genes and 0 cells
Asked to drop 0 genes and 4 cells
Asked to drop 2 genes and 2 cells
Genes/cells selection done: dropped [0] genes and [0] cells
Working on [10] genes and [20] cells
calculating YY.. done
calculating YY.. done
calculating YN..NY..NN..t().. done
Estimate `dispersion`: START
Effective number of cores used: 1
Executing 3 genes batches
Parallel dispersion Newton-Raphson: used up to 5 iterations
Parallel dispersion Newton-Raphson: used up to 5 iterations
Parallel dispersion Newton-Raphson: used up to 5 iterations
Total calculations elapsed time: 4.31123614311218
Estimate `dispersion`: DONE
Estimate `dispersion`: DONE
`dispersion` | min: 0.903596292963576 | max: 4.67949426963453 | % negative: 10
calculating NN.. done
calculating NN.. done
calculating NY..YN..YY..t().. done
Calculate genes' COEX (legacy): START
Retrieving expected genes' contingency table
calculating NN.. done
calculating NY..YN..YY..t().. done
Expected genes' contingency table elapsed time: 4.00900220870972
Calculating genes' COEX normalization factor
Fraction of genes' with very low expected contingency tables: 0.181818181818182
Calculate genes' normalization factor elapsed time: 0.000850439071655273
Retrieving observed genes' yes/yes contingency table
calculating YY.. done
Observed genes' contingency table elapsed time: 0.00185418128967285
Estimating genes' COEX
Calculate genes' COEX elapsed time: 1.11472463607788
Total calculations elapsed time: 5.12643146514893
Calculate genes' COEX (legacy): DONE
While trying to load the `torch` library Error in doTryCatch(return(expr), name, parentenv, handler): The `torch` library is installed but the required additional libraries are not available yet
Calculate genes' COEX (legacy): START
Retrieving expected genes' contingency table
calculating NN.. done
calculating NY..YN..YY..t().. done
Expected genes' contingency table elapsed time: 3.61815524101257
Calculating genes' COEX normalization factor
Calculate genes' normalization factor elapsed time: 0.00061345100402832
Retrieving observed genes' yes/yes contingency table
calculating YY.. done
Observed genes' contingency table elapsed time: 0.00147461891174316
Estimating genes' COEX
Calculate genes' COEX elapsed time: 1.1532130241394
Total calculations elapsed time: 4.77345633506775
Calculate genes' COEX (legacy): DONE
Calculate genes' partial COEX: START
Retrieving expected genes' partial contingency table
calculating partial NN.. done
calculating partial NY..YN..YY.. done
Calculating genes' partial COEX normalization factor
Fraction of genes with very low expected contingency tables: 0.1
Retrieving observed genes' yes/yes partial contingency table
calculating partial YY.. done
Estimating genes' partial COEX
Total calculations elapsed time: 7.70391178131104
Calculate genes' partial COEX: DONE
Calculate genes' partial COEX: START
Retrieving expected genes' partial contingency table
calculating partial NN.. done
calculating partial NY..YN..YY.. done
Calculating genes' partial COEX normalization factor
Fraction of genes with very low expected contingency tables: 0.4
Retrieving observed genes' yes/yes partial contingency table
calculating partial YY.. done
Estimating genes' partial COEX
Total calculations elapsed time: 8.59491539001465
Calculate genes' partial COEX: DONE
Genes/cells selection done: dropped [0] genes and [0] cells
Working on [10] genes and [20] cells
calculating YY.. done
calculating YY.. done
calculating NY..YN..NN..t().. done
Estimate `dispersion`/`nu`: START
Estimate `dispersion`: START
Effective number of cores used: 1
Executing 3 genes batches
Parallel dispersion Newton-Raphson: used up to 5 iterations
Parallel dispersion Newton-Raphson: used up to 5 iterations
Parallel dispersion Newton-Raphson: used up to 5 iterations
Total calculations elapsed time: 4.94044971466064
Estimate `dispersion`: DONE
Estimate `dispersion`: DONE
`dispersion` | min: 0.903596292963576 | max: 4.67949426963453 | % negative: 10
Estimate `nu`: START
Effective number of cores used: 1
Executing 5 cells batches
Total calculations elapsed time: 0.995733976364136
Estimate `nu`: DONE
`nu` change (abs) | max: 1.75719246031746 | median: 1.07229953342014 | mean: 1.07229953342014
`nu` mean: 1.68489292689732
Marginal errors | max: 0.255290533439036 | median 0.080731376500534 | mean: 0.101968565509112
Estimate `dispersion`: START
Effective number of cores used: 1
Executing 3 genes batches
Parallel dispersion Newton-Raphson: used up to 5 iterations
Parallel dispersion Newton-Raphson: used up to 5 iterations
Parallel dispersion Newton-Raphson: used up to 5 iterations
Total calculations elapsed time: 3.91939544677734
Estimate `dispersion`: DONE
Estimate `dispersion`: DONE
`dispersion` | min: 1.03709166563768 | max: 4.61069655774133 | % negative: 10
Estimate `nu`: START
Effective number of cores used: 1
Executing 5 cells batches
Total calculations elapsed time: 0.86242151260376
Estimate `nu`: DONE
`nu` change (abs) | max: 0.0273438105507502 | median: 0.0148852611818011 | mean: 0.0148852611818011
`nu` mean: 1.69735147626627
Marginal errors | max: 0.00330148418741594 | median 0.00111713187082163 | mean: 0.00132007186542964
Estimate `dispersion`: START
Effective number of cores used: 1
Executing 3 genes batches
Parallel dispersion Newton-Raphson: used up to 5 iterations
Parallel dispersion Newton-Raphson: used up to 5 iterations
Parallel dispersion Newton-Raphson: used up to 5 iterations
Total calculations elapsed time: 3.51290059089661
Estimate `dispersion`: DONE
Estimate `dispersion`: DONE
`dispersion` | min: 1.03887279473672 | max: 4.60974134092906 | % negative: 10
Estimate `nu`: START
Effective number of cores used: 1
Executing 5 cells batches
Total calculations elapsed time: 0.976016521453857
Estimate `nu`: DONE
`nu` change (abs) | max: 0 | median: 0 | mean: 0
`nu` mean: 1.69735147626627
Marginal errors | max: 5.14174422185931e-05 | median 1.6818224857218e-07 | mean: 5.57649710835051e-06
Total calculations elapsed time: 23.8795740604401
Estimate `dispersion`/`nu`: DONE
calculating NN.. done
calculating NN.. done
calculating YN..NY..YY..t().. done
Calculate cells' COEX (legacy): START
Retrieving expected cells' contingency table
calculating NN.. done
calculating YN..NY..YY..t().. done
Expected cells' contingency table elapsed time: 2.75946307182312
Calculating cells' COEX normalization factor
Fraction of cells' with very low expected contingency tables: 0
Calculate cells' normalization factor elapsed time: 0.000653266906738281
Retrieving observed cells' yes/yes contingency table
calculating YY.. done
Observed cells' contingency table elapsed time: 0.00135517120361328
Estimating cells' COEX
Calculate cells' COEX elapsed time: 0.825984239578247
Total calculations elapsed time: 3.58745574951172
Calculate cells' COEX (legacy): DONE
Calculate cells' partial COEX: START
Retrieving expected cells' partial contingency table
calculating partial NN.. done
calculating partial YN..NY..YY.. done
Calculating cells' partial COEX normalization factor
Fraction of genes with very low expected contingency tables: 0
Retrieving observed cells' yes/yes partial contingency table
calculating partial YY.. done
Estimating cells' partial COEX
Total calculations elapsed time: 7.00952434539795
Calculate cells' partial COEX: DONE
Calculate cells' partial COEX: START
Retrieving expected cells' partial contingency table
calculating partial NN.. done
calculating partial YN..NY..YY.. done
Calculating cells' partial COEX normalization factor
Fraction of genes with very low expected contingency tables: 0
Retrieving observed cells' yes/yes partial contingency table
calculating partial YY.. done
Estimating cells' partial COEX
Total calculations elapsed time: 7.81365084648132
Calculate cells' partial COEX: DONE
Genes/cells selection done: dropped [0] genes and [0] cells
Working on [10] genes and [20] cells
Estimate `dispersion`/`nu`: START
Estimate `dispersion`: START
Effective number of cores used: 1
Executing 3 genes batches
Parallel dispersion Newton-Raphson: used up to 5 iterations
Parallel dispersion Newton-Raphson: used up to 5 iterations
Parallel dispersion Newton-Raphson: used up to 5 iterations
Total calculations elapsed time: 3.54350972175598
Estimate `dispersion`: DONE
Estimate `dispersion`: DONE
`dispersion` | min: 0.903596292963576 | max: 4.67949426963453 | % negative: 10
Estimate `nu`: START
Effective number of cores used: 1
Executing 5 cells batches
Total calculations elapsed time: 0.99100661277771
Estimate `nu`: DONE
`nu` change (abs) | max: 1.75719246031746 | median: 1.07229953342014 | mean: 1.07229953342014
`nu` mean: 1.68489292689732
Marginal errors | max: 0.255290533439036 | median 0.080731376500534 | mean: 0.101968565509112
Estimate `dispersion`: START
Effective number of cores used: 1
Executing 3 genes batches
Parallel dispersion Newton-Raphson: used up to 5 iterations
Parallel dispersion Newton-Raphson: used up to 5 iterations
Parallel dispersion Newton-Raphson: used up to 5 iterations
Total calculations elapsed time: 3.27641940116882
Estimate `dispersion`: DONE
Estimate `dispersion`: DONE
`dispersion` | min: 1.03709166563768 | max: 4.61069655774133 | % negative: 10
Estimate `nu`: START
Effective number of cores used: 1
Executing 5 cells batches
Total calculations elapsed time: 0.924670219421387
Estimate `nu`: DONE
`nu` change (abs) | max: 0.0273438105507502 | median: 0.0148852611818011 | mean: 0.0148852611818011
`nu` mean: 1.69735147626627
Marginal errors | max: 0.00330148418741594 | median 0.00111713187082163 | mean: 0.00132007186542964
Estimate `dispersion`: START
Effective number of cores used: 1
Executing 3 genes batches
Parallel dispersion Newton-Raphson: used up to 5 iterations
Parallel dispersion Newton-Raphson: used up to 5 iterations
Parallel dispersion Newton-Raphson: used up to 5 iterations
Total calculations elapsed time: 3.65753293037415
Estimate `dispersion`: DONE
Estimate `dispersion`: DONE
`dispersion` | min: 1.03887279473672 | max: 4.60974134092906 | % negative: 10
Estimate `nu`: START
Effective number of cores used: 1
Executing 5 cells batches
Total calculations elapsed time: 0.857003211975098
Estimate `nu`: DONE
`nu` change (abs) | max: 0 | median: 0 | mean: 0
`nu` mean: 1.69735147626627
Marginal errors | max: 5.14174422185931e-05 | median 1.6818224857218e-07 | mean: 5.57649710835051e-06
Total calculations elapsed time: 21.3361899852753
Estimate `dispersion`/`nu`: DONE
Calculate genes' COEX (legacy): START
Retrieving expected genes' contingency table
calculating NN.. done
calculating NY..YN..YY..t().. done
Expected genes' contingency table elapsed time: 3.02630686759949
Calculating genes' COEX normalization factor
Calculate genes' normalization factor elapsed time: 0.000539541244506836
Retrieving observed genes' yes/yes contingency table
calculating YY.. done
Observed genes' contingency table elapsed time: 0.00136518478393555
Estimating genes' COEX
Calculate genes' COEX elapsed time: 0.902239084243774
Total calculations elapsed time: 3.9304506778717
Calculate genes' COEX (legacy): DONE
Calculating S: START
Calculating S: DONE
Calculating G: START
calculating YY.. done
calculating YN..NY..NN..t().. done
calculating NN.. done
calculating NY..YN..YY..t().. done
Estimating G
Total calculations elapsed time: 6.16977620124817
Calculating G: DONE
Using S
Calculating S: START
Calculating S: DONE
calculating PValues: START
Get p-values genome wide on columns and genome wide on rows
Total calculations elapsed time: 0.00245070457458496
calculating PValues: DONE
Using G
Calculating G: START
calculating YY.. done
calculating YN..NY..NN..t().. done
calculating NN.. done
calculating NY..YN..YY..t().. done
Estimating G
Total calculations elapsed time: 6.67902183532715
Calculating G: DONE
calculating PValues: START
Get p-values on a set of genes on columns and on a set of genes on rows
Total calculations elapsed time: 6.6802237033844
calculating PValues: DONE
Calculate GDI dataframe: START
Using S
Calculating S: START
Calculating S: DONE
Calculate `GDI`: START
Effective number of cores used: 1
Executing 1 genes batches
Total calculations elapsed time: 0.00302243232727051
Calculate `GDI`: DONE
Total calculations elapsed time: 3.33250784873962
Calculate GDI dataframe: DONE
Calculate GDI dataframe: START
Using G
Calculating G: START
calculating YY.. done
calculating YN..NY..NN..t().. done
calculating NN.. done
calculating NY..YN..YY..t().. done
Estimating G
Total calculations elapsed time: 6.47061252593994
Calculating G: DONE
Calculate `GDI`: START
Effective number of cores used: 1
Executing 1 genes batches
Total calculations elapsed time: 0.00336337089538574
Calculate `GDI`: DONE
Total calculations elapsed time: 9.46719765663147
Calculate GDI dataframe: DONE
Calculate `GDI`: START
Calculating S: START
Calculating S: DONE
Effective number of cores used: 1
Executing 1 genes batches
Total calculations elapsed time: 0.00497579574584961
Calculate `GDI`: DONE
Calculate `GDI`: START
Effective number of cores used: 1
Executing 1 genes batches
Total calculations elapsed time: 0.00404667854309082
Calculate `GDI`: DONE
Initializing `COTAN` meta-data
COTAN dataset analysis: START
Genes/cells selection done: dropped [0] genes and [0] cells
Working on [600] genes and [1000] cells
Dataset cleaning elapsed time: 1.16837573051453
Estimate `dispersion`: START
Effective number of cores used: 1
Executing 1 genes batches
Parallel dispersion Newton-Raphson: used up to 7 iterations
Total calculations elapsed time: 2.29158020019531
Estimate `dispersion`: DONE
Estimate `dispersion`: DONE
`dispersion` | min: -0.0529252975916502 | max: 462.908586418992 | % negative: 17.3333333333333
Model parameter estimation elapsed time: 3.19273686408997
COTAN genes' COEX estimation: START
While trying to load the `torch` library Error in doTryCatch(return(expr), name, parentenv, handler): The `torch` library is installed but the required additional libraries are not available yet
Calculate genes' COEX (legacy): START
Retrieving expected genes' contingency table
calculating NN.. done
calculating NY..YN..YY..t().. done
Expected genes' contingency table elapsed time: 3.0809428691864
Calculating genes' COEX normalization factor
Calculate genes' normalization factor elapsed time: 0.00586485862731934
Retrieving observed genes' yes/yes contingency table
calculating YY.. done
Observed genes' contingency table elapsed time: 0.0611701011657715
Estimating genes' COEX
Calculate genes' COEX elapsed time: 0.847530841827393
Total calculations elapsed time: 3.99550867080688
Calculate genes' COEX (legacy): DONE
Only genes' COEX elapsed time: 4.91050004959106
Dataset analysis elapsed time: 9.27161264419556
COTAN dataset analysis: DONE
Initializing `COTAN` meta-data
Condition test
n cells 1000
COTAN dataset analysis: START
Genes/cells selection done: dropped [0] genes and [0] cells
Working on [600] genes and [1000] cells
Dataset cleaning elapsed time: 1.0046272277832
Estimate `dispersion`: START
Effective number of cores used: 1
Executing 1 genes batches
Parallel dispersion Newton-Raphson: used up to 7 iterations
Total calculations elapsed time: 2.04641366004944
Estimate `dispersion`: DONE
Estimate `dispersion`: DONE
`dispersion` | min: -0.0529252975916502 | max: 462.908586418992 | % negative: 17.3333333333333
Model parameter estimation elapsed time: 2.9406533241272
COTAN genes' COEX estimation: START
While trying to load the `torch` library Error in doTryCatch(return(expr), name, parentenv, handler): The `torch` library is installed but the required additional libraries are not available yet
Calculate genes' COEX (legacy): START
Retrieving expected genes' contingency table
calculating NN.. done
calculating NY..YN..YY..t().. done
Expected genes' contingency table elapsed time: 3.14774918556213
Calculating genes' COEX normalization factor
Calculate genes' normalization factor elapsed time: 0.00560832023620605
Retrieving observed genes' yes/yes contingency table
calculating YY.. done
Observed genes' contingency table elapsed time: 0.0610506534576416
Estimating genes' COEX
Calculate genes' COEX elapsed time: 0.868402481079102
Total calculations elapsed time: 4.08281064033508
Calculate genes' COEX (legacy): DONE
Only genes' COEX elapsed time: 4.97509145736694
Dataset analysis elapsed time: 8.92037200927734
COTAN dataset analysis: DONE
Using S
Calculating S: START
Calculating S: DONE
calculating PValues: START
Get p-values on a set of genes on columns and on a set of genes on rows
Total calculations elapsed time: 0.0199346542358398
calculating PValues: DONE
Calculate GDI dataframe: START
Using S
Calculating S: START
Calculating S: DONE
Calculate `GDI`: START
Effective number of cores used: 1
Executing 1 genes batches
Total calculations elapsed time: 0.0302908420562744
Calculate `GDI`: DONE
Total calculations elapsed time: 2.99218344688416
Calculate GDI dataframe: DONE
Initializing `COTAN` meta-data
Condition test
n cells 1000
COTAN dataset analysis: START
Genes/cells selection done: dropped [0] genes and [0] cells
Working on [600] genes and [1000] cells
Dataset cleaning elapsed time: 1.14455556869507
Estimate `dispersion`: START
Effective number of cores used: 1
Executing 1 genes batches
Parallel dispersion Newton-Raphson: used up to 7 iterations
Total calculations elapsed time: 2.39279437065125
Estimate `dispersion`: DONE
Estimate `dispersion`: DONE
`dispersion` | min: -0.0529252975916502 | max: 462.908586418992 | % negative: 17.3333333333333
Model parameter estimation elapsed time: 3.64361763000488
COTAN genes' COEX estimation: START
While trying to load the `torch` library Error in doTryCatch(return(expr), name, parentenv, handler): The `torch` library is installed but the required additional libraries are not available yet
Calculate genes' COEX (legacy): START
Retrieving expected genes' contingency table
calculating NN.. done
calculating NY..YN..YY..t().. done
Expected genes' contingency table elapsed time: 3.8503360748291
Calculating genes' COEX normalization factor
Calculate genes' normalization factor elapsed time: 0.00818395614624023
Retrieving observed genes' yes/yes contingency table
calculating YY.. done
Observed genes' contingency table elapsed time: 0.0640926361083984
Estimating genes' COEX
Calculate genes' COEX elapsed time: 1.30923867225647
Total calculations elapsed time: 5.23185133934021
Calculate genes' COEX (legacy): DONE
Only genes' COEX elapsed time: 6.28993558883667
Dataset analysis elapsed time: 11.0781087875366
COTAN dataset analysis: DONE
Using S
Calculating S: START
Calculating S: DONE
calculating PValues: START
Get p-values on a set of genes on columns and genome wide on rows
Total calculations elapsed time: 0.0158262252807617
calculating PValues: DONE
Calculate GDI dataframe: START
Using S
Calculating S: START
Calculating S: DONE
Calculate `GDI`: START
Effective number of cores used: 1
Executing 1 genes batches
Total calculations elapsed time: 0.0319766998291016
Calculate `GDI`: DONE
Total calculations elapsed time: 3.03652834892273
Calculate GDI dataframe: DONE
Initializing `COTAN` meta-data
Condition test
n cells 1000
COTAN dataset analysis: START
Genes/cells selection done: dropped [0] genes and [0] cells
Working on [600] genes and [1000] cells
Dataset cleaning elapsed time: 0.918826818466187
Estimate `dispersion`: START
Effective number of cores used: 1
Executing 1 genes batches
Parallel dispersion Newton-Raphson: used up to 7 iterations
Total calculations elapsed time: 1.99544358253479
Estimate `dispersion`: DONE
Estimate `dispersion`: DONE
`dispersion` | min: -0.0529252975916502 | max: 462.908586418992 | % negative: 17.3333333333333
Model parameter estimation elapsed time: 2.94147443771362
COTAN genes' COEX estimation: START
While trying to load the `torch` library Error in doTryCatch(return(expr), name, parentenv, handler): The `torch` library is installed but the required additional libraries are not available yet
Calculate genes' COEX (legacy): START
Retrieving expected genes' contingency table
calculating NN.. done
calculating NY..YN..YY..t().. done
Expected genes' contingency table elapsed time: 2.91407132148743
Calculating genes' COEX normalization factor
Calculate genes' normalization factor elapsed time: 0.00550460815429688
Retrieving observed genes' yes/yes contingency table
calculating YY.. done
Observed genes' contingency table elapsed time: 0.0616531372070312
Estimating genes' COEX
Calculate genes' COEX elapsed time: 0.844021081924438
Total calculations elapsed time: 3.82525014877319
Calculate genes' COEX (legacy): DONE
Only genes' COEX elapsed time: 4.70902156829834
Dataset analysis elapsed time: 8.56932282447815
COTAN dataset analysis: DONE
Using S
Calculating S: START
Calculating S: DONE
calculating PValues: START
Get p-values on a set of genes on columns and on a set of genes on rows
Total calculations elapsed time: 0.00524139404296875
calculating PValues: DONE
Calculate GDI dataframe: START
Using S
Calculating S: START
Calculating S: DONE
Calculate `GDI`: START
Effective number of cores used: 1
Executing 1 genes batches
Total calculations elapsed time: 0.0310471057891846
Calculate `GDI`: DONE
Total calculations elapsed time: 2.70970702171326
Calculate GDI dataframe: DONE
Initializing `COTAN` meta-data
Asked to drop 0 genes and 960 cells
COTAN dataset analysis: START
Asked to drop 83 genes and 0 cells
Genes/cells selection done: dropped [83] genes and [0] cells
Working on [517] genes and [40] cells
Dataset cleaning elapsed time: 0.915738344192505
Estimate `dispersion`: START
Effective number of cores used: 1
Executing 1 genes batches
Parallel dispersion Newton-Raphson: used up to 7 iterations
Total calculations elapsed time: 1.93520259857178
Estimate `dispersion`: DONE
Estimate `dispersion`: DONE
`dispersion` | min: -0.267567793681876 | max: 101.923257389521 | % negative: 52.6112185686654
Model parameter estimation elapsed time: 2.82499170303345
COTAN genes' COEX estimation not requested
Only genes' COEX elapsed time: 0.918069124221802
Dataset analysis elapsed time: 4.65879917144775
COTAN dataset analysis: DONE
Calculate genes' COEX (legacy): START
Retrieving expected genes' contingency table
calculating NN.. done
calculating NY..YN..YY..t().. done
Expected genes' contingency table elapsed time: 2.60006618499756
Calculating genes' COEX normalization factor
Calculate genes' normalization factor elapsed time: 0.00515437126159668
Retrieving observed genes' yes/yes contingency table
calculating YY.. done
Observed genes' contingency table elapsed time: 0.0124707221984863
Estimating genes' COEX
Calculate genes' COEX elapsed time: 0.988679170608521
Total calculations elapsed time: 3.60637044906616
Calculate genes' COEX (legacy): DONE
While trying to load the `torch` library Error in doTryCatch(return(expr), name, parentenv, handler): The `torch` library is installed but the required additional libraries are not available yet
Calculate genes' COEX (legacy): START
Retrieving expected genes' contingency table
calculating NN.. done
calculating NY..YN..YY..t().. done
Expected genes' contingency table elapsed time: 3.0113513469696
Calculating genes' COEX normalization factor
Calculate genes' normalization factor elapsed time: 0.00543498992919922
Retrieving observed genes' yes/yes contingency table
calculating YY.. done
Observed genes' contingency table elapsed time: 0.0126438140869141
Estimating genes' COEX
Calculate genes' COEX elapsed time: 0.975220680236816
Total calculations elapsed time: 4.00465083122253
Calculate genes' COEX (legacy): DONE
While trying to load the `torch` library Error in doTryCatch(return(expr), name, parentenv, handler): The `torch` library is installed but the required additional libraries are not available yet
Calculate genes' COEX (legacy): START
Retrieving expected genes' contingency table
calculating NN.. done
calculating NY..YN..YY..t().. done
Expected genes' contingency table elapsed time: 2.50275611877441
Calculating genes' COEX normalization factor
Calculate genes' normalization factor elapsed time: 0.00482892990112305
Retrieving observed genes' yes/yes contingency table
calculating YY.. done
Observed genes' contingency table elapsed time: 0.0124154090881348
Estimating genes' COEX
Calculate genes' COEX elapsed time: 0.897743940353394
Total calculations elapsed time: 3.41774439811707
Calculate genes' COEX (legacy): DONE
Hangling COTAN object with condition: test
Using S
Calculating S: START
Calculating S: DONE
calculating PValues: START
Get p-values on a set of genes on columns and on a set of genes on rows
Total calculations elapsed time: 0.00402069091796875
calculating PValues: DONE
Handling genes type: G2
Handling genes type: G3
Initializing `COTAN` meta-data
COTAN dataset analysis: START
Genes/cells selection done: dropped [0] genes and [0] cells
Working on [600] genes and [1000] cells
Clean plots: START
PCA: START
PCA: DONE
Hierarchical clustering: START
Hierarchical clustering: DONE
Total calculations elapsed time: 1.91433000564575
Clean plots: DONE
Dataset cleaning elapsed time: 4.00742149353027
Estimate `dispersion`: START
Effective number of cores used: 1
Executing 1 genes batches
Parallel dispersion Newton-Raphson: used up to 7 iterations
Total calculations elapsed time: 1.89797949790955
Estimate `dispersion`: DONE
Estimate `dispersion`: DONE
`dispersion` | min: -0.0529252975916502 | max: 462.908586418992 | % negative: 17.3333333333333
Model parameter estimation elapsed time: 2.74662470817566
COTAN genes' COEX estimation: START
While trying to load the `torch` library Error in doTryCatch(return(expr), name, parentenv, handler): The `torch` library is installed but the required additional libraries are not available yet
Calculate genes' COEX (legacy): START
Retrieving expected genes' contingency table
calculating NN.. done
calculating NY..YN..YY..t().. done
Expected genes' contingency table elapsed time: 2.90226244926453
Calculating genes' COEX normalization factor
Calculate genes' normalization factor elapsed time: 0.00646710395812988
Retrieving observed genes' yes/yes contingency table
calculating YY.. done
Observed genes' contingency table elapsed time: 0.0647530555725098
Estimating genes' COEX
Calculate genes' COEX elapsed time: 0.828215599060059
Total calculations elapsed time: 3.80169820785522
Calculate genes' COEX (legacy): DONE
Only genes' COEX elapsed time: 4.66587257385254
Dataset analysis elapsed time: 11.4199187755585
COTAN dataset analysis: DONE
Saving elaborated data locally at: /tmp/RtmpxlBZkb/test.cotan.RDS
Creating new clusterization: START
Elaborating Reduced dimensionality Data Matrix - START
Elaborating COEX Eigen Vectors - START
Elaborating COEX Eigen Vectors - DONE
Total calculations elapsed time: 2.72395467758179
Elaborating Reduced dimensionality Data Matrix - DONE
Computing nearest neighbor graph
Computing SNN
Modularity Optimizer version 1.3.0 by Ludo Waltman and Nees Jan van Eck
Number of nodes: 1000
Number of edges: 44886
Running Louvain algorithm with multilevel refinement...
0% 10 20 30 40 50 60 70 80 90 100%
[----|----|----|----|----|----|----|----|----|----|
**************************************************|
Maximum modularity in 10 random starts: 0.4008
Number of communities: 4
Elapsed time: 0 seconds
Used resolution for Seurat clusterization is: 1.3
Total calculations elapsed time: 3.63830018043518
Creating new clusterization: DONE
Creating cells' uniform clustering: START
In iteration 1 the number of cells to re-cluster is 1000 cells belonging to 0 clusters
Asked to drop no genes or cells
Creating new clusterization: START
Elaborating Reduced dimensionality Data Matrix - START
Elaborating COEX Eigen Vectors - START
Elaborating COEX Eigen Vectors - DONE
Total calculations elapsed time: 2.86875510215759
Elaborating Reduced dimensionality Data Matrix - DONE
Computing nearest neighbor graph
Computing SNN
Modularity Optimizer version 1.3.0 by Ludo Waltman and Nees Jan van Eck
Number of nodes: 1000
Number of edges: 36652
Running Louvain algorithm with multilevel refinement...
0% 10 20 30 40 50 60 70 80 90 100%
[----|----|----|----|----|----|----|----|----|----|
**************************************************|
Maximum modularity in 10 random starts: 0.3743
Number of communities: 4
Elapsed time: 0 seconds
Used resolution for Seurat clusterization is: 1.3
Total calculations elapsed time: 3.69268584251404
Creating new clusterization: DONE
Creating PDF UMAP in file: /tmp/RtmpxlBZkb/test/reclustering/pdf_umap_1.pdf
UMAP plot: START
Calculating UMAP: START
22:52:11 UMAP embedding parameters a = 0.9922 b = 1.112
22:52:11 Read 1000 rows and found 65 numeric columns
22:52:11 Using Annoy for neighbor search, n_neighbors = 30
22:52:11 Building Annoy index with metric = cosine, n_trees = 50
0% 10 20 30 40 50 60 70 80 90 100%
[----|----|----|----|----|----|----|----|----|----|
**************************************************|
22:52:11 Writing NN index file to temp file /tmp/RtmpxlBZkb/file1e8bfb18505608
22:52:11 Searching Annoy index using 1 thread, search_k = 3000
22:52:11 Annoy recall = 100%
22:52:12 Commencing smooth kNN distance calibration using 1 thread with target n_neighbors = 30
22:52:14 Initializing from normalized Laplacian + noise (using RSpectra)
22:52:14 Commencing optimization for 500 epochs, with 39044 positive edges
22:52:14 Using rng type: pcg
Using method 'umap'
0% 10 20 30 40 50 60 70 80 90 100%
[----|----|----|----|----|----|----|----|----|----|
**************************************************|
22:52:16 Optimization finished
Calculating UMAP: DONE
Total calculations elapsed time: 5.53754472732544
UMAP plot: DONE
UMAP plot: START
Calculating UMAP: START
22:52:17 UMAP embedding parameters a = 0.9922 b = 1.112
22:52:17 Read 1000 rows and found 65 numeric columns
22:52:17 Using Annoy for neighbor search, n_neighbors = 30
22:52:17 Building Annoy index with metric = cosine, n_trees = 50
0% 10 20 30 40 50 60 70 80 90 100%
[----|----|----|----|----|----|----|----|----|----|
**************************************************|
22:52:17 Writing NN index file to temp file /tmp/RtmpxlBZkb/file1e8bfb633cc482
22:52:17 Searching Annoy index using 1 thread, search_k = 3000
22:52:17 Annoy recall = 100%
22:52:18 Commencing smooth kNN distance calibration using 1 thread with target n_neighbors = 30
22:52:20 Initializing from normalized Laplacian + noise (using RSpectra)
22:52:20 Commencing optimization for 500 epochs, with 39044 positive edges
22:52:20 Using rng type: pcg
Using method 'umap'
0% 10 20 30 40 50 60 70 80 90 100%
[----|----|----|----|----|----|----|----|----|----|
**************************************************|
22:52:22 Optimization finished
Calculating UMAP: DONE
Total calculations elapsed time: 5.63752603530884
UMAP plot: DONE
* checking uniformity of cluster '0' of 4 clusters
Asked to drop 0 genes and 687 cells
COTAN dataset analysis: START
Asked to drop 43 genes and 0 cells
Genes/cells selection done: dropped [43] genes and [0] cells
Working on [557] genes and [313] cells
Dataset cleaning elapsed time: 0.99138879776001
Estimate `dispersion`: START
Effective number of cores used: 1
Executing 1 genes batches
Parallel dispersion Newton-Raphson: used up to 11 iterations
Total calculations elapsed time: 1.83380389213562
Estimate `dispersion`: DONE
Estimate `dispersion`: DONE
`dispersion` | min: -0.126565269702225 | max: 788.372048308528 | % negative: 38.5996409335727
Model parameter estimation elapsed time: 2.72192573547363
COTAN genes' COEX estimation: START
While trying to load the `torch` library Error in doTryCatch(return(expr), name, parentenv, handler): The `torch` library is installed but the required additional libraries are not available yet
Calculate genes' COEX (legacy): START
Retrieving expected genes' contingency table
calculating NN.. done
calculating NY..YN..YY..t().. done
Expected genes' contingency table elapsed time: 2.7249698638916
Calculating genes' COEX normalization factor
Calculate genes' normalization factor elapsed time: 0.00533795356750488
Retrieving observed genes' yes/yes contingency table
calculating YY.. done
Observed genes' contingency table elapsed time: 0.0304627418518066
Estimating genes' COEX
Calculate genes' COEX elapsed time: 0.878857612609863
Total calculations elapsed time: 3.63962817192078
Calculate genes' COEX (legacy): DONE
Only genes' COEX elapsed time: 4.54468679428101
Dataset analysis elapsed time: 8.25800132751465
COTAN dataset analysis: DONE
Checking uniformity for the cluster '01_0000' with 313 cells
Calculate GDI dataframe: START
Using S
Calculating S: START
Calculating S: DONE
Calculate `GDI`: START
Effective number of cores used: 1
Executing 1 genes batches
Total calculations elapsed time: 0.0282418727874756
Calculate `GDI`: DONE
Total calculations elapsed time: 2.60432505607605
Calculate GDI dataframe: DONE
Clean plots: START
Total calculations elapsed time: 0.0350093841552734
Clean plots: DONE
GDI plot
Removed 0 low GDI genes (such as the fully-expressed) in GDI plot
Cluster 01_0000, with size 313, is uniform
Cluster 01_0000's shift to uniformity: -0.0175178017151365
class = AdvancedGDIUniformityCheck, firstCheck.isCheckAbove = FALSE, firstCheck.GDIThreshold = 1.397, firstCheck.maxRatioBeyond = 0.05, firstCheck.maxRankBeyond = 0, firstCheck.fractionBeyond = 0.0412926391382406, firstCheck.thresholdRank = 0, firstCheck.quantileAtRatio = 1.37948219828486, firstCheck.quantileAtRank = NaN, secondCheck.isCheckAbove = TRUE, secondCheck.GDIThreshold = 1.407, secondCheck.maxRatioBeyond = 0.02, secondCheck.maxRankBeyond = 0, secondCheck.fractionBeyond = 0.0323159784560144, secondCheck.thresholdRank = 0, secondCheck.quantileAtRatio = 1.43089123341141, secondCheck.quantileAtRank = NaN, thirdCheck.isCheckAbove = FALSE, thirdCheck.GDIThreshold = 1.5, thirdCheck.maxRatioBeyond = 0.01, thirdCheck.maxRankBeyond = 0, thirdCheck.fractionBeyond = 0.00179533213644524, thirdCheck.thresholdRank = 0, thirdCheck.quantileAtRatio = 1.44383613651627, thirdCheck.quantileAtRank = NaN, fourthCheck.isCheckAbove = FALSE, fourthCheck.GDIThreshold = 1.5, fourthCheck.maxRatioBeyond = NaN, fourthCheck.maxRankBeyond = 2, fourthCheck.fractionBeyond = NaN, fourthCheck.thresholdRank = 1, fourthCheck.quantileAtRatio = NaN, fourthCheck.quantileAtRank = 1.47612588512221, isUniform = TRUE, clusterSize = 313
cluster 01_0000 is uniform
* checking uniformity of cluster '1' of 4 clusters
Asked to drop 0 genes and 743 cells
COTAN dataset analysis: START
Asked to drop 51 genes and 0 cells
Genes/cells selection done: dropped [51] genes and [0] cells
Working on [549] genes and [257] cells
Dataset cleaning elapsed time: 0.892786026000977
Estimate `dispersion`: START
Effective number of cores used: 1
Executing 1 genes batches
Parallel dispersion Newton-Raphson: used up to 10 iterations
Total calculations elapsed time: 1.81959104537964
Estimate `dispersion`: DONE
Estimate `dispersion`: DONE
`dispersion` | min: -0.112503099391263 | max: 646.681464270838 | % negative: 40.8014571948998
Model parameter estimation elapsed time: 2.75822448730469
COTAN genes' COEX estimation: START
While trying to load the `torch` library Error in doTryCatch(return(expr), name, parentenv, handler): The `torch` library is installed but the required additional libraries are not available yet
Calculate genes' COEX (legacy): START
Retrieving expected genes' contingency table
calculating NN.. done
calculating NY..YN..YY..t().. done
Expected genes' contingency table elapsed time: 2.683021068573
Calculating genes' COEX normalization factor
Calculate genes' normalization factor elapsed time: 0.00499415397644043
Retrieving observed genes' yes/yes contingency table
calculating YY.. done
Observed genes' contingency table elapsed time: 0.0280361175537109
Estimating genes' COEX
Calculate genes' COEX elapsed time: 0.887762784957886
Total calculations elapsed time: 3.60381412506104
Calculate genes' COEX (legacy): DONE
Only genes' COEX elapsed time: 4.53468918800354
Dataset analysis elapsed time: 8.1856997013092
COTAN dataset analysis: DONE
Checking uniformity for the cluster '01_0001' with 257 cells
Calculate GDI dataframe: START
Using S
Calculating S: START
Calculating S: DONE
Calculate `GDI`: START
Effective number of cores used: 1
Executing 1 genes batches
Total calculations elapsed time: 0.0272784233093262
Calculate `GDI`: DONE
Total calculations elapsed time: 2.68132948875427
Calculate GDI dataframe: DONE
Clean plots: START
Total calculations elapsed time: 0.0350806713104248
Clean plots: DONE
GDI plot
Removed 1 low GDI genes (such as the fully-expressed) in GDI plot
Cluster 01_0001, with size 257, is uniform
Cluster 01_0001's shift to uniformity: -0.0466523594846431
class = AdvancedGDIUniformityCheck, firstCheck.isCheckAbove = FALSE, firstCheck.GDIThreshold = 1.397, firstCheck.maxRatioBeyond = 0.05, firstCheck.maxRankBeyond = 0, firstCheck.fractionBeyond = 0.00910746812386157, firstCheck.thresholdRank = 0, firstCheck.quantileAtRatio = 1.35034764051536, firstCheck.quantileAtRank = NaN, secondCheck.isCheckAbove = TRUE, secondCheck.GDIThreshold = 1.407, secondCheck.maxRatioBeyond = 0.02, secondCheck.maxRankBeyond = 0, secondCheck.fractionBeyond = 0.00728597449908925, secondCheck.thresholdRank = 0, secondCheck.quantileAtRatio = 1.37278730407697, secondCheck.quantileAtRank = NaN, thirdCheck.isCheckAbove = FALSE, thirdCheck.GDIThreshold = 1.5, thirdCheck.maxRatioBeyond = 0.01, thirdCheck.maxRankBeyond = 0, thirdCheck.fractionBeyond = 0, thirdCheck.thresholdRank = 0, thirdCheck.quantileAtRatio = 1.38664163146849, thirdCheck.quantileAtRank = NaN, fourthCheck.isCheckAbove = FALSE, fourthCheck.GDIThreshold = 1.5, fourthCheck.maxRatioBeyond = NaN, fourthCheck.maxRankBeyond = 2, fourthCheck.fractionBeyond = NaN, fourthCheck.thresholdRank = 0, fourthCheck.quantileAtRatio = NaN, fourthCheck.quantileAtRank = 1.45240567481124, isUniform = TRUE, clusterSize = 257
cluster 01_0001 is uniform
* checking uniformity of cluster '2' of 4 clusters
Asked to drop 0 genes and 758 cells
COTAN dataset analysis: START
Asked to drop 77 genes and 0 cells
Genes/cells selection done: dropped [77] genes and [0] cells
Working on [523] genes and [242] cells
Dataset cleaning elapsed time: 0.844199180603027
Estimate `dispersion`: START
Effective number of cores used: 1
Executing 1 genes batches
Parallel dispersion Newton-Raphson: used up to 7 iterations
Total calculations elapsed time: 1.78771805763245
Estimate `dispersion`: DONE
Estimate `dispersion`: DONE
`dispersion` | min: -0.166254045792573 | max: 224.924342782861 | % negative: 42.6386233269598
Model parameter estimation elapsed time: 2.70930790901184
COTAN genes' COEX estimation: START
While trying to load the `torch` library Error in doTryCatch(return(expr), name, parentenv, handler): The `torch` library is installed but the required additional libraries are not available yet
Calculate genes' COEX (legacy): START
Retrieving expected genes' contingency table
calculating NN.. done
calculating NY..YN..YY..t().. done
Expected genes' contingency table elapsed time: 2.78730654716492
Calculating genes' COEX normalization factor
Calculate genes' normalization factor elapsed time: 0.00536608695983887
Retrieving observed genes' yes/yes contingency table
calculating YY.. done
Observed genes' contingency table elapsed time: 0.0260446071624756
Estimating genes' COEX
Calculate genes' COEX elapsed time: 0.89000129699707
Total calculations elapsed time: 3.7087185382843
Calculate genes' COEX (legacy): DONE
Only genes' COEX elapsed time: 4.60216665267944
Dataset analysis elapsed time: 8.15567374229431
COTAN dataset analysis: DONE
Checking uniformity for the cluster '01_0002' with 242 cells
Calculate GDI dataframe: START
Using S
Calculating S: START
Calculating S: DONE
Calculate `GDI`: START
Effective number of cores used: 1
Executing 1 genes batches
Total calculations elapsed time: 0.0251874923706055
Calculate `GDI`: DONE
Total calculations elapsed time: 2.63764238357544
Calculate GDI dataframe: DONE
Clean plots: START
Total calculations elapsed time: 0.0344347953796387
Clean plots: DONE
GDI plot
Removed 2 low GDI genes (such as the fully-expressed) in GDI plot
Cluster 01_0002, with size 242, is uniform
Cluster 01_0002's shift to uniformity: -0.0473527936300242
class = AdvancedGDIUniformityCheck, firstCheck.isCheckAbove = FALSE, firstCheck.GDIThreshold = 1.397, firstCheck.maxRatioBeyond = 0.05, firstCheck.maxRankBeyond = 0, firstCheck.fractionBeyond = 0.00764818355640535, firstCheck.thresholdRank = 0, firstCheck.quantileAtRatio = 1.34964720636998, firstCheck.quantileAtRank = NaN, secondCheck.isCheckAbove = TRUE, secondCheck.GDIThreshold = 1.407, secondCheck.maxRatioBeyond = 0.02, secondCheck.maxRankBeyond = 0, secondCheck.fractionBeyond = 0.00764818355640535, secondCheck.thresholdRank = 0, secondCheck.quantileAtRatio = 1.37472946305404, secondCheck.quantileAtRank = NaN, thirdCheck.isCheckAbove = FALSE, thirdCheck.GDIThreshold = 1.5, thirdCheck.maxRatioBeyond = 0.01, thirdCheck.maxRankBeyond = 0, thirdCheck.fractionBeyond = 0, thirdCheck.thresholdRank = 0, thirdCheck.quantileAtRatio = 1.38771313919654, thirdCheck.quantileAtRank = NaN, fourthCheck.isCheckAbove = FALSE, fourthCheck.GDIThreshold = 1.5, fourthCheck.maxRatioBeyond = NaN, fourthCheck.maxRankBeyond = 2, fourthCheck.fractionBeyond = NaN, fourthCheck.thresholdRank = 0, fourthCheck.quantileAtRatio = NaN, fourthCheck.quantileAtRank = 1.43097703442027, isUniform = TRUE, clusterSize = 242
cluster 01_0002 is uniform
* checking uniformity of cluster '3' of 4 clusters
Asked to drop 0 genes and 812 cells
COTAN dataset analysis: START
Asked to drop 79 genes and 0 cells
Genes/cells selection done: dropped [79] genes and [0] cells
Working on [521] genes and [188] cells
Dataset cleaning elapsed time: 0.931115388870239
Estimate `dispersion`: START
Effective number of cores used: 1
Executing 1 genes batches
Parallel dispersion Newton-Raphson: used up to 6 iterations
Total calculations elapsed time: 1.80082011222839
Estimate `dispersion`: DONE
Estimate `dispersion`: DONE
`dispersion` | min: -0.210007411487223 | max: 67.8701314818728 | % negative: 45.6813819577735
Model parameter estimation elapsed time: 2.72315764427185
COTAN genes' COEX estimation: START
While trying to load the `torch` library Error in doTryCatch(return(expr), name, parentenv, handler): The `torch` library is installed but the required additional libraries are not available yet
Calculate genes' COEX (legacy): START
Retrieving expected genes' contingency table
calculating NN.. done
calculating NY..YN..YY..t().. done
Expected genes' contingency table elapsed time: 2.75215744972229
Calculating genes' COEX normalization factor
Calculate genes' normalization factor elapsed time: 0.00442290306091309
Retrieving observed genes' yes/yes contingency table
calculating YY.. done
Observed genes' contingency table elapsed time: 0.0226340293884277
Estimating genes' COEX
Calculate genes' COEX elapsed time: 0.922268629074097
Total calculations elapsed time: 3.70148301124573
Calculate genes' COEX (legacy): DONE
Only genes' COEX elapsed time: 4.67774343490601
Dataset analysis elapsed time: 8.3320164680481
COTAN dataset analysis: DONE
Checking uniformity for the cluster '01_0003' with 188 cells
Calculate GDI dataframe: START
Using S
Calculating S: START
Calculating S: DONE
Calculate `GDI`: START
Effective number of cores used: 1
Executing 1 genes batches
Total calculations elapsed time: 0.0247824192047119
Calculate `GDI`: DONE
Total calculations elapsed time: 2.73484897613525
Calculate GDI dataframe: DONE
Clean plots: START
Total calculations elapsed time: 0.034482479095459
Clean plots: DONE
GDI plot
Removed 4 low GDI genes (such as the fully-expressed) in GDI plot
Cluster 01_0003, with size 188, is uniform
Cluster 01_0003's shift to uniformity: -0.0672912272435866
class = AdvancedGDIUniformityCheck, firstCheck.isCheckAbove = FALSE, firstCheck.GDIThreshold = 1.397, firstCheck.maxRatioBeyond = 0.05, firstCheck.maxRankBeyond = 0, firstCheck.fractionBeyond = 0.00383877159309021, firstCheck.thresholdRank = 0, firstCheck.quantileAtRatio = 1.32970877275641, firstCheck.quantileAtRank = NaN, secondCheck.isCheckAbove = TRUE, secondCheck.GDIThreshold = 1.407, secondCheck.maxRatioBeyond = 0.02, secondCheck.maxRankBeyond = 0, secondCheck.fractionBeyond = 0.00191938579654511, secondCheck.thresholdRank = 0, secondCheck.quantileAtRatio = 1.35752445041521, secondCheck.quantileAtRank = NaN, thirdCheck.isCheckAbove = FALSE, thirdCheck.GDIThreshold = 1.5, thirdCheck.maxRatioBeyond = 0.01, thirdCheck.maxRankBeyond = 0, thirdCheck.fractionBeyond = 0, thirdCheck.thresholdRank = 0, thirdCheck.quantileAtRatio = 1.37495297633956, thirdCheck.quantileAtRank = NaN, fourthCheck.isCheckAbove = FALSE, fourthCheck.GDIThreshold = 1.5, fourthCheck.maxRatioBeyond = NaN, fourthCheck.maxRankBeyond = 2, fourthCheck.fractionBeyond = NaN, fourthCheck.thresholdRank = 0, fourthCheck.quantileAtRatio = NaN, fourthCheck.quantileAtRank = 1.4014884302523, isUniform = TRUE, clusterSize = 188
cluster 01_0003 is uniform
Found 4 uniform and 0 non-uniform clusters
Stopping: too few cells left to cluster
Unclustered cell left: 0
The final raw clusterization contains [ 4 ] different clusters: 01_0000, 01_0001, 01_0002, 01_0003
Differential Expression Analysis - START
* DEA on cluster '1' with 313 cells
* DEA on cluster '2' with 257 cells
* DEA on cluster '3' with 242 cells
* DEA on cluster '4' with 188 cells
Total calculations elapsed time: 0.0431828498840332
Differential Expression Analysis - DONE
Applied reordering to clusterization is:
1 -> 3, 2 -> 1, 3 -> 2, 4 -> 4
Total calculations elapsed time: 73.934005022049
Creating cells' uniform clustering: DONE
Applied reordering to clusterization is:
1 -> 1, 2 -> 2, 3 -> 3, 4 -> 4
Asked to drop 0 genes and 812 cells
COTAN dataset analysis: START
Asked to drop 79 genes and 0 cells
Genes/cells selection done: dropped [79] genes and [0] cells
Working on [521] genes and [188] cells
Dataset cleaning elapsed time: 0.883987188339233
Estimate `dispersion`: START
Effective number of cores used: 1
Executing 1 genes batches
Parallel dispersion Newton-Raphson: used up to 6 iterations
Total calculations elapsed time: 1.78399324417114
Estimate `dispersion`: DONE
Estimate `dispersion`: DONE
`dispersion` | min: -0.210007411487223 | max: 67.8701314818728 | % negative: 45.6813819577735
Model parameter estimation elapsed time: 2.6690616607666
COTAN genes' COEX estimation: START
While trying to load the `torch` library Error in doTryCatch(return(expr), name, parentenv, handler): The `torch` library is installed but the required additional libraries are not available yet
Calculate genes' COEX (legacy): START
Retrieving expected genes' contingency table
calculating NN.. done
calculating NY..YN..YY..t().. done
Expected genes' contingency table elapsed time: 2.86384391784668
Calculating genes' COEX normalization factor
Calculate genes' normalization factor elapsed time: 0.00461912155151367
Retrieving observed genes' yes/yes contingency table
calculating YY.. done
Observed genes' contingency table elapsed time: 0.0228145122528076
Estimating genes' COEX
Calculate genes' COEX elapsed time: 0.932145595550537
Total calculations elapsed time: 3.82342314720154
Calculate genes' COEX (legacy): DONE
Only genes' COEX elapsed time: 4.69386887550354
Dataset analysis elapsed time: 8.24691772460938
COTAN dataset analysis: DONE
Checking uniformity for the cluster 'Cluster_4' with 188 cells
Calculate GDI dataframe: START
Using S
Calculating S: START
Calculating S: DONE
Calculate `GDI`: START
Effective number of cores used: 1
Executing 1 genes batches
Total calculations elapsed time: 0.0245532989501953
Calculate `GDI`: DONE
Total calculations elapsed time: 3.04348206520081
Calculate GDI dataframe: DONE
Clean plots: START
Total calculations elapsed time: 0.0348687171936035
Clean plots: DONE
GDI plot
Removed 4 low GDI genes (such as the fully-expressed) in GDI plot
Cluster Cluster_4, with size 188, is uniform
Cluster Cluster_4's shift to uniformity: -0.0672912272435866
class = AdvancedGDIUniformityCheck, firstCheck.isCheckAbove = FALSE, firstCheck.GDIThreshold = 1.397, firstCheck.maxRatioBeyond = 0.05, firstCheck.maxRankBeyond = 0, firstCheck.fractionBeyond = 0.00383877159309021, firstCheck.thresholdRank = 0, firstCheck.quantileAtRatio = 1.32970877275641, firstCheck.quantileAtRank = NaN, secondCheck.isCheckAbove = TRUE, secondCheck.GDIThreshold = 1.407, secondCheck.maxRatioBeyond = 0.02, secondCheck.maxRankBeyond = 0, secondCheck.fractionBeyond = 0.00191938579654511, secondCheck.thresholdRank = 0, secondCheck.quantileAtRatio = 1.35752445041521, secondCheck.quantileAtRank = NaN, thirdCheck.isCheckAbove = FALSE, thirdCheck.GDIThreshold = 1.5, thirdCheck.maxRatioBeyond = 0.01, thirdCheck.maxRankBeyond = 0, thirdCheck.fractionBeyond = 0, thirdCheck.thresholdRank = 0, thirdCheck.quantileAtRatio = 1.37495297633956, thirdCheck.quantileAtRank = NaN, fourthCheck.isCheckAbove = FALSE, fourthCheck.GDIThreshold = 1.5, fourthCheck.maxRatioBeyond = NaN, fourthCheck.maxRankBeyond = 2, fourthCheck.fractionBeyond = NaN, fourthCheck.thresholdRank = 0, fourthCheck.quantileAtRatio = NaN, fourthCheck.quantileAtRank = 1.4014884302523, isUniform = TRUE, clusterSize = 188
Differential Expression Analysis - START
* DEA on cluster '-1' with 50 cells
* DEA on cluster '1' with 257 cells
* DEA on cluster '2' with 242 cells
* DEA on cluster '3' with 280 cells
* DEA on cluster '4' with 171 cells
Total calculations elapsed time: 0.0313868522644043
Differential Expression Analysis - DONE
Applied reordering to clusterization is:
1 -> 4, 2 -> 3, 3 -> 2, 4 -> 1, -1 -> -1
Applied reordering to clusterization is:
1 -> 1, 2 -> 2, 3 -> 3, 4 -> 4, -1 -> -1
Creating cells' uniform clustering: START
In iteration 1 the number of cells to re-cluster is 1000 cells belonging to 0 clusters
Asked to drop no genes or cells
Creating new clusterization: START
Elaborating Reduced dimensionality Data Matrix - START
Running genes' selection: START
Normalizing layer: counts
Performing log-normalization
0% 10 20 30 40 50 60 70 80 90 100%
[----|----|----|----|----|----|----|----|----|----|
**************************************************|
Finding variable features for layer counts
Calculating gene variances
0% 10 20 30 40 50 60 70 80 90 100%
[----|----|----|----|----|----|----|----|----|----|
**************************************************|
Calculating feature variances of standardized and clipped values
0% 10 20 30 40 50 60 70 80 90 100%
[----|----|----|----|----|----|----|----|----|----|
**************************************************|
Selected 600 genes using HVG_Seurat selector
Running genes' selection: DONE
Elaborating PCA - START
Elaborating PCA - DONE
Total calculations elapsed time: 3.39795732498169
Elaborating Reduced dimensionality Data Matrix - DONE
Computing nearest neighbor graph
Computing SNN
Modularity Optimizer version 1.3.0 by Ludo Waltman and Nees Jan van Eck
Number of nodes: 1000
Number of edges: 67288
Running Louvain algorithm with multilevel refinement...
0% 10 20 30 40 50 60 70 80 90 100%
[----|----|----|----|----|----|----|----|----|----|
**************************************************|
Maximum modularity in 10 random starts: 0.3650
Number of communities: 5
Elapsed time: 0 seconds
Used resolution for Seurat clusterization is: 1.3
Total calculations elapsed time: 4.23241472244263
Creating new clusterization: DONE
Using passed in clusterization
Creating PDF UMAP in file: /tmp/RtmpxlBZkb/test/reclustering/pdf_umap_1.pdf
UMAP plot: START
Calculating UMAP: START
22:53:40 UMAP embedding parameters a = 0.9922 b = 1.112
22:53:40 Read 1000 rows and found 40 numeric columns
22:53:40 Using Annoy for neighbor search, n_neighbors = 30
22:53:40 Building Annoy index with metric = cosine, n_trees = 50
0% 10 20 30 40 50 60 70 80 90 100%
[----|----|----|----|----|----|----|----|----|----|
**************************************************|
22:53:40 Writing NN index file to temp file /tmp/RtmpxlBZkb/file1e8bfb2cfba2c9
22:53:40 Searching Annoy index using 1 thread, search_k = 3000
22:53:41 Annoy recall = 100%
22:53:42 Commencing smooth kNN distance calibration using 1 thread with target n_neighbors = 30
22:53:43 Found 2 connected components, falling back to 'spca' initialization with init_sdev = 1
22:53:43 Using 'irlba' for PCA
22:53:43 PCA: 2 components explained 36.15% variance
22:53:43 Scaling init to sdev = 1
22:53:43 Commencing optimization for 500 epochs, with 41630 positive edges
22:53:43 Using rng type: pcg
Using method 'umap'
0% 10 20 30 40 50 60 70 80 90 100%
[----|----|----|----|----|----|----|----|----|----|
**************************************************|
22:53:46 Optimization finished
Calculating UMAP: DONE
Total calculations elapsed time: 5.31620573997498
UMAP plot: DONE
UMAP plot: START
Calculating UMAP: START
22:53:46 UMAP embedding parameters a = 0.9922 b = 1.112
22:53:46 Read 1000 rows and found 40 numeric columns
22:53:46 Using Annoy for neighbor search, n_neighbors = 30
22:53:46 Building Annoy index with metric = cosine, n_trees = 50
0% 10 20 30 40 50 60 70 80 90 100%
[----|----|----|----|----|----|----|----|----|----|
**************************************************|
22:53:46 Writing NN index file to temp file /tmp/RtmpxlBZkb/file1e8bfb26c79ace
22:53:46 Searching Annoy index using 1 thread, search_k = 3000
22:53:46 Annoy recall = 100%
22:53:47 Commencing smooth kNN distance calibration using 1 thread with target n_neighbors = 30
22:53:49 Found 2 connected components, falling back to 'spca' initialization with init_sdev = 1
22:53:49 Using 'irlba' for PCA
22:53:49 PCA: 2 components explained 36.15% variance
22:53:49 Scaling init to sdev = 1
22:53:49 Commencing optimization for 500 epochs, with 41630 positive edges
22:53:49 Using rng type: pcg
Using method 'umap'
0% 10 20 30 40 50 60 70 80 90 100%
[----|----|----|----|----|----|----|----|----|----|
**************************************************|
22:53:51 Optimization finished
Calculating UMAP: DONE
Total calculations elapsed time: 5.53602457046509
UMAP plot: DONE
* checking uniformity of cluster '1' of 2 clusters
Asked to drop 0 genes and 500 cells
COTAN dataset analysis: START
Asked to drop 38 genes and 0 cells
Genes/cells selection done: dropped [38] genes and [0] cells
Working on [562] genes and [500] cells
Dataset cleaning elapsed time: 0.929773569107056
Estimate `dispersion`: START
Effective number of cores used: 1
Executing 1 genes batches
Parallel dispersion Newton-Raphson: used up to 7 iterations
Total calculations elapsed time: 1.87711071968079
Estimate `dispersion`: DONE
Estimate `dispersion`: DONE
`dispersion` | min: -0.108871643378045 | max: 295.971778839086 | % negative: 35.0533807829181
Model parameter estimation elapsed time: 2.74897074699402
COTAN genes' COEX estimation: START
While trying to load the `torch` library Error in doTryCatch(return(expr), name, parentenv, handler): The `torch` library is installed but the required additional libraries are not available yet
Calculate genes' COEX (legacy): START
Retrieving expected genes' contingency table
calculating NN.. done
calculating NY..YN..YY..t().. done
Expected genes' contingency table elapsed time: 2.91156554222107
Calculating genes' COEX normalization factor
Calculate genes' normalization factor elapsed time: 0.00517368316650391
Retrieving observed genes' yes/yes contingency table
calculating YY.. done
Observed genes' contingency table elapsed time: 0.0378985404968262
Estimating genes' COEX
Calculate genes' COEX elapsed time: 0.910102844238281
Total calculations elapsed time: 3.86474061012268
Calculate genes' COEX (legacy): DONE
Only genes' COEX elapsed time: 4.76411604881287
Dataset analysis elapsed time: 8.44286036491394
COTAN dataset analysis: DONE
Checking uniformity for the cluster '01_0001' with 500 cells
Calculate GDI dataframe: START
Using S
Calculating S: START
Calculating S: DONE
Calculate `GDI`: START
Effective number of cores used: 1
Executing 1 genes batches
Total calculations elapsed time: 0.0291447639465332
Calculate `GDI`: DONE
Total calculations elapsed time: 2.79129576683044
Calculate GDI dataframe: DONE
Clean plots: START
Total calculations elapsed time: 0.0368795394897461
Clean plots: DONE
GDI plot
Removed 2 low GDI genes (such as the fully-expressed) in GDI plot
Cluster 01_0001, with size 500, is uniform
Cluster 01_0001's shift to uniformity: -0.041730199066494
class = AdvancedGDIUniformityCheck, firstCheck.isCheckAbove = FALSE, firstCheck.GDIThreshold = 1.397, firstCheck.maxRatioBeyond = 0.05, firstCheck.maxRankBeyond = 0, firstCheck.fractionBeyond = 0.0124555160142349, firstCheck.thresholdRank = 0, firstCheck.quantileAtRatio = 1.35526980093351, firstCheck.quantileAtRank = NaN, secondCheck.isCheckAbove = TRUE, secondCheck.GDIThreshold = 1.407, secondCheck.maxRatioBeyond = 0.02, secondCheck.maxRankBeyond = 0, secondCheck.fractionBeyond = 0.00889679715302491, secondCheck.thresholdRank = 0, secondCheck.quantileAtRatio = 1.38536328181495, secondCheck.quantileAtRank = NaN, thirdCheck.isCheckAbove = FALSE, thirdCheck.GDIThreshold = 1.5, thirdCheck.maxRatioBeyond = 0.01, thirdCheck.maxRankBeyond = 0, thirdCheck.fractionBeyond = 0, thirdCheck.thresholdRank = 0, thirdCheck.quantileAtRatio = 1.40346106115492, thirdCheck.quantileAtRank = NaN, fourthCheck.isCheckAbove = FALSE, fourthCheck.GDIThreshold = 1.5, fourthCheck.maxRatioBeyond = NaN, fourthCheck.maxRankBeyond = 2, fourthCheck.fractionBeyond = NaN, fourthCheck.thresholdRank = 0, fourthCheck.quantileAtRatio = NaN, fourthCheck.quantileAtRank = 1.42565794715045, isUniform = TRUE, clusterSize = 500
cluster 01_0001 is uniform
* checking uniformity of cluster '2' of 2 clusters
Asked to drop 0 genes and 500 cells
COTAN dataset analysis: START
Asked to drop 44 genes and 0 cells
Genes/cells selection done: dropped [44] genes and [0] cells
Working on [556] genes and [500] cells
Dataset cleaning elapsed time: 0.921608686447144
Estimate `dispersion`: START
Effective number of cores used: 1
Executing 1 genes batches
Parallel dispersion Newton-Raphson: used up to 7 iterations
Total calculations elapsed time: 1.82867574691772
Estimate `dispersion`: DONE
Estimate `dispersion`: DONE
`dispersion` | min: -0.0636486786621688 | max: 141.389145035675 | % negative: 36.1510791366906
Model parameter estimation elapsed time: 2.69564723968506
COTAN genes' COEX estimation: START
While trying to load the `torch` library Error in doTryCatch(return(expr), name, parentenv, handler): The `torch` library is installed but the required additional libraries are not available yet
Calculate genes' COEX (legacy): START
Retrieving expected genes' contingency table
calculating NN.. done
calculating NY..YN..YY..t().. done
Expected genes' contingency table elapsed time: 2.80129241943359
Calculating genes' COEX normalization factor
Calculate genes' normalization factor elapsed time: 0.00524020195007324
Retrieving observed genes' yes/yes contingency table
calculating YY.. done
Observed genes' contingency table elapsed time: 0.0377812385559082
Estimating genes' COEX
Calculate genes' COEX elapsed time: 0.904409646987915
Total calculations elapsed time: 3.74872350692749
Calculate genes' COEX (legacy): DONE
Only genes' COEX elapsed time: 4.62103295326233
Dataset analysis elapsed time: 8.23828887939453
COTAN dataset analysis: DONE
Checking uniformity for the cluster '01_0002' with 500 cells
Calculate GDI dataframe: START
Using S
Calculating S: START
Calculating S: DONE
Calculate `GDI`: START
Effective number of cores used: 1
Executing 1 genes batches
Total calculations elapsed time: 0.0287201404571533
Calculate `GDI`: DONE
Total calculations elapsed time: 2.74036836624146
Calculate GDI dataframe: DONE
Clean plots: START
Total calculations elapsed time: 0.0344944000244141
Clean plots: DONE
GDI plot
Removed 2 low GDI genes (such as the fully-expressed) in GDI plot
Cluster 01_0002, with size 500, is uniform
Cluster 01_0002's shift to uniformity: -0.0413872276843505
class = AdvancedGDIUniformityCheck, firstCheck.isCheckAbove = FALSE, firstCheck.GDIThreshold = 1.397, firstCheck.maxRatioBeyond = 0.05, firstCheck.maxRankBeyond = 0, firstCheck.fractionBeyond = 0.00719424460431655, firstCheck.thresholdRank = 0, firstCheck.quantileAtRatio = 1.35561277231565, firstCheck.quantileAtRank = NaN, secondCheck.isCheckAbove = TRUE, secondCheck.GDIThreshold = 1.407, secondCheck.maxRatioBeyond = 0.02, secondCheck.maxRankBeyond = 0, secondCheck.fractionBeyond = 0.00359712230215827, secondCheck.thresholdRank = 0, secondCheck.quantileAtRatio = 1.37204026755188, secondCheck.quantileAtRank = NaN, thirdCheck.isCheckAbove = FALSE, thirdCheck.GDIThreshold = 1.5, thirdCheck.maxRatioBeyond = 0.01, thirdCheck.maxRankBeyond = 0, thirdCheck.fractionBeyond = 0, thirdCheck.thresholdRank = 0, thirdCheck.quantileAtRatio = 1.38757136821537, thirdCheck.quantileAtRank = NaN, fourthCheck.isCheckAbove = FALSE, fourthCheck.GDIThreshold = 1.5, fourthCheck.maxRatioBeyond = NaN, fourthCheck.maxRankBeyond = 2, fourthCheck.fractionBeyond = NaN, fourthCheck.thresholdRank = 0, fourthCheck.quantileAtRatio = NaN, fourthCheck.quantileAtRank = 1.40876953414106, isUniform = TRUE, clusterSize = 500
cluster 01_0002 is uniform
Found 2 uniform and 0 non-uniform clusters
Stopping: too few cells left to cluster
Unclustered cell left: 0
The final raw clusterization contains [ 2 ] different clusters: 01_0001, 01_0002
Differential Expression Analysis - START
* DEA on cluster '1' with 500 cells
* DEA on cluster '2' with 500 cells
Total calculations elapsed time: 0.0270149707794189
Differential Expression Analysis - DONE
Applied reordering to clusterization is:
1 -> 1, 2 -> 2
Total calculations elapsed time: 45.6458213329315
Creating cells' uniform clustering: DONE
findClustersMarkers - START
Log Fold Change Analysis - START
* Analysis of cluster: '1'
* Analysis of cluster: '2'
* Analysis of cluster: '3'
* Analysis of cluster: '4'
Total calculations elapsed time: 3.57726120948792
Log Fold Change Analysis - DONE
Total calculations elapsed time: 3.5879979133606
findClustersMarkers - DONE
findClustersMarkers - START
Log Fold Change Analysis - START
* Analysis of cluster: '1'
* Analysis of cluster: '2'
* Analysis of cluster: '3'
* Analysis of cluster: '4'
Total calculations elapsed time: 3.67524909973145
Log Fold Change Analysis - DONE
Total calculations elapsed time: 3.68537020683289
findClustersMarkers - DONE
findClustersMarkers - START
Differential Expression Analysis - START
* DEA on cluster '1' with 257 cells
* DEA on cluster '2' with 242 cells
* DEA on cluster '3' with 313 cells
* DEA on cluster '4' with 188 cells
Total calculations elapsed time: 0.0294299125671387
Differential Expression Analysis - DONE
Log Fold Change Analysis - START
* Analysis of cluster: '1'
* Analysis of cluster: '2'
* Analysis of cluster: '3'
* Analysis of cluster: '4'
Total calculations elapsed time: 3.66303753852844
Log Fold Change Analysis - DONE
Total calculations elapsed time: 3.70139455795288
findClustersMarkers - DONE
[1] "Tested cluster: 1"
Asked to drop 0 genes and 743 cells
COTAN dataset analysis: START
Asked to drop 51 genes and 0 cells
Genes/cells selection done: dropped [51] genes and [0] cells
Working on [549] genes and [257] cells
Dataset cleaning elapsed time: 0.92364501953125
Estimate `dispersion`: START
Effective number of cores used: 1
Executing 1 genes batches
Parallel dispersion Newton-Raphson: used up to 10 iterations
Total calculations elapsed time: 1.90532684326172
Estimate `dispersion`: DONE
Estimate `dispersion`: DONE
`dispersion` | min: -0.112503099391263 | max: 646.681464270838 | % negative: 40.8014571948998
Model parameter estimation elapsed time: 2.7994339466095
COTAN genes' COEX estimation: START
While trying to load the `torch` library Error in doTryCatch(return(expr), name, parentenv, handler): The `torch` library is installed but the required additional libraries are not available yet
Calculate genes' COEX (legacy): START
Retrieving expected genes' contingency table
calculating NN.. done
calculating NY..YN..YY..t().. done
Expected genes' contingency table elapsed time: 2.71969413757324
Calculating genes' COEX normalization factor
Calculate genes' normalization factor elapsed time: 0.00504946708679199
Retrieving observed genes' yes/yes contingency table
calculating YY.. done
Observed genes' contingency table elapsed time: 0.028083324432373
Estimating genes' COEX
Calculate genes' COEX elapsed time: 0.885509490966797
Total calculations elapsed time: 3.6383364200592
Calculate genes' COEX (legacy): DONE
Only genes' COEX elapsed time: 4.51531648635864
Dataset analysis elapsed time: 8.23839545249939
COTAN dataset analysis: DONE
Calculate GDI dataframe: START
Using S
Calculating S: START
Calculating S: DONE
Calculate `GDI`: START
Effective number of cores used: 1
Executing 1 genes batches
Total calculations elapsed time: 0.0273582935333252
Calculate `GDI`: DONE
Total calculations elapsed time: 2.69531512260437
Calculate GDI dataframe: DONE
Genes/cells selection done: dropped [0] genes and [0] cells
Working on [10] genes and [20] cells
Initializing `COTAN` meta-data
Genes/cells selection done: dropped [0] genes and [0] cells
Working on [600] genes and [1000] cells
Estimate `dispersion`: START
Effective number of cores used: 1
Executing 1 genes batches
Parallel dispersion Newton-Raphson: used up to 7 iterations
Total calculations elapsed time: 1.8407518863678
Estimate `dispersion`: DONE
Estimate `dispersion`: DONE
`dispersion` | min: -0.0529252975916502 | max: 462.908586418992 | % negative: 17.3333333333333
Initializing `COTAN` meta-data
COTAN dataset analysis: START
Genes/cells selection done: dropped [0] genes and [0] cells
Working on [600] genes and [1000] cells
Dataset cleaning elapsed time: 0.859570264816284
Estimate `dispersion`: START
Effective number of cores used: 1
Executing 1 genes batches
Parallel dispersion Newton-Raphson: used up to 7 iterations
Total calculations elapsed time: 1.91558957099915
Estimate `dispersion`: DONE
Estimate `dispersion`: DONE
`dispersion` | min: -0.0529252975916502 | max: 462.908586418992 | % negative: 17.3333333333333
Model parameter estimation elapsed time: 2.80871152877808
COTAN genes' COEX estimation not requested
Only genes' COEX elapsed time: 0.883342742919922
Dataset analysis elapsed time: 4.55162453651428
COTAN dataset analysis: DONE
Normalizing layer: counts
Performing log-normalization
0% 10 20 30 40 50 60 70 80 90 100%
[----|----|----|----|----|----|----|----|----|----|
**************************************************|
Finding variable features for layer counts
Calculating gene variances
0% 10 20 30 40 50 60 70 80 90 100%
[----|----|----|----|----|----|----|----|----|----|
**************************************************|
Calculating feature variances of standardized and clipped values
0% 10 20 30 40 50 60 70 80 90 100%
[----|----|----|----|----|----|----|----|----|----|
**************************************************|
Centering and scaling data matrix
|
| | 0%
|
|======================================================================| 100%
PC_ 1
Positive: g-000397, g-000525, g-000460, g-000458, g-000535, g-000217, g-000194, g-000497, g-000432, g-000383
g-000318, g-000486, g-000464, g-000588, g-000549, g-000368, g-000252, g-000151, g-000209, g-000538
g-000325, g-000514, g-000524, g-000244, g-000320, g-000201, g-000499, g-000309, g-000290, g-000483
Negative: g-000415, g-000506, g-000496, g-000579, g-000572, g-000421, g-000455, g-000328, g-000178, g-000567
g-000405, g-000296, g-000387, g-000501, g-000493, g-000481, g-000343, g-000528, g-000551, g-000414
g-000367, g-000594, g-000159, g-000517, g-000574, g-000229, g-000222, g-000533, g-000243, g-000306
PC_ 2
Positive: g-000141, g-000093, g-000089, g-000033, g-000123, g-000557, g-000330, g-000156, g-000142, g-000095
g-000061, g-000235, g-000032, g-000186, g-000056, g-000259, g-000027, g-000041, g-000333, g-000386
g-000009, g-000395, g-000048, g-000116, g-000340, g-000418, g-000035, g-000332, g-000086, g-000040
Negative: g-000088, g-000158, g-000255, g-000115, g-000054, g-000472, g-000554, g-000391, g-000253, g-000226
g-000051, g-000147, g-000541, g-000077, g-000224, g-000194, g-000290, g-000293, g-000313, g-000118
g-000121, g-000220, g-000467, g-000500, g-000341, g-000039, g-000091, g-000249, g-000426, g-000288
PC_ 3
Positive: g-000126, g-000083, g-000086, g-000117, g-000130, g-000010, g-000498, g-000333, g-000047, g-000179
g-000340, g-000035, g-000531, g-000140, g-000527, g-000049, g-000316, g-000031, g-000014, g-000073
g-000218, g-000445, g-000129, g-000175, g-000105, g-000581, g-000404, g-000025, g-000266, g-000354
Negative: g-000096, g-000575, g-000370, g-000337, g-000319, g-000364, g-000308, g-000293, g-000147, g-000307
g-000038, g-000492, g-000541, g-000185, g-000008, g-000482, g-000562, g-000097, g-000222, g-000084
g-000141, g-000377, g-000224, g-000223, g-000136, g-000434, g-000277, g-000426, g-000139, g-000093
PC_ 4
Positive: g-000006, g-000043, g-000462, g-000279, g-000180, g-000576, g-000087, g-000584, g-000498, g-000333
g-000189, g-000088, g-000451, g-000059, g-000135, g-000281, g-000106, g-000429, g-000316, g-000578
g-000303, g-000031, g-000581, g-000026, g-000122, g-000561, g-000546, g-000164, g-000353, g-000300
Negative: g-000072, g-000012, g-000129, g-000052, g-000097, g-000262, g-000080, g-000056, g-000025, g-000092
g-000354, g-000334, g-000423, g-000228, g-000002, g-000010, g-000086, g-000147, g-000185, g-000172
g-000124, g-000009, g-000077, g-000476, g-000126, g-000145, g-000065, g-000268, g-000152, g-000348
PC_ 5
Positive: g-000105, g-000037, g-000110, g-000054, g-000090, g-000389, g-000022, g-000578, g-000289, g-000147
g-000547, g-000011, g-000477, g-000433, g-000200, g-000348, g-000404, g-000003, g-000250, g-000109
g-000402, g-000241, g-000595, g-000341, g-000560, g-000385, g-000413, g-000352, g-000573, g-000265
Negative: g-000051, g-000150, g-000088, g-000476, g-000344, g-000116, g-000428, g-000012, g-000523, g-000394
g-000101, g-000127, g-000069, g-000214, g-000049, g-000357, g-000075, g-000081, g-000576, g-000342
g-000439, g-000018, g-000070, g-000079, g-000015, g-000550, g-000600, g-000247, g-000218, g-000331
Computing nearest neighbor graph
Computing SNN
Modularity Optimizer version 1.3.0 by Ludo Waltman and Nees Jan van Eck
Number of nodes: 1000
Number of edges: 68107
Running Louvain algorithm with multilevel refinement...
0% 10 20 30 40 50 60 70 80 90 100%
[----|----|----|----|----|----|----|----|----|----|
**************************************************|
Maximum modularity in 10 random starts: 0.5999
Number of communities: 2
Elapsed time: 0 seconds
Clusterizations found: RNA_snn_res.0.8, seurat_clusters
Conditions found: orig.ident
COTAN dataset analysis: START
Genes/cells selection done: dropped [0] genes and [0] cells
Working on [600] genes and [1000] cells
Dataset cleaning elapsed time: 0.924582958221436
Estimate `dispersion`: START
Effective number of cores used: 1
Executing 1 genes batches
Parallel dispersion Newton-Raphson: used up to 7 iterations
Total calculations elapsed time: 2.01394009590149
Estimate `dispersion`: DONE
Estimate `dispersion`: DONE
`dispersion` | min: -0.0529252975916502 | max: 462.908586418992 | % negative: 17.3333333333333
Model parameter estimation elapsed time: 2.93114590644836
COTAN genes' COEX estimation not requested
Only genes' COEX elapsed time: 0.938267946243286
Dataset analysis elapsed time: 4.79399681091309
COTAN dataset analysis: DONE
COTAN dataset analysis: START
Genes/cells selection done: dropped [0] genes and [0] cells
Working on [600] genes and [1000] cells
Dataset cleaning elapsed time: 1.00257158279419
Estimate `dispersion`: START
Effective number of cores used: 1
Executing 1 genes batches
Parallel dispersion Newton-Raphson: used up to 7 iterations
Total calculations elapsed time: 1.9296555519104
Estimate `dispersion`: DONE
Estimate `dispersion`: DONE
`dispersion` | min: -0.0529252975916502 | max: 462.908586418992 | % negative: 17.3333333333333
Model parameter estimation elapsed time: 2.84657287597656
COTAN genes' COEX estimation: START
While trying to load the `torch` library Error in doTryCatch(return(expr), name, parentenv, handler): The `torch` library is installed but the required additional libraries are not available yet
Calculate genes' COEX (legacy): START
Retrieving expected genes' contingency table
calculating NN.. done
calculating NY..YN..YY..t().. done
Expected genes' contingency table elapsed time: 3.0111141204834
Calculating genes' COEX normalization factor
Calculate genes' normalization factor elapsed time: 0.00638318061828613
Retrieving observed genes' yes/yes contingency table
calculating YY.. done
Observed genes' contingency table elapsed time: 0.0648009777069092
Estimating genes' COEX
Calculate genes' COEX elapsed time: 0.993573665618896
Total calculations elapsed time: 4.07587194442749
Calculate genes' COEX (legacy): DONE
Only genes' COEX elapsed time: 4.96960473060608
Dataset analysis elapsed time: 8.81874918937683
COTAN dataset analysis: DONE
Calculating gene co-expression space - START
Using S
Calculating S: START
Calculating S: DONE
calculating PValues: START
Get p-values on a set of genes on columns and genome wide on rows
Total calculations elapsed time: 0.0046541690826416
calculating PValues: DONE
Number of selected secondary markers: 6
Calculating S: START
Calculating S: DONE
Calculate `GDI`: START
Effective number of cores used: 1
Executing 1 genes batches
Total calculations elapsed time: 0.00815463066101074
Calculate `GDI`: DONE
Number of columns (V set - secondary markers): 6
Number of rows (U set): 60
Total calculations elapsed time: 0.892045497894287
Calculating gene co-expression space - DONE
Calculating gene co-expression space - START
Using S
Calculating S: START
Calculating S: DONE
calculating PValues: START
Get p-values on a set of genes on columns and genome wide on rows
Total calculations elapsed time: 0.00634431838989258
calculating PValues: DONE
Number of selected secondary markers: 98
Calculating S: START
Calculating S: DONE
Calculate `GDI`: START
Effective number of cores used: 1
Executing 1 genes batches
Total calculations elapsed time: 0.00786495208740234
Calculate `GDI`: DONE
Number of columns (V set - secondary markers): 98
Number of rows (U set): 60
Total calculations elapsed time: 0.961108446121216
Calculating gene co-expression space - DONE
Establishing gene clusters - START
Calculating gene co-expression space - START
Using S
Calculating S: START
Calculating S: DONE
calculating PValues: START
Get p-values on a set of genes on columns and genome wide on rows
Total calculations elapsed time: 0.00616717338562012
calculating PValues: DONE
Number of selected secondary markers: 98
Calculating S: START
Calculating S: DONE
Calculate `GDI`: START
Effective number of cores used: 1
Executing 1 genes batches
Total calculations elapsed time: 0.00776386260986328
Calculate `GDI`: DONE
Number of columns (V set - secondary markers): 98
Number of rows (U set): 60
Total calculations elapsed time: 0.977535963058472
Calculating gene co-expression space - DONE
Total calculations elapsed time: 1.04032206535339
Establishing gene clusters - DONE
Initializing `COTAN` meta-data
COTAN dataset analysis: START
Genes/cells selection done: dropped [0] genes and [0] cells
Working on [600] genes and [1000] cells
Dataset cleaning elapsed time: 0.979764938354492
Estimate `dispersion`: START
Effective number of cores used: 1
Executing 1 genes batches
Parallel dispersion Newton-Raphson: used up to 7 iterations
Total calculations elapsed time: 2.02218985557556
Estimate `dispersion`: DONE
Estimate `dispersion`: DONE
`dispersion` | min: -0.0529252975916502 | max: 462.908586418992 | % negative: 17.3333333333333
Model parameter estimation elapsed time: 2.86405992507935
COTAN genes' COEX estimation not requested
Only genes' COEX elapsed time: 0.939533948898315
Dataset analysis elapsed time: 4.78335881233215
COTAN dataset analysis: DONE
Differential Expression Analysis - START
* DEA on cluster '1' with 257 cells
* DEA on cluster '2' with 242 cells
* DEA on cluster '3' with 313 cells
* DEA on cluster '4' with 188 cells
Total calculations elapsed time: 0.0384414196014404
Differential Expression Analysis - DONE
Log Fold Change Analysis - START
* Analysis of cluster: '1'
* Analysis of cluster: '2'
* Analysis of cluster: '3'
* Analysis of cluster: '4'
Total calculations elapsed time: 3.41581225395203
Log Fold Change Analysis - DONE
clustersDeltaExpression - START
Handling cluster '1' with mean UDE 1.10997640736885
Handling cluster '2' with mean UDE 1.00770245700749
Handling cluster '3' with mean UDE 0.95940682189354
Handling cluster '4' with mean UDE 0.907328369455933
clustersDeltaExpression - DONE
In group G1 there are 3 detected over 3 genes
In group G2 there are 2 detected over 3 genes
In group G3 there are 5 detected over 5 genes
Merging cells' uniform clustering: START
The merge algorithm will use 2 passes
Start merging nearest clusters - the main threshold is: 1.297
Start merging nearest clusters: iteration 1
Differential Expression Analysis - START
* DEA on cluster '1' with 257 cells
* DEA on cluster '2' with 242 cells
* DEA on cluster '3' with 313 cells
* DEA on cluster '4' with 188 cells
Total calculations elapsed time: 0.0380916595458984
Differential Expression Analysis - DONE
Updating check results for the 0 already tested pairs to align to new checker
1 new clusters pairs to be tested for merging:
c("1", "2")
*1_2-merge
Asked to drop 0 genes and 501 cells
COTAN dataset analysis: START
Asked to drop 16 genes and 0 cells
Genes/cells selection done: dropped [16] genes and [0] cells
Working on [584] genes and [499] cells
Dataset cleaning elapsed time: 0.853996992111206
Estimate `dispersion`: START
Effective number of cores used: 1
Executing 1 genes batches
Parallel dispersion Newton-Raphson: used up to 10 iterations
Total calculations elapsed time: 1.89307236671448
Estimate `dispersion`: DONE
Estimate `dispersion`: DONE
`dispersion` | min: -0.0608154544840047 | max: 1260.06995351592 | % negative: 35.6164383561644
Model parameter estimation elapsed time: 2.75928664207458
COTAN genes' COEX estimation: START
While trying to load the `torch` library Error in doTryCatch(return(expr), name, parentenv, handler): The `torch` library is installed but the required additional libraries are not available yet
Calculate genes' COEX (legacy): START
Retrieving expected genes' contingency table
calculating NN.. done
calculating NY..YN..YY..t().. done
Expected genes' contingency table elapsed time: 2.835857629776
Calculating genes' COEX normalization factor
Calculate genes' normalization factor elapsed time: 0.00668501853942871
Retrieving observed genes' yes/yes contingency table
calculating YY.. done
Observed genes' contingency table elapsed time: 0.0413269996643066
Estimating genes' COEX
Calculate genes' COEX elapsed time: 0.858193874359131
Total calculations elapsed time: 3.74206352233887
Calculate genes' COEX (legacy): DONE
Only genes' COEX elapsed time: 4.64569044113159
Dataset analysis elapsed time: 8.25897407531738
COTAN dataset analysis: DONE
Checking uniformity for the cluster '1_2-merge' with 499 cells
Calculate GDI dataframe: START
Using S
Calculating S: START
Calculating S: DONE
Calculate `GDI`: START
Effective number of cores used: 1
Executing 1 genes batches
Total calculations elapsed time: 0.0308897495269775
Calculate `GDI`: DONE
Total calculations elapsed time: 2.74308466911316
Calculate GDI dataframe: DONE
Clean plots: START
Total calculations elapsed time: 0.0356025695800781
Clean plots: DONE
GDI plot
Removed 1 low GDI genes (such as the fully-expressed) in GDI plot
Cluster 1_2-merge, with size 499, is not uniform
Cluster 1_2-merge's shift to uniformity: 0.0566581136434114
class = AdvancedGDIUniformityCheck, firstCheck.isCheckAbove = FALSE, firstCheck.GDIThreshold = 1.297, firstCheck.maxRatioBeyond = 0.05, firstCheck.maxRankBeyond = 0, firstCheck.fractionBeyond = 0.178082191780822, firstCheck.thresholdRank = 0, firstCheck.quantileAtRatio = 1.35365811364341, firstCheck.quantileAtRank = NaN, secondCheck.isCheckAbove = TRUE, secondCheck.GDIThreshold = 1.307, secondCheck.maxRatioBeyond = 0.02, secondCheck.maxRankBeyond = 0, secondCheck.fractionBeyond = 0.148972602739726, secondCheck.thresholdRank = 0, secondCheck.quantileAtRatio = 1.37149326865972, secondCheck.quantileAtRank = NaN, thirdCheck.isCheckAbove = FALSE, thirdCheck.GDIThreshold = 1.4, thirdCheck.maxRatioBeyond = 0.01, thirdCheck.maxRankBeyond = 0, thirdCheck.fractionBeyond = 0.00513698630136986, thirdCheck.thresholdRank = 0, thirdCheck.quantileAtRatio = 1.38256306292787, thirdCheck.quantileAtRank = NaN, fourthCheck.isCheckAbove = FALSE, fourthCheck.GDIThreshold = 1.4, fourthCheck.maxRatioBeyond = NaN, fourthCheck.maxRankBeyond = 2, fourthCheck.fractionBeyond = NaN, fourthCheck.thresholdRank = 3, fourthCheck.quantileAtRatio = NaN, fourthCheck.quantileAtRank = 1.42111642638124, isUniform = FALSE, clusterSize = 499
Clusters 1 and 2 cannot be merged
Finished the first batch - no merges were executed
Loop calculations elapsed time: 15.5368535518646
Start merging nearest clusters: iteration 2
Differential Expression Analysis - START
* DEA on cluster '1' with 257 cells
* DEA on cluster '2' with 242 cells
* DEA on cluster '3' with 313 cells
* DEA on cluster '4' with 188 cells
Total calculations elapsed time: 0.028085470199585
Differential Expression Analysis - DONE
Updating check results for the 1 already tested pairs to align to new checker
1 new clusters pairs to be tested for merging:
c("3", "4")
*3_4-merge
Asked to drop 0 genes and 499 cells
COTAN dataset analysis: START
Asked to drop 37 genes and 0 cells
Genes/cells selection done: dropped [37] genes and [0] cells
Working on [563] genes and [501] cells
Dataset cleaning elapsed time: 0.921359539031982
Estimate `dispersion`: START
Effective number of cores used: 1
Executing 1 genes batches
Parallel dispersion Newton-Raphson: used up to 11 iterations
Total calculations elapsed time: 2.25476622581482
Estimate `dispersion`: DONE
Estimate `dispersion`: DONE
`dispersion` | min: -0.107568326617881 | max: 698.639334552754 | % negative: 32.1492007104796
Model parameter estimation elapsed time: 3.384934425354
COTAN genes' COEX estimation: START
While trying to load the `torch` library Error in doTryCatch(return(expr), name, parentenv, handler): The `torch` library is installed but the required additional libraries are not available yet
Calculate genes' COEX (legacy): START
Retrieving expected genes' contingency table
calculating NN.. done
calculating NY..YN..YY..t().. done
Expected genes' contingency table elapsed time: 3.55624794960022
Calculating genes' COEX normalization factor
Calculate genes' normalization factor elapsed time: 0.00548410415649414
Retrieving observed genes' yes/yes contingency table
calculating YY.. done
Observed genes' contingency table elapsed time: 0.0387635231018066
Estimating genes' COEX
Calculate genes' COEX elapsed time: 1.06802535057068
Total calculations elapsed time: 4.6685209274292
Calculate genes' COEX (legacy): DONE
Only genes' COEX elapsed time: 5.6583092212677
Dataset analysis elapsed time: 9.96460318565369
COTAN dataset analysis: DONE
Checking uniformity for the cluster '3_4-merge' with 501 cells
Calculate GDI dataframe: START
Using S
Calculating S: START
Calculating S: DONE
Calculate `GDI`: START
Effective number of cores used: 1
Executing 1 genes batches
Total calculations elapsed time: 0.0284972190856934
Calculate `GDI`: DONE
Total calculations elapsed time: 2.81202840805054
Calculate GDI dataframe: DONE
Clean plots: START
Total calculations elapsed time: 0.0359315872192383
Clean plots: DONE
GDI plot
Removed 0 low GDI genes (such as the fully-expressed) in GDI plot
Cluster 3_4-merge, with size 501, is not uniform
Cluster 3_4-merge's shift to uniformity: 0.0813107504723223
class = AdvancedGDIUniformityCheck, firstCheck.isCheckAbove = FALSE, firstCheck.GDIThreshold = 1.297, firstCheck.maxRatioBeyond = 0.05, firstCheck.maxRankBeyond = 0, firstCheck.fractionBeyond = 0.259325044404973, firstCheck.thresholdRank = 0, firstCheck.quantileAtRatio = 1.37831075047232, firstCheck.quantileAtRank = NaN, secondCheck.isCheckAbove = TRUE, secondCheck.GDIThreshold = 1.307, secondCheck.maxRatioBeyond = 0.02, secondCheck.maxRankBeyond = 0, secondCheck.fractionBeyond = 0.216696269982238, secondCheck.thresholdRank = 0, secondCheck.quantileAtRatio = 1.41473792188166, secondCheck.quantileAtRank = NaN, thirdCheck.isCheckAbove = FALSE, thirdCheck.GDIThreshold = 1.4, thirdCheck.maxRatioBeyond = 0.01, thirdCheck.maxRankBeyond = 0, thirdCheck.fractionBeyond = 0.0301953818827709, thirdCheck.thresholdRank = 0, thirdCheck.quantileAtRatio = 1.43341610223243, thirdCheck.quantileAtRank = NaN, fourthCheck.isCheckAbove = FALSE, fourthCheck.GDIThreshold = 1.4, fourthCheck.maxRatioBeyond = NaN, fourthCheck.maxRankBeyond = 2, fourthCheck.fractionBeyond = NaN, fourthCheck.thresholdRank = 17, fourthCheck.quantileAtRatio = NaN, fourthCheck.quantileAtRank = 1.46173948790285, isUniform = FALSE, clusterSize = 501
Clusters 3 and 4 cannot be merged
No clusters will be merged
None of the remaining tested cluster pairs could be merged
Executed all merges for threshold 1.297 out of 2 checks
Start merging nearest clusters - the main threshold is: 1.397
Start merging nearest clusters: iteration 3
Differential Expression Analysis - START
* DEA on cluster '1' with 257 cells
* DEA on cluster '2' with 242 cells
* DEA on cluster '3' with 313 cells
* DEA on cluster '4' with 188 cells
Total calculations elapsed time: 0.0310080051422119
Differential Expression Analysis - DONE
Updating check results for the 2 already tested pairs to align to new checker
1 new clusters pairs to be tested for merging:
c("2", "4")
*2_4-merge
Asked to drop 0 genes and 570 cells
COTAN dataset analysis: START
Asked to drop 9 genes and 0 cells
Genes/cells selection done: dropped [9] genes and [0] cells
Working on [591] genes and [430] cells
Dataset cleaning elapsed time: 1.17716693878174
Estimate `dispersion`: START
Effective number of cores used: 1
Executing 1 genes batches
Parallel dispersion Newton-Raphson: used up to 7 iterations
Total calculations elapsed time: 2.51609969139099
Estimate `dispersion`: DONE
Estimate `dispersion`: DONE
`dispersion` | min: -0.0739592351622374 | max: 400.051960722894 | % negative: 25.7191201353638
Model parameter estimation elapsed time: 3.66806101799011
COTAN genes' COEX estimation: START
While trying to load the `torch` library Error in doTryCatch(return(expr), name, parentenv, handler): The `torch` library is installed but the required additional libraries are not available yet
Calculate genes' COEX (legacy): START
Retrieving expected genes' contingency table
calculating NN.. done
calculating NY..YN..YY..t().. done
Expected genes' contingency table elapsed time: 3.93589949607849
Calculating genes' COEX normalization factor
Calculate genes' normalization factor elapsed time: 0.00866293907165527
Retrieving observed genes' yes/yes contingency table
calculating YY.. done
Observed genes' contingency table elapsed time: 0.0450723171234131
Estimating genes' COEX
Calculate genes' COEX elapsed time: 1.39852213859558
Total calculations elapsed time: 5.38815689086914
Calculate genes' COEX (legacy): DONE
Only genes' COEX elapsed time: 6.48370504379272
Dataset analysis elapsed time: 11.3289330005646
COTAN dataset analysis: DONE
Checking uniformity for the cluster '2_4-merge' with 430 cells
Calculate GDI dataframe: START
Using S
Calculating S: START
Calculating S: DONE
Calculate `GDI`: START
Effective number of cores used: 1
Executing 1 genes batches
Total calculations elapsed time: 0.0309131145477295
Calculate `GDI`: DONE
Total calculations elapsed time: 3.43584537506104
Calculate GDI dataframe: DONE
Clean plots: START
Total calculations elapsed time: 0.0364799499511719
Clean plots: DONE
GDI plot
Removed 0 low GDI genes (such as the fully-expressed) in GDI plot
Cluster 2_4-merge, with size 430, is not uniform
Cluster 2_4-merge's shift to uniformity: 3.07228472969514
class = AdvancedGDIUniformityCheck, firstCheck.isCheckAbove = FALSE, firstCheck.GDIThreshold = 1.397, firstCheck.maxRatioBeyond = 0.05, firstCheck.maxRankBeyond = 0, firstCheck.fractionBeyond = 0.583756345177665, firstCheck.thresholdRank = 0, firstCheck.quantileAtRatio = 3.7954982715656, firstCheck.quantileAtRank = NaN, secondCheck.isCheckAbove = TRUE, secondCheck.GDIThreshold = 1.407, secondCheck.maxRatioBeyond = 0.02, secondCheck.maxRankBeyond = 0, secondCheck.fractionBeyond = 0.576988155668359, secondCheck.thresholdRank = 0, secondCheck.quantileAtRatio = 4.08354952912925, secondCheck.quantileAtRank = NaN, thirdCheck.isCheckAbove = FALSE, thirdCheck.GDIThreshold = 1.5, thirdCheck.maxRatioBeyond = 0.01, thirdCheck.maxRankBeyond = 0, thirdCheck.fractionBeyond = 0.524534686971235, thirdCheck.thresholdRank = 0, thirdCheck.quantileAtRatio = 4.42722016730736, thirdCheck.quantileAtRank = NaN, fourthCheck.isCheckAbove = FALSE, fourthCheck.GDIThreshold = 1.5, fourthCheck.maxRatioBeyond = NaN, fourthCheck.maxRankBeyond = 2, fourthCheck.fractionBeyond = NaN, fourthCheck.thresholdRank = 310, fourthCheck.quantileAtRatio = NaN, fourthCheck.quantileAtRank = 4.57228472969514, isUniform = FALSE, clusterSize = 430
Clusters 2 and 4 cannot be merged
Clusters 1 and 2 will be merged
Clusters 4 and 3 will be merged
Executed 2 merges
Loop calculations elapsed time: 19.5647830963135
Start merging nearest clusters: iteration 4
Differential Expression Analysis - START
* DEA on cluster '1_2-merge' with 499 cells
* DEA on cluster '3_4-merge' with 501 cells
Total calculations elapsed time: 0.0288305282592773
Differential Expression Analysis - DONE
Updating check results for the 3 already tested pairs to align to new checker
1 new clusters pairs to be tested for merging:
c("1_2-merge", "3_4-merge")
*1_2-merge_3_4-merge-merge
Asked to drop no genes or cells
COTAN dataset analysis: START
Genes/cells selection done: dropped [0] genes and [0] cells
Working on [600] genes and [1000] cells
Dataset cleaning elapsed time: 1.00690913200378
Estimate `dispersion`: START
Effective number of cores used: 1
Executing 1 genes batches
Parallel dispersion Newton-Raphson: used up to 7 iterations
Total calculations elapsed time: 2.32721614837646
Estimate `dispersion`: DONE
Estimate `dispersion`: DONE
`dispersion` | min: -0.0529252975916502 | max: 462.908586418992 | % negative: 17.3333333333333
Model parameter estimation elapsed time: 3.28958177566528
COTAN genes' COEX estimation: START
While trying to load the `torch` library Error in doTryCatch(return(expr), name, parentenv, handler): The `torch` library is installed but the required additional libraries are not available yet
Calculate genes' COEX (legacy): START
Retrieving expected genes' contingency table
calculating NN.. done
calculating NY..YN..YY..t().. done
Expected genes' contingency table elapsed time: 3.58741092681885
Calculating genes' COEX normalization factor
Calculate genes' normalization factor elapsed time: 0.00600004196166992
Retrieving observed genes' yes/yes contingency table
calculating YY.. done
Observed genes' contingency table elapsed time: 0.0631539821624756
Estimating genes' COEX
Calculate genes' COEX elapsed time: 1.16005873680115
Total calculations elapsed time: 4.81662368774414
Calculate genes' COEX (legacy): DONE
Only genes' COEX elapsed time: 6.08832454681396
Dataset analysis elapsed time: 10.384815454483
COTAN dataset analysis: DONE
Checking uniformity for the cluster '1_2-merge_3_4-merge-merge' with 1000 cells
Calculate GDI dataframe: START
Using S
Calculating S: START
Calculating S: DONE
Calculate `GDI`: START
Effective number of cores used: 1
Executing 1 genes batches
Total calculations elapsed time: 0.0317957401275635
Calculate `GDI`: DONE
Total calculations elapsed time: 3.37126421928406
Calculate GDI dataframe: DONE
Clean plots: START
Total calculations elapsed time: 0.038355827331543
Clean plots: DONE
GDI plot
Removed 0 low GDI genes (such as the fully-expressed) in GDI plot
Cluster 1_2-merge_3_4-merge-merge, with size 1000, is not uniform
Cluster 1_2-merge_3_4-merge-merge's shift to uniformity: 3.86988385120409
class = AdvancedGDIUniformityCheck, firstCheck.isCheckAbove = FALSE, firstCheck.GDIThreshold = 1.397, firstCheck.maxRatioBeyond = 0.05, firstCheck.maxRankBeyond = 0, firstCheck.fractionBeyond = 0.69, firstCheck.thresholdRank = 0, firstCheck.quantileAtRatio = 4.54596809454193, firstCheck.quantileAtRank = NaN, secondCheck.isCheckAbove = TRUE, secondCheck.GDIThreshold = 1.407, secondCheck.maxRatioBeyond = 0.02, secondCheck.maxRankBeyond = 0, secondCheck.fractionBeyond = 0.678333333333333, secondCheck.thresholdRank = 0, secondCheck.quantileAtRatio = 4.93144728766684, secondCheck.quantileAtRank = NaN, thirdCheck.isCheckAbove = FALSE, thirdCheck.GDIThreshold = 1.5, thirdCheck.maxRatioBeyond = 0.01, thirdCheck.maxRankBeyond = 0, thirdCheck.fractionBeyond = 0.593333333333333, thirdCheck.thresholdRank = 0, thirdCheck.quantileAtRatio = 5.2532296852478, thirdCheck.quantileAtRank = NaN, fourthCheck.isCheckAbove = FALSE, fourthCheck.GDIThreshold = 1.5, fourthCheck.maxRatioBeyond = NaN, fourthCheck.maxRankBeyond = 2, fourthCheck.fractionBeyond = NaN, fourthCheck.thresholdRank = 356, fourthCheck.quantileAtRatio = NaN, fourthCheck.quantileAtRank = 5.36988385120409, isUniform = FALSE, clusterSize = 1000
Clusters 1_2-merge and 3_4-merge cannot be merged
No clusters will be merged
None of the remaining tested cluster pairs could be merged
Executed all merges for threshold 1.397 out of 4 checks
The final merged clusterization contains [2] different clusters: 1_2-merge, 3_4-merge
Differential Expression Analysis - START
* DEA on cluster '1' with 499 cells
* DEA on cluster '2' with 501 cells
Total calculations elapsed time: 0.0277116298675537
Differential Expression Analysis - DONE
Applied reordering to clusterization is:
1 -> 1, 2 -> 2
Total calculations elapsed time: 71.7193722724915
Merging cells' uniform clustering: DONE
Applied reordering to clusterization is:
1 -> 1, 2 -> 2
Log Fold Change Analysis - START
* Analysis of cluster: '1'
* Analysis of cluster: '2'
Total calculations elapsed time: 2.00741195678711
Log Fold Change Analysis - DONE
[1] "Tested cluster: 1"
Asked to drop 0 genes and 501 cells
COTAN dataset analysis: START
Asked to drop 16 genes and 0 cells
Genes/cells selection done: dropped [16] genes and [0] cells
Working on [584] genes and [499] cells
Dataset cleaning elapsed time: 1.09160566329956
Estimate `dispersion`: START
Effective number of cores used: 1
Executing 1 genes batches
Parallel dispersion Newton-Raphson: used up to 10 iterations
Total calculations elapsed time: 2.33081531524658
Estimate `dispersion`: DONE
Estimate `dispersion`: DONE
`dispersion` | min: -0.0608154544840047 | max: 1260.06995351592 | % negative: 35.6164383561644
Model parameter estimation elapsed time: 3.65771842002869
COTAN genes' COEX estimation: START
While trying to load the `torch` library Error in doTryCatch(return(expr), name, parentenv, handler): The `torch` library is installed but the required additional libraries are not available yet
Calculate genes' COEX (legacy): START
Retrieving expected genes' contingency table
calculating NN.. done
calculating NY..YN..YY..t().. done
Expected genes' contingency table elapsed time: 4.38303542137146
Calculating genes' COEX normalization factor
Calculate genes' normalization factor elapsed time: 0.00888991355895996
Retrieving observed genes' yes/yes contingency table
calculating YY.. done
Observed genes' contingency table elapsed time: 0.0423369407653809
Estimating genes' COEX
Calculate genes' COEX elapsed time: 1.64187717437744
Total calculations elapsed time: 6.07613945007324
Calculate genes' COEX (legacy): DONE
Only genes' COEX elapsed time: 7.87846875190735
Dataset analysis elapsed time: 12.6277928352356
COTAN dataset analysis: DONE
Calculate GDI dataframe: START
Using S
Calculating S: START
Calculating S: DONE
Calculate `GDI`: START
Effective number of cores used: 1
Executing 1 genes batches
Total calculations elapsed time: 0.0355513095855713
Calculate `GDI`: DONE
Total calculations elapsed time: 4.38525581359863
Calculate GDI dataframe: DONE
Dispersion bisection: straddling used 2 iterations
Dispersion bisection: used 8 iterations
Dispersion bisection: straddling used 1 iterations
Dispersion bisection: used 9 iterations
Dispersion Newton-Raphson: used up to 4 iterations
Dispersion Newton-Raphson: used up to 4 iterations
parallel dispersion bisection: straddling used up to 2 iterations
Parallel dispersion bisection: used up to 9 iterations
Parallel dispersion Newton-Raphson: used up to 4 iterations
[ FAIL 0 | WARN 3 | SKIP 0 | PASS 572 ]
[ FAIL 0 | WARN 3 | SKIP 0 | PASS 572 ]
>
> proc.time()
user system elapsed
786.811 3.969 786.983
COTAN.Rcheck/COTAN-Ex.timings
| name | user | system | elapsed | |
| COTAN_Legacy | 0.002 | 0.000 | 0.002 | |
| COTAN_ObjectCreation | 10.084 | 0.123 | 9.926 | |
| CalculatingCOEX | 51.035 | 0.466 | 50.454 | |
| ClustersList | 0.007 | 0.001 | 0.008 | |
| Conversions | 4.755 | 0.035 | 4.791 | |
| GenesStatistics | 10.287 | 0.056 | 10.052 | |
| HandleMetaData | 0.038 | 0.000 | 0.038 | |
| HandlingClusterizations | 39.990 | 0.323 | 39.977 | |
| HandlingConditions | 0.069 | 0.001 | 0.070 | |
| HeatmapPlots | 30.579 | 0.473 | 30.279 | |
| Installing_torch | 0.000 | 0.000 | 0.001 | |
| LoggingFunctions | 0.002 | 0.000 | 0.002 | |
| ParametersEstimations | 21.311 | 0.253 | 21.560 | |
| RawDataCleaning | 4.631 | 0.012 | 4.575 | |
| RawDataGetters | 0.038 | 0.000 | 0.038 | |
| UniformClusters | 68.553 | 0.157 | 67.919 | |
| getColorsVector | 0.001 | 0.000 | 0.001 | |