Back to Multiple platform build/check report for BioC 3.22:   simplified   long
AB[C]DEFGHIJKLMNOPQRSTUVWXYZ

This page was generated on 2025-11-17 11:58 -0500 (Mon, 17 Nov 2025).

HostnameOSArch (*)R versionInstalled pkgs
nebbiolo2Linux (Ubuntu 24.04.3 LTS)x86_644.5.1 Patched (2025-08-23 r88802) -- "Great Square Root" 4903
taishanLinux (openEuler 24.03 LTS)aarch644.5.0 (2025-04-11) -- "How About a Twenty-Six" 4668
Click on any hostname to see more info about the system (e.g. compilers)      (*) as reported by 'uname -p', except on Windows and Mac OS X

Package 289/2361HostnameOS / ArchINSTALLBUILDCHECKBUILD BIN
CatsCradle 1.4.1  (landing page)
Michael Shapiro
Snapshot Date: 2025-11-16 13:45 -0500 (Sun, 16 Nov 2025)
git_url: https://git.bioconductor.org/packages/CatsCradle
git_branch: RELEASE_3_22
git_last_commit: 87aae32
git_last_commit_date: 2025-11-04 07:20:10 -0500 (Tue, 04 Nov 2025)
nebbiolo2Linux (Ubuntu 24.04.3 LTS) / x86_64  OK    OK    OK  UNNEEDED, same version is already published
taishanLinux (openEuler 24.03 LTS) / aarch64  OK    OK    OK  


CHECK results for CatsCradle on nebbiolo2

To the developers/maintainers of the CatsCradle package:
- Allow up to 24 hours (and sometimes 48 hours) for your latest push to git@git.bioconductor.org:packages/CatsCradle.git to reflect on this report. See Troubleshooting Build Report for more information.
- Use the following Renviron settings to reproduce errors and warnings.
- If 'R CMD check' started to fail recently on the Linux builder(s) over a missing dependency, add the missing dependency to 'Suggests:' in your DESCRIPTION file. See Renviron.bioc for more information.

raw results


Summary

Package: CatsCradle
Version: 1.4.1
Command: /home/biocbuild/bbs-3.22-bioc/R/bin/R CMD check --install=check:CatsCradle.install-out.txt --library=/home/biocbuild/bbs-3.22-bioc/R/site-library --timings CatsCradle_1.4.1.tar.gz
StartedAt: 2025-11-16 21:56:46 -0500 (Sun, 16 Nov 2025)
EndedAt: 2025-11-16 22:14:43 -0500 (Sun, 16 Nov 2025)
EllapsedTime: 1076.9 seconds
RetCode: 0
Status:   OK  
CheckDir: CatsCradle.Rcheck
Warnings: 0

Command output

##############################################################################
##############################################################################
###
### Running command:
###
###   /home/biocbuild/bbs-3.22-bioc/R/bin/R CMD check --install=check:CatsCradle.install-out.txt --library=/home/biocbuild/bbs-3.22-bioc/R/site-library --timings CatsCradle_1.4.1.tar.gz
###
##############################################################################
##############################################################################


* using log directory ‘/home/biocbuild/bbs-3.22-bioc/meat/CatsCradle.Rcheck’
* using R version 4.5.1 Patched (2025-08-23 r88802)
* using platform: x86_64-pc-linux-gnu
* R was compiled by
    gcc (Ubuntu 13.3.0-6ubuntu2~24.04) 13.3.0
    GNU Fortran (Ubuntu 13.3.0-6ubuntu2~24.04) 13.3.0
* running under: Ubuntu 24.04.3 LTS
* using session charset: UTF-8
* checking for file ‘CatsCradle/DESCRIPTION’ ... OK
* this is package ‘CatsCradle’ version ‘1.4.1’
* package encoding: UTF-8
* checking package namespace information ... OK
* checking package dependencies ... INFO
Imports includes 21 non-default packages.
Importing from so many packages makes the package vulnerable to any of
them becoming unavailable.  Move as many as possible to Suggests and
use conditionally.
* checking if this is a source package ... OK
* checking if there is a namespace ... OK
* checking for hidden files and directories ... OK
* checking for portable file names ... OK
* checking for sufficient/correct file permissions ... OK
* checking whether package ‘CatsCradle’ can be installed ... OK
* checking installed package size ... OK
* checking package directory ... OK
* checking ‘build’ directory ... OK
* checking DESCRIPTION meta-information ... OK
* checking top-level files ... OK
* checking for left-over files ... OK
* checking index information ... OK
* checking package subdirectories ... OK
* checking code files for non-ASCII characters ... OK
* checking R files for syntax errors ... OK
* checking whether the package can be loaded ... OK
* checking whether the package can be loaded with stated dependencies ... OK
* checking whether the package can be unloaded cleanly ... OK
* checking whether the namespace can be loaded with stated dependencies ... OK
* checking whether the namespace can be unloaded cleanly ... OK
* checking loading without being on the library search path ... OK
* checking dependencies in R code ... OK
* checking S3 generic/method consistency ... OK
* checking replacement functions ... OK
* checking foreign function calls ... OK
* checking R code for possible problems ... NOTE
edgeLengthPlot: no visible binding for global variable ‘cellTypePair’
edgeLengthPlot: no visible binding for global variable ‘cutoff’
make.getExample : getExample: no visible binding for global variable
  ‘seuratGenes’
make.getExample : getExample: no visible binding for global variable
  ‘seuratCells’
make.getExample : getExample: no visible binding for global variable
  ‘xeniumCells’
make.getExample : getExample: no visible binding for global variable
  ‘moransI’
make.getExample : getExample: no visible binding for global variable
  ‘moransILigandReceptor’
make.getExample : getExample: no visible binding for global variable
  ‘humanLRN’
make.getExample : getExample: no visible binding for global variable
  ‘mouseLRN’
meanGeneClusterOnCellUMAP: no visible binding for global variable
  ‘UMAP_1’
meanGeneClusterOnCellUMAP: no visible binding for global variable
  ‘UMAP_2’
plotLRDotplot: no visible binding for global variable ‘sender’
plotLRDotplot: no visible binding for global variable ‘negLog10PValue’
plotLRDotplot: no visible binding for global variable ‘receiver’
Undefined global functions or variables:
  UMAP_1 UMAP_2 cellTypePair cutoff humanLRN moransI
  moransILigandReceptor mouseLRN negLog10PValue receiver sender
  seuratCells seuratGenes xeniumCells
* checking Rd files ... OK
* checking Rd metadata ... OK
* checking Rd cross-references ... OK
* checking for missing documentation entries ... OK
* checking for code/documentation mismatches ... OK
* checking Rd \usage sections ... OK
* checking Rd contents ... OK
* checking for unstated dependencies in examples ... OK
* checking contents of ‘data’ directory ... OK
* checking data for non-ASCII characters ... OK
* checking data for ASCII and uncompressed saves ... OK
* checking files in ‘vignettes’ ... OK
* checking examples ... OK
Examples with CPU (user + system) or elapsed time > 5s
                                      user system elapsed
annotateGeneAsVector                46.336  0.881  47.231
computeNBHDVsCTObject               19.172  0.166  19.342
randomiseNodeIndices                15.304  0.003  15.310
getObjectSubsetClusteringPValue     13.050  0.154  13.208
aggregateGeneExpression             11.022  0.318  11.275
transposeObject                     11.247  0.002  11.252
computeGraphEmbedding                9.890  0.110  10.001
predictAnnotation                    8.495  0.077   8.573
predictAnnotationAllGenes            7.666  0.073   7.740
predictGeneAnnotationImpl            7.206  0.107   7.314
runGeometricClusteringTrials         6.494  0.029   6.524
medianComplementPValue               6.313  0.004   6.319
getNearbyGenes                       6.085  0.099   6.186
combinatorialSpheres                 6.083  0.029   6.112
symmetryCheckNN                      6.050  0.001   6.053
tagRowAndColNames                    5.916  0.002   5.919
geneSetsVsGeneClustersPValueMatrix   5.846  0.066   5.914
meanZPerClusterOnUMAP                5.853  0.002   5.856
getGeneClusterAveragesPerCell        5.752  0.009   5.763
getObjectSubsetClusteringStatistics  5.687  0.013   5.703
desymmetriseNN                       5.579  0.109   5.689
symmetriseNN                         5.675  0.003   5.679
getAverageExpressionMatrix           5.620  0.016   5.638
getAverageExpressionDF               5.587  0.010   5.598
getClusterOrder                      5.480  0.061   5.543
meanGeneClusterOnCellUMAP            5.533  0.001   5.536
getNearestNeighbourLists             5.439  0.009   5.449
meanZPerCluster                      5.426  0.001   5.428
getGeneNeighbors                     5.357  0.057   5.416
* checking for unstated dependencies in vignettes ... OK
* checking package vignettes ... OK
* checking re-building of vignette outputs ... OK
* checking PDF version of manual ... OK
* DONE

Status: 1 NOTE
See
  ‘/home/biocbuild/bbs-3.22-bioc/meat/CatsCradle.Rcheck/00check.log’
for details.


Installation output

CatsCradle.Rcheck/00install.out

##############################################################################
##############################################################################
###
### Running command:
###
###   /home/biocbuild/bbs-3.22-bioc/R/bin/R CMD INSTALL CatsCradle
###
##############################################################################
##############################################################################


* installing to library ‘/home/biocbuild/bbs-3.22-bioc/R/site-library’
* installing *source* package ‘CatsCradle’ ...
** this is package ‘CatsCradle’ version ‘1.4.1’
** using staged installation
** R
** data
** inst
** byte-compile and prepare package for lazy loading
** help
*** installing help indices
** building package indices
** installing vignettes
** testing if installed package can be loaded from temporary location
** testing if installed package can be loaded from final location
** testing if installed package keeps a record of temporary installation path
* DONE (CatsCradle)

Tests output


Example timings

CatsCradle.Rcheck/CatsCradle-Ex.timings

nameusersystemelapsed
aggregateGeneExpression11.022 0.31811.275
annotateGeneAsVector46.336 0.88147.231
annotateGenesByGeneSet1.5510.2261.803
cellTypesPerCellTypeGraphFromCellMatrix0.1830.0020.185
collapseExtendedNBHDs2.4190.0012.348
combinatorialSpheres6.0830.0296.112
computeCellTypesPerCellTypeMatrix0.1100.0330.142
computeEdgeGraph0.1740.0170.158
computeEdgeObject0.9770.0210.998
computeGraphEmbedding 9.890 0.11010.001
computeNBHDByCTMatrix0.1020.0000.103
computeNBHDVsCTObject19.172 0.16619.342
computeNeighbourEnrichment0.1260.0130.140
computeNeighboursDelaunay0.0910.0030.096
computeNeighboursEuclidean1.0500.0450.677
cullEdges0.5140.0040.518
desymmetriseNN5.5790.1095.689
directedHausdorfDistance000
edgeCutoffsByClustering0.3580.0010.359
edgeCutoffsByPercentile0.2660.0010.268
edgeCutoffsByWatershed0.310.000.31
edgeCutoffsByZScore0.3240.0010.326
edgeLengthPlot0.3260.0020.328
edgeLengthsAndCellTypePairs0.3370.0000.337
exampleObjects0.0000.0000.001
geneSetsVsGeneClustersPValueMatrix5.8460.0665.914
getAverageExpressionDF5.5870.0105.598
getAverageExpressionMatrix5.6200.0165.638
getClusterOrder5.4800.0615.543
getExtendedNBHDs0.9260.0050.766
getFeatureZScores0.1980.0020.201
getGeneClusterAveragesPerCell5.7520.0095.763
getGeneNeighbors5.3570.0575.416
getLigandReceptorNetwork0.0160.0000.016
getLigandReceptorPairsInPanel0.0810.0010.082
getNearbyGenes6.0850.0996.186
getNearestNeighbourLists5.4390.0095.449
getObjectSubsetClusteringPValue13.050 0.15413.208
getObjectSubsetClusteringStatistics5.6870.0135.703
make.getExample0.0910.0010.091
makeLRInteractionHeatmap0.1810.0030.183
makeSummedLRInteractionHeatmap0.1590.0010.160
meanGeneClusterOnCellUMAP5.5330.0015.536
meanZPerCluster5.4260.0015.428
meanZPerClusterOnUMAP5.8530.0025.856
medianComplementDistance0.0000.0000.001
medianComplementPValue6.3130.0046.319
nbhdsAsEdgesToNbhdsAsList0.6800.0150.694
neighbourhoodDiameter0.7130.0230.736
performLigandReceptorAnalysis0.9940.1221.116
performLigandReceptorAnalysisPermutation0.8330.1510.984
plotLRDotplot1.5190.0021.521
predictAnnotation8.4950.0778.573
predictAnnotationAllGenes7.6660.0737.740
predictGeneAnnotationImpl7.2060.1077.314
randomiseNodeIndices15.304 0.00315.310
runGeometricClusteringTrials6.4940.0296.524
runMoransI1.0850.0031.088
sankeyFromMatrix0.0030.0000.004
symmetriseNN5.6750.0035.679
symmetryCheckNN6.0500.0016.053
tagRowAndColNames5.9160.0025.919
transposeObject11.247 0.00211.252