| Back to Multiple platform build/check report for BioC 3.22: simplified long |
|
This page was generated on 2025-10-25 12:03 -0400 (Sat, 25 Oct 2025).
| Hostname | OS | Arch (*) | R version | Installed pkgs |
|---|---|---|---|---|
| nebbiolo2 | Linux (Ubuntu 24.04.3 LTS) | x86_64 | 4.5.1 Patched (2025-08-23 r88802) -- "Great Square Root" | 4901 |
| lconway | macOS 12.7.6 Monterey | x86_64 | 4.5.1 Patched (2025-09-10 r88807) -- "Great Square Root" | 4691 |
| kjohnson3 | macOS 13.7.7 Ventura | arm64 | 4.5.1 Patched (2025-09-10 r88807) -- "Great Square Root" | 4637 |
| taishan | Linux (openEuler 24.03 LTS) | aarch64 | 4.5.0 (2025-04-11) -- "How About a Twenty-Six" | 4658 |
| Click on any hostname to see more info about the system (e.g. compilers) (*) as reported by 'uname -p', except on Windows and Mac OS X | ||||
| Package 1048/2361 | Hostname | OS / Arch | INSTALL | BUILD | CHECK | BUILD BIN | ||||||||
| imcRtools 1.15.5 (landing page) Daniel Schulz
| nebbiolo2 | Linux (Ubuntu 24.04.3 LTS) / x86_64 | OK | OK | OK | |||||||||
| lconway | macOS 12.7.6 Monterey / x86_64 | OK | OK | OK | OK | |||||||||
| kjohnson3 | macOS 13.7.7 Ventura / arm64 | OK | OK | OK | OK | |||||||||
| taishan | Linux (openEuler 24.03 LTS) / aarch64 | OK | NA | NA | ||||||||||
|
To the developers/maintainers of the imcRtools package: - Allow up to 24 hours (and sometimes 48 hours) for your latest push to git@git.bioconductor.org:packages/imcRtools.git to reflect on this report. See Troubleshooting Build Report for more information. - Use the following Renviron settings to reproduce errors and warnings. - If 'R CMD check' started to fail recently on the Linux builder(s) over a missing dependency, add the missing dependency to 'Suggests:' in your DESCRIPTION file. See Renviron.bioc for more information. |
| Package: imcRtools |
| Version: 1.15.5 |
| Command: /home/biocbuild/bbs-3.22-bioc/R/bin/R CMD check --install=check:imcRtools.install-out.txt --library=/home/biocbuild/bbs-3.22-bioc/R/site-library --timings imcRtools_1.15.5.tar.gz |
| StartedAt: 2025-10-25 00:42:35 -0400 (Sat, 25 Oct 2025) |
| EndedAt: 2025-10-25 01:05:56 -0400 (Sat, 25 Oct 2025) |
| EllapsedTime: 1401.8 seconds |
| RetCode: 0 |
| Status: OK |
| CheckDir: imcRtools.Rcheck |
| Warnings: 0 |
##############################################################################
##############################################################################
###
### Running command:
###
### /home/biocbuild/bbs-3.22-bioc/R/bin/R CMD check --install=check:imcRtools.install-out.txt --library=/home/biocbuild/bbs-3.22-bioc/R/site-library --timings imcRtools_1.15.5.tar.gz
###
##############################################################################
##############################################################################
* using log directory ‘/home/biocbuild/bbs-3.22-bioc/meat/imcRtools.Rcheck’
* using R version 4.5.1 Patched (2025-08-23 r88802)
* using platform: x86_64-pc-linux-gnu
* R was compiled by
gcc (Ubuntu 13.3.0-6ubuntu2~24.04) 13.3.0
GNU Fortran (Ubuntu 13.3.0-6ubuntu2~24.04) 13.3.0
* running under: Ubuntu 24.04.3 LTS
* using session charset: UTF-8
* checking for file ‘imcRtools/DESCRIPTION’ ... OK
* this is package ‘imcRtools’ version ‘1.15.5’
* package encoding: UTF-8
* checking package namespace information ... OK
* checking package dependencies ... INFO
Imports includes 29 non-default packages.
Importing from so many packages makes the package vulnerable to any of
them becoming unavailable. Move as many as possible to Suggests and
use conditionally.
* checking if this is a source package ... OK
* checking if there is a namespace ... OK
* checking for hidden files and directories ... OK
* checking for portable file names ... OK
* checking for sufficient/correct file permissions ... OK
* checking whether package ‘imcRtools’ can be installed ... OK
* checking installed package size ... INFO
installed size is 8.0Mb
sub-directories of 1Mb or more:
extdata 7.7Mb
* checking package directory ... OK
* checking ‘build’ directory ... OK
* checking DESCRIPTION meta-information ... OK
* checking top-level files ... OK
* checking for left-over files ... OK
* checking index information ... OK
* checking package subdirectories ... OK
* checking code files for non-ASCII characters ... OK
* checking R files for syntax errors ... OK
* checking whether the package can be loaded ... OK
* checking whether the package can be loaded with stated dependencies ... OK
* checking whether the package can be unloaded cleanly ... OK
* checking whether the namespace can be loaded with stated dependencies ... OK
* checking whether the namespace can be unloaded cleanly ... OK
* checking loading without being on the library search path ... OK
* checking dependencies in R code ... OK
* checking S3 generic/method consistency ... OK
* checking replacement functions ... OK
* checking foreign function calls ... OK
* checking R code for possible problems ... NOTE
.generateInteractionsPlot: no visible binding for global variable
‘weight’
.valid.plotInteractions.input: no visible binding for global variable
‘from_label’
.valid.plotInteractions.input: no visible binding for global variable
‘to_label’
.valid.plotInteractions.input: no visible global function definition
for ‘n_distinct’
.valid.plotInteractions.input: no visible global function definition
for ‘capture.output’
plotInteractions: no visible binding for global variable ‘from_label’
plotInteractions: no visible binding for global variable ‘to_label’
plotInteractions: no visible binding for global variable ‘weight’
plotInteractions: no visible global function definition for
‘everything’
readSCEfromTIFF: no visible global function definition for ‘read.csv’
Undefined global functions or variables:
capture.output everything from_label n_distinct read.csv to_label
weight
Consider adding
importFrom("utils", "capture.output", "read.csv")
to your NAMESPACE file.
* checking Rd files ... NOTE
checkRd: (-1) aggregateNeighbors.Rd:52: Lost braces; missing escapes or markup?
52 | \code{summarize_by = "metadata"} or "{statistic}_aggregatedExpression" when
| ^
checkRd: (-1) testInteractions.Rd:64: Lost braces in \itemize; \value handles \item{}{} directly
checkRd: (-1) testInteractions.Rd:65-66: Lost braces in \itemize; \value handles \item{}{} directly
checkRd: (-1) testInteractions.Rd:67-68: Lost braces in \itemize; \value handles \item{}{} directly
checkRd: (-1) testInteractions.Rd:69-71: Lost braces in \itemize; \value handles \item{}{} directly
checkRd: (-1) testInteractions.Rd:72: Lost braces in \itemize; \value handles \item{}{} directly
checkRd: (-1) testInteractions.Rd:73: Lost braces in \itemize; \value handles \item{}{} directly
checkRd: (-1) testInteractions.Rd:74: Lost braces in \itemize; \value handles \item{}{} directly
checkRd: (-1) testInteractions.Rd:76: Lost braces in \itemize; \value handles \item{}{} directly
checkRd: (-1) testInteractions.Rd:77: Lost braces in \itemize; \value handles \item{}{} directly
checkRd: (-1) testInteractions.Rd:78: Lost braces in \itemize; \value handles \item{}{} directly
* checking Rd metadata ... OK
* checking Rd cross-references ... NOTE
Found the following Rd file(s) with Rd \link{} targets missing package
anchors:
plotSpatial.Rd: ggraph
readImagefromTXT.Rd: Image-class, CytoImageList-class
readSCEfromTIFF.Rd: SingleCellExperiment-class
readSCEfromTXT.Rd: SingleCellExperiment-class
read_cpout.Rd: SpatialExperiment-class, SingleCellExperiment-class
read_steinbock.Rd: SpatialExperiment-class,
SingleCellExperiment-class
Please provide package anchors for all Rd \link{} targets not in the
package itself and the base packages.
* checking for missing documentation entries ... OK
* checking for code/documentation mismatches ... OK
* checking Rd \usage sections ... OK
* checking Rd contents ... OK
* checking for unstated dependencies in examples ... OK
* checking files in ‘vignettes’ ... OK
* checking examples ... OK
Examples with CPU (user + system) or elapsed time > 5s
user system elapsed
testInteractions 210.497 2.363 141.612
read_steinbock 17.059 5.877 18.293
buildSpatialGraph 8.008 1.037 9.061
plotInteractions 7.950 0.122 5.956
* checking for unstated dependencies in ‘tests’ ... OK
* checking tests ...
Running ‘testthat.R’
OK
* checking for unstated dependencies in vignettes ... OK
* checking package vignettes ... OK
* checking re-building of vignette outputs ... OK
* checking PDF version of manual ... OK
* DONE
Status: 3 NOTEs
See
‘/home/biocbuild/bbs-3.22-bioc/meat/imcRtools.Rcheck/00check.log’
for details.
imcRtools.Rcheck/00install.out
############################################################################## ############################################################################## ### ### Running command: ### ### /home/biocbuild/bbs-3.22-bioc/R/bin/R CMD INSTALL imcRtools ### ############################################################################## ############################################################################## * installing to library ‘/home/biocbuild/bbs-3.22-bioc/R/site-library’ * installing *source* package ‘imcRtools’ ... ** this is package ‘imcRtools’ version ‘1.15.5’ ** using staged installation ** R ** inst ** byte-compile and prepare package for lazy loading ** help *** installing help indices ** building package indices ** installing vignettes ** testing if installed package can be loaded from temporary location ** testing if installed package can be loaded from final location ** testing if installed package keeps a record of temporary installation path * DONE (imcRtools)
imcRtools.Rcheck/tests/testthat.Rout
R version 4.5.1 Patched (2025-08-23 r88802) -- "Great Square Root"
Copyright (C) 2025 The R Foundation for Statistical Computing
Platform: x86_64-pc-linux-gnu
R is free software and comes with ABSOLUTELY NO WARRANTY.
You are welcome to redistribute it under certain conditions.
Type 'license()' or 'licence()' for distribution details.
R is a collaborative project with many contributors.
Type 'contributors()' for more information and
'citation()' on how to cite R or R packages in publications.
Type 'demo()' for some demos, 'help()' for on-line help, or
'help.start()' for an HTML browser interface to help.
Type 'q()' to quit R.
> library(testthat)
> library(imcRtools)
Loading required package: SpatialExperiment
Loading required package: SingleCellExperiment
Loading required package: SummarizedExperiment
Loading required package: MatrixGenerics
Loading required package: matrixStats
Attaching package: 'MatrixGenerics'
The following objects are masked from 'package:matrixStats':
colAlls, colAnyNAs, colAnys, colAvgsPerRowSet, colCollapse,
colCounts, colCummaxs, colCummins, colCumprods, colCumsums,
colDiffs, colIQRDiffs, colIQRs, colLogSumExps, colMadDiffs,
colMads, colMaxs, colMeans2, colMedians, colMins, colOrderStats,
colProds, colQuantiles, colRanges, colRanks, colSdDiffs, colSds,
colSums2, colTabulates, colVarDiffs, colVars, colWeightedMads,
colWeightedMeans, colWeightedMedians, colWeightedSds,
colWeightedVars, rowAlls, rowAnyNAs, rowAnys, rowAvgsPerColSet,
rowCollapse, rowCounts, rowCummaxs, rowCummins, rowCumprods,
rowCumsums, rowDiffs, rowIQRDiffs, rowIQRs, rowLogSumExps,
rowMadDiffs, rowMads, rowMaxs, rowMeans2, rowMedians, rowMins,
rowOrderStats, rowProds, rowQuantiles, rowRanges, rowRanks,
rowSdDiffs, rowSds, rowSums2, rowTabulates, rowVarDiffs, rowVars,
rowWeightedMads, rowWeightedMeans, rowWeightedMedians,
rowWeightedSds, rowWeightedVars
Loading required package: GenomicRanges
Loading required package: stats4
Loading required package: BiocGenerics
Loading required package: generics
Attaching package: 'generics'
The following objects are masked from 'package:base':
as.difftime, as.factor, as.ordered, intersect, is.element, setdiff,
setequal, union
Attaching package: 'BiocGenerics'
The following objects are masked from 'package:stats':
IQR, mad, sd, var, xtabs
The following objects are masked from 'package:base':
Filter, Find, Map, Position, Reduce, anyDuplicated, aperm, append,
as.data.frame, basename, cbind, colnames, dirname, do.call,
duplicated, eval, evalq, get, grep, grepl, is.unsorted, lapply,
mapply, match, mget, order, paste, pmax, pmax.int, pmin, pmin.int,
rank, rbind, rownames, sapply, saveRDS, table, tapply, unique,
unsplit, which.max, which.min
Loading required package: S4Vectors
Attaching package: 'S4Vectors'
The following object is masked from 'package:utils':
findMatches
The following objects are masked from 'package:base':
I, expand.grid, unname
Loading required package: IRanges
Loading required package: Seqinfo
Loading required package: Biobase
Welcome to Bioconductor
Vignettes contain introductory material; view with
'browseVignettes()'. To cite Bioconductor, see
'citation("Biobase")', and for packages 'citation("pkgname")'.
Attaching package: 'Biobase'
The following object is masked from 'package:MatrixGenerics':
rowMedians
The following objects are masked from 'package:matrixStats':
anyMissing, rowMedians
>
> test_check("imcRtools")
[ FAIL 0 | WARN 4 | SKIP 0 | PASS 3003 ]
[ FAIL 0 | WARN 4 | SKIP 0 | PASS 3003 ]
>
> proc.time()
user system elapsed
673.973 45.637 635.792
imcRtools.Rcheck/imcRtools-Ex.timings
| name | user | system | elapsed | |
| aggregateNeighbors | 0.737 | 0.054 | 0.773 | |
| binAcrossPixels | 0.811 | 0.249 | 1.060 | |
| buildSpatialGraph | 8.008 | 1.037 | 9.061 | |
| countInteractions | 0.608 | 0.003 | 0.547 | |
| detectCommunity | 1.884 | 0.026 | 1.910 | |
| detectSpatialContext | 1.686 | 0.010 | 1.671 | |
| distToCells | 1.968 | 0.023 | 1.980 | |
| filterPixels | 1.914 | 0.177 | 2.092 | |
| filterSpatialContext | 3.879 | 0.140 | 3.988 | |
| findBorderCells | 0.448 | 0.001 | 0.449 | |
| patchDetection | 2.229 | 0.052 | 2.271 | |
| patchSize | 0.882 | 0.002 | 0.858 | |
| plotInteractions | 7.950 | 0.122 | 5.956 | |
| plotSpatial | 4.257 | 0.098 | 4.355 | |
| plotSpatialContext | 3.328 | 0.019 | 3.324 | |
| plotSpotHeatmap | 0.415 | 0.133 | 0.549 | |
| readImagefromTXT | 0.214 | 0.263 | 0.443 | |
| readSCEfromTIFF | 0.291 | 0.002 | 0.296 | |
| readSCEfromTXT | 0.226 | 0.121 | 0.346 | |
| read_cpout | 0.798 | 0.564 | 1.366 | |
| read_steinbock | 17.059 | 5.877 | 18.293 | |
| show_cpout_features | 0.183 | 0.043 | 0.228 | |
| testInteractions | 210.497 | 2.363 | 141.612 | |