Back to Multiple platform build/check report for BioC 3.21:   simplified   long
ABCDEFGHIJKLMNOPQR[S]TUVWXYZ

This page was generated on 2025-02-18 11:38 -0500 (Tue, 18 Feb 2025).

HostnameOSArch (*)R versionInstalled pkgs
nebbiolo1Linux (Ubuntu 24.04.1 LTS)x86_64R Under development (unstable) (2025-01-20 r87609) -- "Unsuffered Consequences" 4720
palomino7Windows Server 2022 Datacenterx64R Under development (unstable) (2025-01-21 r87610 ucrt) -- "Unsuffered Consequences" 4482
lconwaymacOS 12.7.1 Montereyx86_64R Under development (unstable) (2025-01-22 r87618) -- "Unsuffered Consequences" 4493
kjohnson3macOS 13.7.1 Venturaarm64R Under development (unstable) (2025-01-20 r87609) -- "Unsuffered Consequences" 4446
Click on any hostname to see more info about the system (e.g. compilers)      (*) as reported by 'uname -p', except on Windows and Mac OS X

All results for package SpatialExperiment


To the developers/maintainers of the SpatialExperiment package:
- Allow up to 24 hours (and sometimes 48 hours) for your latest push to git@git.bioconductor.org:packages/SpatialExperiment.git to reflect on this report. See Troubleshooting Build Report for more information.
- Use the following Renviron settings to reproduce errors and warnings.
- If 'R CMD check' started to fail recently on the Linux builder(s) over a missing dependency, add the missing dependency to 'Suggests:' in your DESCRIPTION file. See Renviron.bioc for more information.

raw results

Package 2019/2295HostnameOS / ArchINSTALLBUILDCHECKBUILD BIN
SpatialExperiment 1.17.0  (landing page)
Dario Righelli
Snapshot Date: 2025-02-17 13:40 -0500 (Mon, 17 Feb 2025)
git_url: https://git.bioconductor.org/packages/SpatialExperiment
git_branch: devel
git_last_commit: 29a659f
git_last_commit_date: 2024-10-29 10:48:47 -0500 (Tue, 29 Oct 2024)
nebbiolo1Linux (Ubuntu 24.04.1 LTS) / x86_64  OK    OK    OK  UNNEEDED, same version is already published
palomino7Windows Server 2022 Datacenter / x64  OK    OK    OK    OK  UNNEEDED, same version is already published
lconwaymacOS 12.7.1 Monterey / x86_64  OK    OK    OK    OK  UNNEEDED, same version is already published
kjohnson3macOS 13.7.1 Ventura / arm64  OK    OK    OK    OK  UNNEEDED, same version is already published



Results for Bioconductor software packages that depend directly on package SpatialExperiment

QUICK STATSOS / ArchINSTALLBUILDCHECKBUILD BIN
nebbiolo1Linux (Ubuntu 24.04.1 LTS) / x86_64
0044
0440
00238
palomino7Windows Server 2022 Datacenter / x64
0043
0439
10236
0039
lconwaymacOS 12.7.1 Monterey / x86_64
0044
0440
00238
0040
kjohnson3macOS 13.7.1 Ventura / arm64
0044
0440
02236
0040
Package 1/44HostnameOS / ArchINSTALLBUILDCHECKBUILD BIN
alabaster.spatial 1.7.1  (landing page)
Aaron Lun
git_last_commit: f82c877
git_last_commit_date: 2024-11-09 04:41:21 -0500
nebbiolo1Linux (Ubuntu 24.04.1 LTS) / x86_64  OK    OK    OK  UNNEEDED, same version is already published
palomino7Windows Server 2022 Datacenter / x64  OK    OK    OK    OK  UNNEEDED, same version is already published
lconwaymacOS 12.7.1 Monterey / x86_64  OK    OK    OK    OK  UNNEEDED, same version is already published
kjohnson3macOS 13.7.1 Ventura / arm64  OK    OK    OK    OK  UNNEEDED, same version is already published
Package 2/44HostnameOS / ArchINSTALLBUILDCHECKBUILD BIN
Banksy 1.3.0  (landing page)
Joseph Lee
git_last_commit: abf3265
git_last_commit_date: 2024-10-29 11:26:36 -0500
nebbiolo1Linux (Ubuntu 24.04.1 LTS) / x86_64  OK    OK    OK  UNNEEDED, same version is already published
palomino7Windows Server 2022 Datacenter / x64  OK    OK    OK    OK  UNNEEDED, same version is already published
lconwaymacOS 12.7.1 Monterey / x86_64  OK    OK    OK    OK  UNNEEDED, same version is already published
kjohnson3macOS 13.7.1 Ventura / arm64  OK    OK    OK    OK  UNNEEDED, same version is already published
Package 3/44HostnameOS / ArchINSTALLBUILDCHECKBUILD BIN
BulkSignalR 0.99.22  (landing page)
Jean-Philippe Villemin
git_last_commit: a707d8a
git_last_commit_date: 2024-12-20 10:25:07 -0500
nebbiolo1Linux (Ubuntu 24.04.1 LTS) / x86_64  OK    OK    OK  UNNEEDED, same version is already published
palomino7Windows Server 2022 Datacenter / x64  OK    OK    OK    OK  UNNEEDED, same version is already published
lconwaymacOS 12.7.1 Monterey / x86_64  OK    OK    OK    OK  UNNEEDED, same version is already published
kjohnson3macOS 13.7.1 Ventura / arm64  OK    OK    OK    OK  UNNEEDED, same version is already published
Package 4/44HostnameOS / ArchINSTALLBUILDCHECKBUILD BIN
CatsCradle 1.1.1  (landing page)
Michael Shapiro
git_last_commit: b97fcc7
git_last_commit_date: 2025-02-11 09:20:56 -0500
nebbiolo1Linux (Ubuntu 24.04.1 LTS) / x86_64  OK    OK    WARNINGS  UNNEEDED, same version is already published
palomino7Windows Server 2022 Datacenter / x64  OK    OK    WARNINGS    OK  UNNEEDED, same version is already published
lconwaymacOS 12.7.1 Monterey / x86_64  OK    OK    WARNINGS    OK  UNNEEDED, same version is already published
kjohnson3macOS 13.7.1 Ventura / arm64  OK    OK    WARNINGS    OK  UNNEEDED, same version is already published
Package 5/44HostnameOS / ArchINSTALLBUILDCHECKBUILD BIN
concordexR 1.7.1  (landing page)
Kayla Jackson
git_last_commit: 82b99bd
git_last_commit_date: 2025-01-16 20:22:51 -0500
nebbiolo1Linux (Ubuntu 24.04.1 LTS) / x86_64  OK    OK    OK  UNNEEDED, same version is already published
palomino7Windows Server 2022 Datacenter / x64  OK    OK    OK    OK  UNNEEDED, same version is already published
lconwaymacOS 12.7.1 Monterey / x86_64  OK    OK    OK    OK  UNNEEDED, same version is already published
kjohnson3macOS 13.7.1 Ventura / arm64  OK    OK    OK    OK  UNNEEDED, same version is already published
Package 6/44HostnameOS / ArchINSTALLBUILDCHECKBUILD BIN
CTSV 1.9.0  (landing page)
Jinge Yu Developer
git_last_commit: cd7cd49
git_last_commit_date: 2024-10-29 11:12:29 -0500
nebbiolo1Linux (Ubuntu 24.04.1 LTS) / x86_64  OK    OK    OK  UNNEEDED, same version is already published
palomino7Windows Server 2022 Datacenter / x64  OK    OK    OK    OK  UNNEEDED, same version is already published
lconwaymacOS 12.7.1 Monterey / x86_64  OK    OK    OK    OK  UNNEEDED, same version is already published
kjohnson3macOS 13.7.1 Ventura / arm64  OK    OK    OK    OK  UNNEEDED, same version is already published
Package 7/44HostnameOS / ArchINSTALLBUILDCHECKBUILD BIN
cytomapper 1.19.0  (landing page)
Lasse Meyer
git_last_commit: ded2c6e
git_last_commit_date: 2024-10-29 10:45:01 -0500
nebbiolo1Linux (Ubuntu 24.04.1 LTS) / x86_64  OK    OK    OK  UNNEEDED, same version is already published
palomino7Windows Server 2022 Datacenter / x64  OK    OK    OK    OK  UNNEEDED, same version is already published
lconwaymacOS 12.7.1 Monterey / x86_64  OK    OK    OK    OK  UNNEEDED, same version is already published
kjohnson3macOS 13.7.1 Ventura / arm64  OK    OK    OK    OK  UNNEEDED, same version is already published
Package 8/44HostnameOS / ArchINSTALLBUILDCHECKBUILD BIN
DESpace 1.7.0  (landing page)
Peiying Cai
git_last_commit: 2b11443
git_last_commit_date: 2024-10-29 11:19:08 -0500
nebbiolo1Linux (Ubuntu 24.04.1 LTS) / x86_64  OK    OK    OK  UNNEEDED, same version is already published
palomino7Windows Server 2022 Datacenter / x64  OK    OK    OK    OK  UNNEEDED, same version is already published
lconwaymacOS 12.7.1 Monterey / x86_64  OK    OK    OK    OK  UNNEEDED, same version is already published
kjohnson3macOS 13.7.1 Ventura / arm64  OK    OK    OK    OK  UNNEEDED, same version is already published
Package 9/44HostnameOS / ArchINSTALLBUILDCHECKBUILD BIN
escheR 1.7.0  (landing page)
Boyi Guo
git_last_commit: 6c6c207
git_last_commit_date: 2024-10-29 11:19:29 -0500
nebbiolo1Linux (Ubuntu 24.04.1 LTS) / x86_64  OK    OK    OK  UNNEEDED, same version is already published
palomino7Windows Server 2022 Datacenter / x64  OK    OK    OK    OK  UNNEEDED, same version is already published
lconwaymacOS 12.7.1 Monterey / x86_64  OK    OK    OK    OK  UNNEEDED, same version is already published
kjohnson3macOS 13.7.1 Ventura / arm64  OK    OK    OK    OK  UNNEEDED, same version is already published
Package 10/44HostnameOS / ArchINSTALLBUILDCHECKBUILD BIN
ExperimentSubset 1.17.0  (landing page)
Irzam Sarfraz
git_last_commit: 48fa542
git_last_commit_date: 2024-10-29 10:51:55 -0500
nebbiolo1Linux (Ubuntu 24.04.1 LTS) / x86_64  OK    OK    OK  UNNEEDED, same version is already published
palomino7Windows Server 2022 Datacenter / x64  OK    OK    OK    OK  UNNEEDED, same version is already published
lconwaymacOS 12.7.1 Monterey / x86_64  OK    OK    OK    OK  UNNEEDED, same version is already published
kjohnson3macOS 13.7.1 Ventura / arm64  OK    OK    OK    OK  UNNEEDED, same version is already published
Package 11/44HostnameOS / ArchINSTALLBUILDCHECKBUILD BIN
FLAMES 2.1.6  (landing page)
Changqing Wang
git_last_commit: 925331f
git_last_commit_date: 2025-02-13 23:39:29 -0500
nebbiolo1Linux (Ubuntu 24.04.1 LTS) / x86_64  OK    OK    OK  UNNEEDED, same version is already published
palomino7Windows Server 2022 Datacenter / x64... NOT SUPPORTED ...
lconwaymacOS 12.7.1 Monterey / x86_64  OK    OK    OK    OK  UNNEEDED, same version is already published
kjohnson3macOS 13.7.1 Ventura / arm64  OK    OK    OK    OK  UNNEEDED, same version is already published
Package 12/44HostnameOS / ArchINSTALLBUILDCHECKBUILD BIN
ggspavis 1.13.0  (landing page)
Lukas M. Weber
git_last_commit: 479bf59
git_last_commit_date: 2024-10-29 11:03:17 -0500
nebbiolo1Linux (Ubuntu 24.04.1 LTS) / x86_64  OK    OK    OK  UNNEEDED, same version is already published
palomino7Windows Server 2022 Datacenter / x64  OK    OK    OK    OK  UNNEEDED, same version is already published
lconwaymacOS 12.7.1 Monterey / x86_64  OK    OK    OK    OK  UNNEEDED, same version is already published
kjohnson3macOS 13.7.1 Ventura / arm64  OK    OK    OK    OK  UNNEEDED, same version is already published
Package 13/44HostnameOS / ArchINSTALLBUILDCHECKBUILD BIN
GSVA 2.1.6  (landing page)
Robert Castelo
git_last_commit: d86f57c
git_last_commit_date: 2025-02-17 12:07:57 -0500
nebbiolo1Linux (Ubuntu 24.04.1 LTS) / x86_64  OK    OK    OK  YES
palomino7Windows Server 2022 Datacenter / x64  OK    OK    OK    OK  YES
lconwaymacOS 12.7.1 Monterey / x86_64  OK    OK    OK    OK  YES
kjohnson3macOS 13.7.1 Ventura / arm64  OK    OK    OK    OK  YES
Package 14/44HostnameOS / ArchINSTALLBUILDCHECKBUILD BIN
hoodscanR 1.5.2  (landing page)
Ning Liu
git_last_commit: 83a157c
git_last_commit_date: 2025-02-09 05:29:49 -0500
nebbiolo1Linux (Ubuntu 24.04.1 LTS) / x86_64  OK    OK    OK  UNNEEDED, same version is already published
palomino7Windows Server 2022 Datacenter / x64  OK    OK    OK    OK  UNNEEDED, same version is already published
lconwaymacOS 12.7.1 Monterey / x86_64  OK    OK    OK    OK  UNNEEDED, same version is already published
kjohnson3macOS 13.7.1 Ventura / arm64  OK    OK    OK    OK  UNNEEDED, same version is already published
Package 15/44HostnameOS / ArchINSTALLBUILDCHECKBUILD BIN
imcRtools 1.13.0  (landing page)
Daniel Schulz
git_last_commit: 19f5a4b
git_last_commit_date: 2024-10-29 11:04:39 -0500
nebbiolo1Linux (Ubuntu 24.04.1 LTS) / x86_64  OK    OK    OK  UNNEEDED, same version is already published
palomino7Windows Server 2022 Datacenter / x64  OK    OK    OK    OK  UNNEEDED, same version is already published
lconwaymacOS 12.7.1 Monterey / x86_64  OK    OK    OK    OK  UNNEEDED, same version is already published
kjohnson3macOS 13.7.1 Ventura / arm64  OK    OK    ERROR    OK  
Package 16/44HostnameOS / ArchINSTALLBUILDCHECKBUILD BIN
lisaClust 1.15.6  (landing page)
Ellis Patrick
git_last_commit: a5842b8
git_last_commit_date: 2024-11-19 17:26:07 -0500
nebbiolo1Linux (Ubuntu 24.04.1 LTS) / x86_64  OK    OK    OK  UNNEEDED, same version is already published
palomino7Windows Server 2022 Datacenter / x64  OK    OK    OK    OK  UNNEEDED, same version is already published
lconwaymacOS 12.7.1 Monterey / x86_64  OK    OK    OK    OK  UNNEEDED, same version is already published
kjohnson3macOS 13.7.1 Ventura / arm64  OK    OK    OK    OK  UNNEEDED, same version is already published
Package 17/44HostnameOS / ArchINSTALLBUILDCHECKBUILD BIN
MoleculeExperiment 1.7.0  (landing page)
Shila Ghazanfar
git_last_commit: d50404d
git_last_commit_date: 2024-10-29 11:20:12 -0500
nebbiolo1Linux (Ubuntu 24.04.1 LTS) / x86_64  OK    OK    OK  UNNEEDED, same version is already published
palomino7Windows Server 2022 Datacenter / x64  OK    OK    OK    OK  UNNEEDED, same version is already published
lconwaymacOS 12.7.1 Monterey / x86_64  OK    OK    OK    OK  UNNEEDED, same version is already published
kjohnson3macOS 13.7.1 Ventura / arm64  OK    OK    OK    OK  UNNEEDED, same version is already published
Package 18/44HostnameOS / ArchINSTALLBUILDCHECKBUILD BIN
nnSVG 1.11.3  (landing page)
Lukas M. Weber
git_last_commit: 1dcbe97
git_last_commit_date: 2025-02-07 17:30:47 -0500
nebbiolo1Linux (Ubuntu 24.04.1 LTS) / x86_64  OK    ERROR  skipped
palomino7Windows Server 2022 Datacenter / x64  OK    ERROR  skippedskipped
lconwaymacOS 12.7.1 Monterey / x86_64  OK    ERROR  skippedskipped
kjohnson3macOS 13.7.1 Ventura / arm64  OK    ERROR  skippedskipped
Package 19/44HostnameOS / ArchINSTALLBUILDCHECKBUILD BIN
scider 1.5.0  (landing page)
Yunshun Chen
git_last_commit: 5152c7e
git_last_commit_date: 2024-10-29 11:25:09 -0500
nebbiolo1Linux (Ubuntu 24.04.1 LTS) / x86_64  OK    OK    OK  UNNEEDED, same version is already published
palomino7Windows Server 2022 Datacenter / x64  OK    OK    OK    OK  UNNEEDED, same version is already published
lconwaymacOS 12.7.1 Monterey / x86_64  OK    OK    OK    OK  UNNEEDED, same version is already published
kjohnson3macOS 13.7.1 Ventura / arm64  OK    OK    OK    OK  UNNEEDED, same version is already published
Package 20/44HostnameOS / ArchINSTALLBUILDCHECKBUILD BIN
signifinder 1.9.3  (landing page)
Stefania Pirrotta
git_last_commit: c426fdd
git_last_commit_date: 2025-01-13 08:58:12 -0500
nebbiolo1Linux (Ubuntu 24.04.1 LTS) / x86_64  OK    OK    OK  UNNEEDED, same version is already published
palomino7Windows Server 2022 Datacenter / x64  OK    OK    OK    OK  UNNEEDED, same version is already published
lconwaymacOS 12.7.1 Monterey / x86_64  OK    OK    OK    OK  UNNEEDED, same version is already published
kjohnson3macOS 13.7.1 Ventura / arm64  OK    OK    OK    OK  UNNEEDED, same version is already published
Package 21/44HostnameOS / ArchINSTALLBUILDCHECKBUILD BIN
smoothclust 1.3.0  (landing page)
Lukas M. Weber
git_last_commit: 28cfdec
git_last_commit_date: 2024-10-29 11:29:20 -0500
nebbiolo1Linux (Ubuntu 24.04.1 LTS) / x86_64  OK    OK    OK  UNNEEDED, same version is already published
palomino7Windows Server 2022 Datacenter / x64  OK    OK    OK    OK  UNNEEDED, same version is already published
lconwaymacOS 12.7.1 Monterey / x86_64  OK    OK    OK    OK  UNNEEDED, same version is already published
kjohnson3macOS 13.7.1 Ventura / arm64  OK    OK    OK    OK  UNNEEDED, same version is already published
Package 22/44HostnameOS / ArchINSTALLBUILDCHECKBUILD BIN
smoppix 0.99.44  (landing page)
Stijn Hawinkel
git_last_commit: c6c8656
git_last_commit_date: 2025-02-16 14:50:46 -0500
nebbiolo1Linux (Ubuntu 24.04.1 LTS) / x86_64  OK    OK    OK  UNNEEDED, same version is already published
palomino7Windows Server 2022 Datacenter / x64  OK    OK    TIMEOUT    OK  
lconwaymacOS 12.7.1 Monterey / x86_64  OK    OK    OK    OK  UNNEEDED, same version is already published
kjohnson3macOS 13.7.1 Ventura / arm64  OK    OK    OK    OK  UNNEEDED, same version is already published
Package 23/44HostnameOS / ArchINSTALLBUILDCHECKBUILD BIN
sosta 0.99.4  (landing page)
Samuel Gunz
git_last_commit: e5f5f7c
git_last_commit_date: 2025-02-08 09:32:25 -0500
nebbiolo1Linux (Ubuntu 24.04.1 LTS) / x86_64  OK    OK    OK  UNNEEDED, same version is already published
palomino7Windows Server 2022 Datacenter / x64  OK    OK    OK    OK  UNNEEDED, same version is already published
lconwaymacOS 12.7.1 Monterey / x86_64  OK    OK    OK    OK  UNNEEDED, same version is already published
kjohnson3macOS 13.7.1 Ventura / arm64  OK    OK    OK    OK  UNNEEDED, same version is already published
Package 24/44HostnameOS / ArchINSTALLBUILDCHECKBUILD BIN
SpaNorm 1.1.0  (landing page)
Dharmesh D. Bhuva
git_last_commit: 6bf7b58
git_last_commit_date: 2024-10-29 11:34:56 -0500
nebbiolo1Linux (Ubuntu 24.04.1 LTS) / x86_64  OK    OK    OK  UNNEEDED, same version is already published
palomino7Windows Server 2022 Datacenter / x64  OK    OK    OK    OK  UNNEEDED, same version is already published
lconwaymacOS 12.7.1 Monterey / x86_64  OK    OK    OK    OK  UNNEEDED, same version is already published
kjohnson3macOS 13.7.1 Ventura / arm64  OK    OK    OK    OK  UNNEEDED, same version is already published
Package 25/44HostnameOS / ArchINSTALLBUILDCHECKBUILD BIN
spaSim 1.9.0  (landing page)
Yuzhou Feng
git_last_commit: 27c44e5
git_last_commit_date: 2024-10-29 11:12:33 -0500
nebbiolo1Linux (Ubuntu 24.04.1 LTS) / x86_64  OK    OK    OK  UNNEEDED, same version is already published
palomino7Windows Server 2022 Datacenter / x64  OK    OK    OK    OK  UNNEEDED, same version is already published
lconwaymacOS 12.7.1 Monterey / x86_64  OK    OK    OK    OK  UNNEEDED, same version is already published
kjohnson3macOS 13.7.1 Ventura / arm64  OK    OK    OK    OK  UNNEEDED, same version is already published
Package 26/44HostnameOS / ArchINSTALLBUILDCHECKBUILD BIN
spatialDE 1.13.0  (landing page)
Gabriele Sales
git_last_commit: 03b4e0e
git_last_commit_date: 2024-10-29 11:03:13 -0500
nebbiolo1Linux (Ubuntu 24.04.1 LTS) / x86_64  OK    ERROR  skipped
palomino7Windows Server 2022 Datacenter / x64  OK    ERROR  skippedskipped
lconwaymacOS 12.7.1 Monterey / x86_64  OK    ERROR  skippedskipped
kjohnson3macOS 13.7.1 Ventura / arm64  OK    ERROR  skippedskipped
Package 27/44HostnameOS / ArchINSTALLBUILDCHECKBUILD BIN
SpatialExperimentIO 0.99.8  (landing page)
Yixing E. Dong
git_last_commit: 6daa463
git_last_commit_date: 2025-02-12 17:04:00 -0500
nebbiolo1Linux (Ubuntu 24.04.1 LTS) / x86_64  OK    OK    OK  UNNEEDED, same version is already published
palomino7Windows Server 2022 Datacenter / x64  OK    OK    OK    OK  UNNEEDED, same version is already published
lconwaymacOS 12.7.1 Monterey / x86_64  OK    OK    OK    OK  UNNEEDED, same version is already published
kjohnson3macOS 13.7.1 Ventura / arm64  OK    OK    OK    OK  UNNEEDED, same version is already published
Package 28/44HostnameOS / ArchINSTALLBUILDCHECKBUILD BIN
spatialFDA 0.99.11  (landing page)
Martin Emons
git_last_commit: 9a88f27
git_last_commit_date: 2025-02-12 08:26:23 -0500
nebbiolo1Linux (Ubuntu 24.04.1 LTS) / x86_64  OK    OK    OK  UNNEEDED, same version is already published
palomino7Windows Server 2022 Datacenter / x64  OK    OK    OK    OK  UNNEEDED, same version is already published
lconwaymacOS 12.7.1 Monterey / x86_64  OK    OK    OK    OK  UNNEEDED, same version is already published
kjohnson3macOS 13.7.1 Ventura / arm64  OK    OK    OK    OK  UNNEEDED, same version is already published
Package 29/44HostnameOS / ArchINSTALLBUILDCHECKBUILD BIN
SpatialFeatureExperiment 1.9.9  (landing page)
Lambda Moses
git_last_commit: eff8cee
git_last_commit_date: 2025-02-11 23:09:21 -0500
nebbiolo1Linux (Ubuntu 24.04.1 LTS) / x86_64  OK    OK    OK  UNNEEDED, same version is already published
palomino7Windows Server 2022 Datacenter / x64  OK    OK    OK    OK  UNNEEDED, same version is already published
lconwaymacOS 12.7.1 Monterey / x86_64  OK    OK    OK    OK  UNNEEDED, same version is already published
kjohnson3macOS 13.7.1 Ventura / arm64  OK    OK    ERROR    OK  
Package 30/44HostnameOS / ArchINSTALLBUILDCHECKBUILD BIN
spatialSimGP 1.1.0  (landing page)
Kinnary Shah
git_last_commit: ea76aca
git_last_commit_date: 2024-10-29 11:34:28 -0500
nebbiolo1Linux (Ubuntu 24.04.1 LTS) / x86_64  OK    OK    OK  UNNEEDED, same version is already published
palomino7Windows Server 2022 Datacenter / x64  OK    OK    OK    OK  UNNEEDED, same version is already published
lconwaymacOS 12.7.1 Monterey / x86_64  OK    OK    OK    OK  UNNEEDED, same version is already published
kjohnson3macOS 13.7.1 Ventura / arm64  OK    OK    OK    OK  UNNEEDED, same version is already published
Package 31/44HostnameOS / ArchINSTALLBUILDCHECKBUILD BIN
SPIAT 1.9.0  (landing page)
Yuzhou Feng
git_last_commit: da43adc
git_last_commit_date: 2024-10-29 11:14:38 -0500
nebbiolo1Linux (Ubuntu 24.04.1 LTS) / x86_64  OK    OK    OK  UNNEEDED, same version is already published
palomino7Windows Server 2022 Datacenter / x64  OK    OK    OK    OK  UNNEEDED, same version is already published
lconwaymacOS 12.7.1 Monterey / x86_64  OK    OK    OK    OK  UNNEEDED, same version is already published
kjohnson3macOS 13.7.1 Ventura / arm64  OK    OK    OK    OK  UNNEEDED, same version is already published
Package 32/44HostnameOS / ArchINSTALLBUILDCHECKBUILD BIN
spicyR 1.19.3  (landing page)
Ellis Patrick
git_last_commit: 1b87dce
git_last_commit_date: 2024-11-19 17:28:08 -0500
nebbiolo1Linux (Ubuntu 24.04.1 LTS) / x86_64  OK    OK    OK  UNNEEDED, same version is already published
palomino7Windows Server 2022 Datacenter / x64  OK    OK    OK    OK  UNNEEDED, same version is already published
lconwaymacOS 12.7.1 Monterey / x86_64  OK    OK    OK    OK  UNNEEDED, same version is already published
kjohnson3macOS 13.7.1 Ventura / arm64  OK    OK    OK    OK  UNNEEDED, same version is already published
Package 33/44HostnameOS / ArchINSTALLBUILDCHECKBUILD BIN
spoon 1.3.2  (landing page)
Kinnary Shah
git_last_commit: 3438806
git_last_commit_date: 2025-02-11 15:59:28 -0500
nebbiolo1Linux (Ubuntu 24.04.1 LTS) / x86_64  OK    ERROR  skipped
palomino7Windows Server 2022 Datacenter / x64  OK    ERROR  skippedskipped
lconwaymacOS 12.7.1 Monterey / x86_64  OK    ERROR  skippedskipped
kjohnson3macOS 13.7.1 Ventura / arm64  OK    ERROR  skippedskipped
Package 34/44HostnameOS / ArchINSTALLBUILDCHECKBUILD BIN
SpotClean 1.9.0  (landing page)
Zijian Ni
git_last_commit: 0e3a77e
git_last_commit_date: 2024-10-29 11:11:55 -0500
nebbiolo1Linux (Ubuntu 24.04.1 LTS) / x86_64  OK    OK    OK  UNNEEDED, same version is already published
palomino7Windows Server 2022 Datacenter / x64  OK    OK    OK    OK  UNNEEDED, same version is already published
lconwaymacOS 12.7.1 Monterey / x86_64  OK    OK    OK    OK  UNNEEDED, same version is already published
kjohnson3macOS 13.7.1 Ventura / arm64  OK    OK    OK    OK  UNNEEDED, same version is already published
Package 35/44HostnameOS / ArchINSTALLBUILDCHECKBUILD BIN
SpotSweeper 1.3.3  (landing page)
Michael Totty
git_last_commit: d39575f
git_last_commit_date: 2024-12-24 10:00:07 -0500
nebbiolo1Linux (Ubuntu 24.04.1 LTS) / x86_64  OK    OK    OK  UNNEEDED, same version is already published
palomino7Windows Server 2022 Datacenter / x64  OK    OK    OK    OK  UNNEEDED, same version is already published
lconwaymacOS 12.7.1 Monterey / x86_64  OK    OK    OK    OK  UNNEEDED, same version is already published
kjohnson3macOS 13.7.1 Ventura / arm64  OK    OK    OK    OK  UNNEEDED, same version is already published
Package 36/44HostnameOS / ArchINSTALLBUILDCHECKBUILD BIN
standR 1.11.2  (landing page)
Ning Liu
git_last_commit: bc1785e
git_last_commit_date: 2025-02-09 05:27:06 -0500
nebbiolo1Linux (Ubuntu 24.04.1 LTS) / x86_64  OK    OK    OK  UNNEEDED, same version is already published
palomino7Windows Server 2022 Datacenter / x64  OK    OK    OK    OK  UNNEEDED, same version is already published
lconwaymacOS 12.7.1 Monterey / x86_64  OK    OK    OK    OK  UNNEEDED, same version is already published
kjohnson3macOS 13.7.1 Ventura / arm64  OK    OK    OK    OK  UNNEEDED, same version is already published
Package 37/44HostnameOS / ArchINSTALLBUILDCHECKBUILD BIN
Statial 1.9.0  (landing page)
Farhan Ameen
git_last_commit: b4c031f
git_last_commit_date: 2024-10-29 11:16:14 -0500
nebbiolo1Linux (Ubuntu 24.04.1 LTS) / x86_64  OK    ERROR  skipped
palomino7Windows Server 2022 Datacenter / x64  OK    ERROR  skippedskipped
lconwaymacOS 12.7.1 Monterey / x86_64  OK    ERROR  skippedskipped
kjohnson3macOS 13.7.1 Ventura / arm64  OK    ERROR  skippedskipped
Package 38/44HostnameOS / ArchINSTALLBUILDCHECKBUILD BIN
stJoincount 1.9.0  (landing page)
Jiarong Song
git_last_commit: 0a115cb
git_last_commit_date: 2024-10-29 11:15:44 -0500
nebbiolo1Linux (Ubuntu 24.04.1 LTS) / x86_64  OK    OK    OK  UNNEEDED, same version is already published
palomino7Windows Server 2022 Datacenter / x64  OK    OK    OK    OK  UNNEEDED, same version is already published
lconwaymacOS 12.7.1 Monterey / x86_64  OK    OK    OK    OK  UNNEEDED, same version is already published
kjohnson3macOS 13.7.1 Ventura / arm64  OK    OK    OK    OK  UNNEEDED, same version is already published
Package 39/44HostnameOS / ArchINSTALLBUILDCHECKBUILD BIN
tidySpatialExperiment 1.3.0  (landing page)
William Hutchison
git_last_commit: 317a6d5
git_last_commit_date: 2024-10-29 11:26:54 -0500
nebbiolo1Linux (Ubuntu 24.04.1 LTS) / x86_64  OK    OK    OK  UNNEEDED, same version is already published
palomino7Windows Server 2022 Datacenter / x64  OK    OK    OK    OK  UNNEEDED, same version is already published
lconwaymacOS 12.7.1 Monterey / x86_64  OK    OK    OK    OK  UNNEEDED, same version is already published
kjohnson3macOS 13.7.1 Ventura / arm64  OK    OK    OK    OK  UNNEEDED, same version is already published
Package 40/44HostnameOS / ArchINSTALLBUILDCHECKBUILD BIN
tpSVG 1.3.0  (landing page)
Boyi Guo
git_last_commit: 3b8b10d
git_last_commit_date: 2024-10-29 11:28:10 -0500
nebbiolo1Linux (Ubuntu 24.04.1 LTS) / x86_64  OK    OK    OK  UNNEEDED, same version is already published
palomino7Windows Server 2022 Datacenter / x64  OK    OK    OK    OK  UNNEEDED, same version is already published
lconwaymacOS 12.7.1 Monterey / x86_64  OK    OK    OK    OK  UNNEEDED, same version is already published
kjohnson3macOS 13.7.1 Ventura / arm64  OK    OK    OK    OK  UNNEEDED, same version is already published
Package 41/44HostnameOS / ArchINSTALLBUILDCHECKBUILD BIN
VisiumIO 1.3.5  (landing page)
Marcel Ramos
git_last_commit: 5970e95
git_last_commit_date: 2025-02-11 12:28:23 -0500
nebbiolo1Linux (Ubuntu 24.04.1 LTS) / x86_64  OK    OK    OK  UNNEEDED, same version is already published
palomino7Windows Server 2022 Datacenter / x64  OK    OK    OK    OK  UNNEEDED, same version is already published
lconwaymacOS 12.7.1 Monterey / x86_64  OK    OK    OK    OK  UNNEEDED, same version is already published
kjohnson3macOS 13.7.1 Ventura / arm64  OK    OK    OK    OK  UNNEEDED, same version is already published
Package 42/44HostnameOS / ArchINSTALLBUILDCHECKBUILD BIN
visiumStitched 0.99.15  (landing page)
Nicholas J. Eagles
git_last_commit: 4c54019
git_last_commit_date: 2024-12-13 11:30:46 -0500
nebbiolo1Linux (Ubuntu 24.04.1 LTS) / x86_64  OK    OK    OK  UNNEEDED, same version is already published
palomino7Windows Server 2022 Datacenter / x64  OK    OK    OK    OK  UNNEEDED, same version is already published
lconwaymacOS 12.7.1 Monterey / x86_64  OK    OK    OK    OK  UNNEEDED, same version is already published
kjohnson3macOS 13.7.1 Ventura / arm64  OK    OK    OK    OK  UNNEEDED, same version is already published
Package 43/44HostnameOS / ArchINSTALLBUILDCHECKBUILD BIN
Voyager 1.9.2  (landing page)
Lambda Moses
git_last_commit: 464ee3a
git_last_commit_date: 2024-12-24 01:46:53 -0500
nebbiolo1Linux (Ubuntu 24.04.1 LTS) / x86_64  OK    OK    WARNINGS  UNNEEDED, same version is already published
palomino7Windows Server 2022 Datacenter / x64  OK    OK    WARNINGS    OK  UNNEEDED, same version is already published
lconwaymacOS 12.7.1 Monterey / x86_64  OK    OK    WARNINGS    OK  UNNEEDED, same version is already published
kjohnson3macOS 13.7.1 Ventura / arm64  OK    OK    WARNINGS    OK  UNNEEDED, same version is already published
Package 44/44HostnameOS / ArchINSTALLBUILDCHECKBUILD BIN
xenLite 1.1.0  (landing page)
Vincent Carey
git_last_commit: 921c057
git_last_commit_date: 2024-10-29 11:33:39 -0500
nebbiolo1Linux (Ubuntu 24.04.1 LTS) / x86_64  OK    OK    OK  UNNEEDED, same version is already published
palomino7Windows Server 2022 Datacenter / x64  OK    OK    OK    OK  UNNEEDED, same version is already published
lconwaymacOS 12.7.1 Monterey / x86_64  OK    OK    OK    OK  UNNEEDED, same version is already published
kjohnson3macOS 13.7.1 Ventura / arm64  OK    OK    OK    OK  UNNEEDED, same version is already published