Back to Multiple platform build/check report for BioC 3.21:   simplified   long
A[B]CDEFGHIJKLMNOPQRSTUVWXYZ

This page was generated on 2025-01-28 11:47 -0500 (Tue, 28 Jan 2025).

HostnameOSArch (*)R versionInstalled pkgs
nebbiolo1Linux (Ubuntu 24.04.1 LTS)x86_64R Under development (unstable) (2025-01-20 r87609) -- "Unsuffered Consequences" 4659
palomino7Windows Server 2022 Datacenterx64R Under development (unstable) (2025-01-21 r87610 ucrt) -- "Unsuffered Consequences" 4454
lconwaymacOS 12.7.1 Montereyx86_64R Under development (unstable) (2025-01-22 r87618) -- "Unsuffered Consequences" 4465
kjohnson3macOS 13.7.1 Venturaarm64R Under development (unstable) (2025-01-20 r87609) -- "Unsuffered Consequences" 4419
kunpeng2Linux (openEuler 22.03 LTS-SP1)aarch64R Under development (unstable) (2024-11-24 r87369) -- "Unsuffered Consequences" 4409
Click on any hostname to see more info about the system (e.g. compilers)      (*) as reported by 'uname -p', except on Windows and Mac OS X

Package 249/2286HostnameOS / ArchINSTALLBUILDCHECKBUILD BIN
BulkSignalR 0.99.22  (landing page)
Jean-Philippe Villemin
Snapshot Date: 2025-01-27 13:40 -0500 (Mon, 27 Jan 2025)
git_url: https://git.bioconductor.org/packages/BulkSignalR
git_branch: devel
git_last_commit: a707d8a
git_last_commit_date: 2024-12-20 10:25:07 -0500 (Fri, 20 Dec 2024)
nebbiolo1Linux (Ubuntu 24.04.1 LTS) / x86_64  OK    OK    OK  UNNEEDED, same version is already published
palomino7Windows Server 2022 Datacenter / x64  OK    OK    OK    OK  UNNEEDED, same version is already published
lconwaymacOS 12.7.1 Monterey / x86_64  OK    OK    OK    OK  UNNEEDED, same version is already published
kjohnson3macOS 13.7.1 Ventura / arm64  OK    OK    OK    OK  UNNEEDED, same version is already published
kunpeng2Linux (openEuler 22.03 LTS-SP1) / aarch64  OK    OK    OK  


CHECK results for BulkSignalR on kunpeng2

To the developers/maintainers of the BulkSignalR package:
- Allow up to 24 hours (and sometimes 48 hours) for your latest push to git@git.bioconductor.org:packages/BulkSignalR.git to reflect on this report. See Troubleshooting Build Report for more information.
- Use the following Renviron settings to reproduce errors and warnings.
- If 'R CMD check' started to fail recently on the Linux builder(s) over a missing dependency, add the missing dependency to 'Suggests:' in your DESCRIPTION file. See Renviron.bioc for more information.
- See Martin Grigorov's blog post for how to debug Linux ARM64 related issues on a x86_64 host.

raw results


Summary

Package: BulkSignalR
Version: 0.99.22
Command: /home/biocbuild/R/R/bin/R CMD check --install=check:BulkSignalR.install-out.txt --library=/home/biocbuild/R/R/site-library --no-vignettes --timings BulkSignalR_0.99.22.tar.gz
StartedAt: 2025-01-28 08:48:59 -0000 (Tue, 28 Jan 2025)
EndedAt: 2025-01-28 08:58:17 -0000 (Tue, 28 Jan 2025)
EllapsedTime: 557.4 seconds
RetCode: 0
Status:   OK  
CheckDir: BulkSignalR.Rcheck
Warnings: 0

Command output

##############################################################################
##############################################################################
###
### Running command:
###
###   /home/biocbuild/R/R/bin/R CMD check --install=check:BulkSignalR.install-out.txt --library=/home/biocbuild/R/R/site-library --no-vignettes --timings BulkSignalR_0.99.22.tar.gz
###
##############################################################################
##############################################################################


* using log directory ‘/home/biocbuild/bbs-3.21-bioc/meat/BulkSignalR.Rcheck’
* using R Under development (unstable) (2024-11-24 r87369)
* using platform: aarch64-unknown-linux-gnu
* R was compiled by
    aarch64-unknown-linux-gnu-gcc (GCC) 14.2.0
    GNU Fortran (GCC) 14.2.0
* running under: openEuler 24.03 (LTS)
* using session charset: UTF-8
* using option ‘--no-vignettes’
* checking for file ‘BulkSignalR/DESCRIPTION’ ... OK
* checking extension type ... Package
* this is package ‘BulkSignalR’ version ‘0.99.22’
* package encoding: UTF-8
* checking package namespace information ... OK
* checking package dependencies ... INFO
Imports includes 28 non-default packages.
Importing from so many packages makes the package vulnerable to any of
them becoming unavailable.  Move as many as possible to Suggests and
use conditionally.
* checking if this is a source package ... OK
* checking if there is a namespace ... OK
* checking for hidden files and directories ... OK
* checking for portable file names ... OK
* checking for sufficient/correct file permissions ... OK
* checking whether package ‘BulkSignalR’ can be installed ... OK
* checking installed package size ... OK
* checking package directory ... OK
* checking ‘build’ directory ... OK
* checking DESCRIPTION meta-information ... OK
* checking top-level files ... OK
* checking for left-over files ... OK
* checking index information ... OK
* checking package subdirectories ... OK
* checking code files for non-ASCII characters ... OK
* checking R files for syntax errors ... OK
* checking whether the package can be loaded ... OK
* checking whether the package can be loaded with stated dependencies ... OK
* checking whether the package can be unloaded cleanly ... OK
* checking whether the namespace can be loaded with stated dependencies ... OK
* checking whether the namespace can be unloaded cleanly ... OK
* checking loading without being on the library search path ... OK
* checking whether startup messages can be suppressed ... OK
* checking dependencies in R code ... OK
* checking S3 generic/method consistency ... OK
* checking replacement functions ... OK
* checking foreign function calls ... OK
* checking R code for possible problems ... OK
* checking Rd files ... OK
* checking Rd metadata ... OK
* checking Rd cross-references ... OK
* checking for missing documentation entries ... OK
* checking for code/documentation mismatches ... OK
* checking Rd \usage sections ... OK
* checking Rd contents ... OK
* checking for unstated dependencies in examples ... OK
* checking contents of ‘data’ directory ... OK
* checking data for non-ASCII characters ... OK
* checking data for ASCII and uncompressed saves ... OK
* checking files in ‘vignettes’ ... OK
* checking examples ... OK
Examples with CPU (user + system) or elapsed time > 5s
                        user system elapsed
spatialAssociationPlot 5.317  0.008   5.339
cacheClear             2.581  0.040  10.329
* checking for unstated dependencies in ‘tests’ ... OK
* checking tests ...
  Running ‘testthat.R’
 OK
* checking for unstated dependencies in vignettes ... OK
* checking package vignettes ... OK
* checking running R code from vignettes ... SKIPPED
* checking re-building of vignette outputs ... SKIPPED
* checking PDF version of manual ... OK
* DONE

Status: OK


Installation output

BulkSignalR.Rcheck/00install.out

##############################################################################
##############################################################################
###
### Running command:
###
###   /home/biocbuild/R/R/bin/R CMD INSTALL BulkSignalR
###
##############################################################################
##############################################################################


* installing to library ‘/home/biocbuild/R/R-4.5.0-devel_2024-11-24/site-library’
* installing *source* package ‘BulkSignalR’ ...
** using staged installation
** R
** data
** inst
** byte-compile and prepare package for lazy loading
** help
*** installing help indices
*** copying figures
** building package indices
** installing vignettes
** testing if installed package can be loaded from temporary location
** testing if installed package can be loaded from final location
** testing if installed package keeps a record of temporary installation path
* DONE (BulkSignalR)

Tests output

BulkSignalR.Rcheck/tests/testthat.Rout


R Under development (unstable) (2024-11-24 r87369) -- "Unsuffered Consequences"
Copyright (C) 2024 The R Foundation for Statistical Computing
Platform: aarch64-unknown-linux-gnu

R is free software and comes with ABSOLUTELY NO WARRANTY.
You are welcome to redistribute it under certain conditions.
Type 'license()' or 'licence()' for distribution details.

R is a collaborative project with many contributors.
Type 'contributors()' for more information and
'citation()' on how to cite R or R packages in publications.

Type 'demo()' for some demos, 'help()' for on-line help, or
'help.start()' for an HTML browser interface to help.
Type 'q()' to quit R.

> library(testthat)
> library(BulkSignalR)
Local "database" is up to date.

Local "resources" are up to date.

> test_check("BulkSignalR")
[ FAIL 0 | WARN 0 | SKIP 0 | PASS 1 ]
> 
> proc.time()
   user  system elapsed 
 18.877   1.436  22.087 

Example timings

BulkSignalR.Rcheck/BulkSignalR-Ex.timings

nameusersystemelapsed
BSRClusterComp-class0.0040.0000.004
BSRClusterComp0.3320.0280.361
BSRDataModel-class0.0060.0000.006
BSRDataModel0.2440.0040.250
BSRDataModelComp-class0.0070.0000.007
BSRInference-class0.0040.0000.004
BSRInference3.7770.1873.976
BSRInferenceComp-class0.0090.0000.008
BSRInferenceComp2.0190.0282.052
BSRSignature-class0.0020.0000.003
BSRSignature0.0400.0040.045
BSRSignatureComp-class0.0040.0000.005
BSRSignatureComp0.0190.0000.019
LRinter0.0020.0000.002
LRinterScore0.0040.0000.004
LRinterShort0.0040.0000.004
addClusterComp0.3570.0080.366
alluvialPlot0.4860.0040.491
assignCellTypesToInteractions1.9350.0321.974
bubblePlotPathwaysLR0.4390.0000.441
cacheClear 2.581 0.04010.329
cacheInfo0.3060.0000.306
cacheVersion0.5800.0121.588
cellTypeFrequency0.9980.0081.009
cellularNetwork0.9300.0240.956
cellularNetworkTable0.9410.0000.943
chordDiagramLR1.7700.0321.807
coerce0.0010.0000.001
colClusterA000
colClusterB000
comparison000
comparisonName000
convertToHuman0.4240.0003.157
createDatabase000
createResources0.3180.0081.851
differentialStats0.0020.0000.002
findOrthoGenes0.1650.0041.406
generateSpatialPlots1.9180.0121.935
getComplexes0.1550.0000.156
getInteractions1.0500.0041.056
getLRIntracellNetwork3.1470.0123.167
getLRNetwork0.0480.0000.049
getPathwayStats0.020.000.02
getResource0.3240.0120.337
inferenceParameters000
initialOrganism0.0010.0000.001
initialOrthologs000
learnParameters3.7750.0043.789
ligands000
logTransformed0.0010.0000.000
maxLigandSpatialCounts0.1560.0040.160
mu000
ncounts000
normalization0.0010.0000.001
parameters0.0010.0000.001
pathways000
receptors0.0000.0000.001
reduceToBestPathway0.1360.0020.138
reduceToLigand0.0590.0000.059
reduceToPathway0.110.000.11
reduceToReceptor0.0210.0000.021
relateToGeneSet0.0980.0000.098
removeClusterComp0.3440.0000.346
rescoreInference0.0360.0040.040
resetLRdb0.0180.0000.018
resetNetwork0.0090.0000.009
resetPathways0.3310.0000.332
resetToInitialOrganism0.2050.0000.206
scoreLRGeneSignatures0.6420.0040.647
scoreSignatures0.4590.0000.459
separatedLRPlot1.8890.0001.894
signatureHeatmaps0.0220.0000.023
simpleHeatmap1.5960.0041.606
smoothSpatialCounts0.0710.0000.071
sourceComparisonName000
spatialAssociation0.0590.0000.060
spatialAssociationPlot5.3170.0085.339
spatialDiversityPlot1.3040.0001.307
spatialIndexPlot1.5810.0041.589
spatialPlot1.4030.0041.412
summarizedCellularNetwork0.9610.0110.977
tgCorr000
tgExpr000
tgGenes000
tgLogFC000
tgPval0.0010.0000.000
updateInference0.0930.0070.102