Back to Multiple platform build/check report for BioC 3.21:   simplified   long
ABCDE[F]GHIJKLMNOPQRSTUVWXYZ

This page was generated on 2025-02-15 11:40 -0500 (Sat, 15 Feb 2025).

HostnameOSArch (*)R versionInstalled pkgs
nebbiolo1Linux (Ubuntu 24.04.1 LTS)x86_64R Under development (unstable) (2025-01-20 r87609) -- "Unsuffered Consequences" 4720
palomino7Windows Server 2022 Datacenterx64R Under development (unstable) (2025-01-21 r87610 ucrt) -- "Unsuffered Consequences" 4482
lconwaymacOS 12.7.1 Montereyx86_64R Under development (unstable) (2025-01-22 r87618) -- "Unsuffered Consequences" 4493
kjohnson3macOS 13.7.1 Venturaarm64R Under development (unstable) (2025-01-20 r87609) -- "Unsuffered Consequences" 4446
Click on any hostname to see more info about the system (e.g. compilers)      (*) as reported by 'uname -p', except on Windows and Mac OS X

Package 720/2295HostnameOS / ArchINSTALLBUILDCHECKBUILD BIN
FLAMES 2.1.6  (landing page)
Changqing Wang
Snapshot Date: 2025-02-14 13:40 -0500 (Fri, 14 Feb 2025)
git_url: https://git.bioconductor.org/packages/FLAMES
git_branch: devel
git_last_commit: 925331f
git_last_commit_date: 2025-02-13 23:39:29 -0500 (Thu, 13 Feb 2025)
nebbiolo1Linux (Ubuntu 24.04.1 LTS) / x86_64  OK    OK    OK  YES
palomino7Windows Server 2022 Datacenter / x64... NOT SUPPORTED ...
lconwaymacOS 12.7.1 Monterey / x86_64  OK    OK    OK    OK  YES
kjohnson3macOS 13.7.1 Ventura / arm64  OK    OK    OK    OK  YES


CHECK results for FLAMES on nebbiolo1

To the developers/maintainers of the FLAMES package:
- Allow up to 24 hours (and sometimes 48 hours) for your latest push to git@git.bioconductor.org:packages/FLAMES.git to reflect on this report. See Troubleshooting Build Report for more information.
- Use the following Renviron settings to reproduce errors and warnings.
- If 'R CMD check' started to fail recently on the Linux builder(s) over a missing dependency, add the missing dependency to 'Suggests:' in your DESCRIPTION file. See Renviron.bioc for more information.

raw results


Summary

Package: FLAMES
Version: 2.1.6
Command: /home/biocbuild/bbs-3.21-bioc/R/bin/R CMD check --install=check:FLAMES.install-out.txt --library=/home/biocbuild/bbs-3.21-bioc/R/site-library --timings FLAMES_2.1.6.tar.gz
StartedAt: 2025-02-14 22:06:29 -0500 (Fri, 14 Feb 2025)
EndedAt: 2025-02-14 22:18:01 -0500 (Fri, 14 Feb 2025)
EllapsedTime: 692.0 seconds
RetCode: 0
Status:   OK  
CheckDir: FLAMES.Rcheck
Warnings: 0

Command output

##############################################################################
##############################################################################
###
### Running command:
###
###   /home/biocbuild/bbs-3.21-bioc/R/bin/R CMD check --install=check:FLAMES.install-out.txt --library=/home/biocbuild/bbs-3.21-bioc/R/site-library --timings FLAMES_2.1.6.tar.gz
###
##############################################################################
##############################################################################


* using log directory ‘/home/biocbuild/bbs-3.21-bioc/meat/FLAMES.Rcheck’
* using R Under development (unstable) (2025-01-20 r87609)
* using platform: x86_64-pc-linux-gnu
* R was compiled by
    gcc (Ubuntu 13.3.0-6ubuntu2~24.04) 13.3.0
    GNU Fortran (Ubuntu 13.3.0-6ubuntu2~24.04) 13.3.0
* running under: Ubuntu 24.04.2 LTS
* using session charset: UTF-8
* checking for file ‘FLAMES/DESCRIPTION’ ... OK
* this is package ‘FLAMES’ version ‘2.1.6’
* package encoding: UTF-8
* checking package namespace information ... OK
* checking package dependencies ... INFO
Imports includes 44 non-default packages.
Importing from so many packages makes the package vulnerable to any of
them becoming unavailable.  Move as many as possible to Suggests and
use conditionally.
* checking if this is a source package ... OK
* checking if there is a namespace ... OK
* checking for hidden files and directories ... OK
* checking for portable file names ... OK
* checking for sufficient/correct file permissions ... OK
* checking whether package ‘FLAMES’ can be installed ... NOTE
Found the following notes/warnings:
  Non-staged installation was used
See ‘/home/biocbuild/bbs-3.21-bioc/meat/FLAMES.Rcheck/00install.out’ for details.
* used C++ compiler: ‘g++ (Ubuntu 13.3.0-6ubuntu2~24.04) 13.3.0’
* checking C++ specification ... OK
* checking installed package size ... OK
* checking package directory ... OK
* checking ‘build’ directory ... OK
* checking DESCRIPTION meta-information ... OK
* checking top-level files ... OK
* checking for left-over files ... OK
* checking index information ... OK
* checking package subdirectories ... OK
* checking code files for non-ASCII characters ... OK
* checking R files for syntax errors ... OK
* checking whether the package can be loaded ... OK
* checking whether the package can be loaded with stated dependencies ... OK
* checking whether the package can be unloaded cleanly ... OK
* checking whether the namespace can be loaded with stated dependencies ... OK
* checking whether the namespace can be unloaded cleanly ... OK
* checking loading without being on the library search path ... OK
* checking dependencies in R code ... OK
* checking S3 generic/method consistency ... OK
* checking replacement functions ... OK
* checking foreign function calls ... OK
* checking R code for possible problems ... NOTE
addRowRanges: no visible global function definition for ‘head’
create_spe: no visible binding for global variable ‘barcode’
create_spe: no visible binding for global variable ‘in_tissue’
filter_coverage: no visible global function definition for
  ‘starts_with’
filter_coverage: no visible binding for global variable ‘filter_res’
find_barcode: no visible binding for global variable ‘Sample’
find_barcode: no visible binding for global variable ‘Outfile’
find_variants_grange: no visible binding for global variable
  ‘which_label’
find_variants_grange: no visible binding for global variable
  ‘nucleotide’
find_variants_grange: no visible binding for global variable ‘pos’
find_variants_grange: no visible binding for global variable ‘count’
find_variants_grange: no visible binding for global variable
  ‘counts_no_ins’
find_variants_grange: no visible binding for global variable ‘ref’
generate_sc_sce: no visible binding for global variable ‘FSM_match’
get_coverage: no visible binding for global variable ‘Freq’
homopolymer_pct : <anonymous>: no visible binding for global variable
  ‘Freq’
homopolymer_pct : <anonymous>: no visible binding for global variable
  ‘pct’
parse_oarfish_sc_output: no visible binding for global variable ‘.’
plot_coverage: no visible binding for global variable ‘tr_length’
plot_coverage: no visible binding for global variable ‘read_counts’
plot_coverage: no visible binding for global variable ‘total_counts’
plot_coverage: no visible binding for global variable ‘cumpct’
plot_coverage: no visible binding for global variable ‘length_bin’
plot_coverage: no visible binding for global variable ‘min_length’
plot_coverage: no visible binding for global variable ‘max_length’
plot_coverage: no visible global function definition for ‘head’
plot_coverage: no visible binding for global variable ‘transcript’
plot_demultiplex: no visible binding for global variable ‘CellBarcode’
plot_demultiplex: no visible binding for global variable ‘Sample’
plot_demultiplex: no visible binding for global variable ‘UMI’
plot_demultiplex: no visible binding for global variable ‘UMI_count’
plot_demultiplex: no visible binding for global variable ‘barcode_rank’
plot_demultiplex: no visible binding for global variable
  ‘FlankEditDist’
plot_demultiplex: no visible binding for global variable ‘n_reads’
plot_demultiplex: no visible binding for global variable
  ‘BarcodeEditDist’
plot_demultiplex: no visible binding for global variable ‘total reads’
plot_demultiplex: no visible binding for global variable ‘demultiplexed
  reads’
plot_demultiplex: no visible binding for global variable ‘single match
  reads’
plot_demultiplex: no visible binding for global variable
  ‘undemultiplexted reads’
plot_demultiplex: no visible binding for global variable
  ‘multi-matching reads’
plot_demultiplex: no visible binding for global variable ‘Type’
plot_demultiplex: no visible binding for global variable ‘Reads’
plot_demultiplex: no visible binding for global variable ‘input’
plot_demultiplex: no visible binding for global variable ‘output’
plot_demultiplex: no visible binding for global variable
  ‘read1_with_adapter’
plot_demultiplex: no visible binding for global variable ‘Count’
plot_flagstat: no visible global function definition for ‘everything’
plot_flagstat: no visible binding for global variable ‘name’
plot_flagstat: no visible binding for global variable ‘value’
plot_isoform_reduced_dim: no visible binding for global variable ‘x’
plot_isoform_reduced_dim: no visible binding for global variable ‘y’
plot_isoform_reduced_dim: no visible binding for global variable ‘expr’
plot_spatial: no visible binding for global variable ‘imageX’
plot_spatial: no visible binding for global variable ‘imageY’
plot_spatial_feature: no visible binding for global variable ‘imageX’
plot_spatial_feature: no visible binding for global variable ‘imageY’
plot_spatial_feature: no visible binding for global variable ‘x’
plot_spatial_feature: no visible binding for global variable ‘y’
plot_spatial_feature: no visible global function definition for
  ‘scale_alpha_continuous’
plot_spatial_feature: no visible global function definition for
  ‘scale_colour_gradient’
plot_spatial_isoform: no visible global function definition for ‘head’
plot_spatial_pie: no visible global function definition for ‘head’
plot_spatial_pie: no visible binding for global variable ‘imageX’
plot_spatial_pie: no visible binding for global variable ‘imageY’
sc_DTU_analysis: no visible binding for global variable ‘FSM_match’
sc_DTU_analysis: no visible binding for global variable ‘gene_id’
sc_DTU_analysis: no visible binding for global variable ‘.’
sc_DTU_analysis: no visible binding for global variable ‘cell_id’
sc_DTU_analysis: no visible binding for global variable ‘cnt’
sc_DTU_analysis: no visible binding for global variable ‘tr_id’
sc_DTU_analysis: no visible binding for global variable ‘label’
sc_DTU_analysis : filter_tr: no visible binding for global variable
  ‘gene_id’
sc_DTU_analysis : filter_tr: no visible binding for global variable ‘.’
sc_mutations: no visible binding for global variable ‘mutation_index’
sc_mutations: no visible binding for global variable ‘bam_index’
variant_count_tb: no visible binding for global variable ‘barcode’
variant_count_tb: no visible binding for global variable ‘allele_count’
variant_count_tb: no visible binding for global variable
  ‘cell_total_reads’
Undefined global functions or variables:
  . BarcodeEditDist CellBarcode Count FSM_match FlankEditDist Freq
  Outfile Reads Sample Type UMI UMI_count allele_count bam_index
  barcode barcode_rank cell_id cell_total_reads cnt count counts_no_ins
  cumpct demultiplexed reads everything expr filter_res gene_id head
  imageX imageY in_tissue input label length_bin max_length min_length
  multi-matching reads mutation_index n_reads name nucleotide output
  pct pos read1_with_adapter read_counts ref scale_alpha_continuous
  scale_colour_gradient single match reads starts_with total reads
  total_counts tr_id tr_length transcript undemultiplexted reads value
  which_label x y
Consider adding
  importFrom("base", "match", "single")
  importFrom("utils", "head")
to your NAMESPACE file.
* checking Rd files ... OK
* checking Rd metadata ... OK
* checking Rd cross-references ... NOTE
Found the following Rd file(s) with Rd \link{} targets missing package
anchors:
  bulk_long_pipeline.Rd: SummarizedExperiment
  sc_long_multisample_pipeline.Rd: SingleCellExperiment
  sc_long_pipeline.Rd: SingleCellExperiment
Please provide package anchors for all Rd \link{} targets not in the
package itself and the base packages.
* checking for missing documentation entries ... OK
* checking for code/documentation mismatches ... OK
* checking Rd \usage sections ... OK
* checking Rd contents ... OK
* checking for unstated dependencies in examples ... OK
* checking contents of ‘data’ directory ... OK
* checking data for non-ASCII characters ... OK
* checking LazyData ... OK
* checking data for ASCII and uncompressed saves ... OK
* checking line endings in shell scripts ... OK
* checking line endings in C/C++/Fortran sources/headers ... OK
* checking line endings in Makefiles ... OK
* checking compilation flags in Makevars ... OK
* checking for GNU extensions in Makefiles ... INFO
GNU make is a SystemRequirements.
* checking for portable use of $(BLAS_LIBS) and $(LAPACK_LIBS) ... OK
* checking use of PKG_*FLAGS in Makefiles ... OK
* checking compiled code ... NOTE
Note: information on .o files is not available
File ‘/home/biocbuild/bbs-3.21-bioc/R/site-library/FLAMES/libs/FLAMES.so’:
  Found ‘abort’, possibly from ‘abort’ (C)
  Found ‘exit’, possibly from ‘exit’ (C)
  Found ‘stderr’, possibly from ‘stderr’ (C)
  Found ‘stdout’, possibly from ‘stdout’ (C)

Compiled code should not call entry points which might terminate R nor
write to stdout/stderr instead of to the console, nor use Fortran I/O
nor system RNGs nor [v]sprintf. The detected symbols are linked into
the code but might come from libraries and not actually be called.

See ‘Writing portable packages’ in the ‘Writing R Extensions’ manual.
* checking files in ‘vignettes’ ... OK
* checking examples ... OK
Examples with CPU (user + system) or elapsed time > 5s
                               user system elapsed
bulk_long_pipeline           88.361 13.874  99.344
plot_isoform_reduced_dim     21.036  0.712  21.745
sc_long_multisample_pipeline 14.031  6.430  14.445
create_se_from_dir           16.993  0.528  15.094
plot_isoform_heatmap          8.290  0.510   8.799
find_isoform                  6.650  0.192   6.899
get_GRangesList               6.674  0.164   6.892
minimap2_align                6.451  0.128   6.628
create_sce_from_dir           3.923  2.282   4.557
sc_long_pipeline              4.308  1.850   4.093
plot_coverage                 5.726  0.159   5.919
sc_DTU_analysis               2.992  2.785   3.360
* checking for unstated dependencies in ‘tests’ ... OK
* checking tests ...
  Running ‘testthat.R’
 OK
* checking for unstated dependencies in vignettes ... OK
* checking package vignettes ... OK
* checking re-building of vignette outputs ... OK
* checking PDF version of manual ... OK
* DONE

Status: 4 NOTEs
See
  ‘/home/biocbuild/bbs-3.21-bioc/meat/FLAMES.Rcheck/00check.log’
for details.


Installation output

FLAMES.Rcheck/00install.out

##############################################################################
##############################################################################
###
### Running command:
###
###   /home/biocbuild/bbs-3.21-bioc/R/bin/R CMD INSTALL FLAMES
###
##############################################################################
##############################################################################


* installing to library ‘/home/biocbuild/bbs-3.21-bioc/R/site-library’
* installing *source* package ‘FLAMES’ ...
** this is package ‘FLAMES’ version ‘2.1.6’
** using non-staged installation via StagedInstall field
** libs
using C++ compiler: ‘g++ (Ubuntu 13.3.0-6ubuntu2~24.04) 13.3.0’
using C++17
g++ -std=gnu++17 -I"/home/biocbuild/bbs-3.21-bioc/R/include" -DNDEBUG -pthread -D_FILE_OFFSET_BITS=64 -I'/home/biocbuild/bbs-3.21-bioc/R/site-library/Rcpp/include' -I'/home/biocbuild/bbs-3.21-bioc/R/site-library/Rhtslib/include' -I'/home/biocbuild/bbs-3.21-bioc/R/site-library/testthat/include' -I/usr/local/include    -fpic  -g -O2  -DR_NO_REMAP -c RcppExports.cpp -o RcppExports.o
g++ -std=gnu++17 -I"/home/biocbuild/bbs-3.21-bioc/R/include" -DNDEBUG -pthread -D_FILE_OFFSET_BITS=64 -I'/home/biocbuild/bbs-3.21-bioc/R/site-library/Rcpp/include' -I'/home/biocbuild/bbs-3.21-bioc/R/site-library/Rhtslib/include' -I'/home/biocbuild/bbs-3.21-bioc/R/site-library/testthat/include' -I/usr/local/include    -fpic  -g -O2  -DR_NO_REMAP -c RcppFunctions.cpp -o RcppFunctions.o
g++ -std=gnu++17 -I"/home/biocbuild/bbs-3.21-bioc/R/include" -DNDEBUG -pthread -D_FILE_OFFSET_BITS=64 -I'/home/biocbuild/bbs-3.21-bioc/R/site-library/Rcpp/include' -I'/home/biocbuild/bbs-3.21-bioc/R/site-library/Rhtslib/include' -I'/home/biocbuild/bbs-3.21-bioc/R/site-library/testthat/include' -I/usr/local/include    -fpic  -g -O2  -DR_NO_REMAP -c classes/BamRecord.cpp -o classes/BamRecord.o
g++ -std=gnu++17 -I"/home/biocbuild/bbs-3.21-bioc/R/include" -DNDEBUG -pthread -D_FILE_OFFSET_BITS=64 -I'/home/biocbuild/bbs-3.21-bioc/R/site-library/Rcpp/include' -I'/home/biocbuild/bbs-3.21-bioc/R/site-library/Rhtslib/include' -I'/home/biocbuild/bbs-3.21-bioc/R/site-library/testthat/include' -I/usr/local/include    -fpic  -g -O2  -DR_NO_REMAP -c classes/GFFRecord.cpp -o classes/GFFRecord.o
g++ -std=gnu++17 -I"/home/biocbuild/bbs-3.21-bioc/R/include" -DNDEBUG -pthread -D_FILE_OFFSET_BITS=64 -I'/home/biocbuild/bbs-3.21-bioc/R/site-library/Rcpp/include' -I'/home/biocbuild/bbs-3.21-bioc/R/site-library/Rhtslib/include' -I'/home/biocbuild/bbs-3.21-bioc/R/site-library/testthat/include' -I/usr/local/include    -fpic  -g -O2  -DR_NO_REMAP -c classes/GeneAnnotationParser.cpp -o classes/GeneAnnotationParser.o
g++ -std=gnu++17 -I"/home/biocbuild/bbs-3.21-bioc/R/include" -DNDEBUG -pthread -D_FILE_OFFSET_BITS=64 -I'/home/biocbuild/bbs-3.21-bioc/R/site-library/Rcpp/include' -I'/home/biocbuild/bbs-3.21-bioc/R/site-library/Rhtslib/include' -I'/home/biocbuild/bbs-3.21-bioc/R/site-library/testthat/include' -I/usr/local/include    -fpic  -g -O2  -DR_NO_REMAP -c classes/Isoforms.cpp -o classes/Isoforms.o
g++ -std=gnu++17 -I"/home/biocbuild/bbs-3.21-bioc/R/include" -DNDEBUG -pthread -D_FILE_OFFSET_BITS=64 -I'/home/biocbuild/bbs-3.21-bioc/R/site-library/Rcpp/include' -I'/home/biocbuild/bbs-3.21-bioc/R/site-library/Rhtslib/include' -I'/home/biocbuild/bbs-3.21-bioc/R/site-library/testthat/include' -I/usr/local/include    -fpic  -g -O2  -DR_NO_REMAP -c classes/junctions.cpp -o classes/junctions.o
g++ -std=gnu++17 -I"/home/biocbuild/bbs-3.21-bioc/R/include" -DNDEBUG -pthread -D_FILE_OFFSET_BITS=64 -I'/home/biocbuild/bbs-3.21-bioc/R/site-library/Rcpp/include' -I'/home/biocbuild/bbs-3.21-bioc/R/site-library/Rhtslib/include' -I'/home/biocbuild/bbs-3.21-bioc/R/site-library/testthat/include' -I/usr/local/include    -fpic  -g -O2  -DR_NO_REMAP -c main-functions/find_isoform.cpp -o main-functions/find_isoform.o
g++ -std=gnu++17 -I"/home/biocbuild/bbs-3.21-bioc/R/include" -DNDEBUG -pthread -D_FILE_OFFSET_BITS=64 -I'/home/biocbuild/bbs-3.21-bioc/R/site-library/Rcpp/include' -I'/home/biocbuild/bbs-3.21-bioc/R/site-library/Rhtslib/include' -I'/home/biocbuild/bbs-3.21-bioc/R/site-library/testthat/include' -I/usr/local/include    -fpic  -g -O2  -DR_NO_REMAP -c main-functions/flexiplex.cpp -o main-functions/flexiplex.o
g++ -std=gnu++17 -I"/home/biocbuild/bbs-3.21-bioc/R/include" -DNDEBUG -pthread -D_FILE_OFFSET_BITS=64 -I'/home/biocbuild/bbs-3.21-bioc/R/site-library/Rcpp/include' -I'/home/biocbuild/bbs-3.21-bioc/R/site-library/Rhtslib/include' -I'/home/biocbuild/bbs-3.21-bioc/R/site-library/testthat/include' -I/usr/local/include    -fpic  -g -O2  -DR_NO_REMAP -c main-functions/get_transcript_seq.cpp -o main-functions/get_transcript_seq.o
g++ -std=gnu++17 -I"/home/biocbuild/bbs-3.21-bioc/R/include" -DNDEBUG -pthread -D_FILE_OFFSET_BITS=64 -I'/home/biocbuild/bbs-3.21-bioc/R/site-library/Rcpp/include' -I'/home/biocbuild/bbs-3.21-bioc/R/site-library/Rhtslib/include' -I'/home/biocbuild/bbs-3.21-bioc/R/site-library/testthat/include' -I/usr/local/include    -fpic  -g -O2  -DR_NO_REMAP -c main-functions/group_bam2isoform.cpp -o main-functions/group_bam2isoform.o
g++ -std=gnu++17 -I"/home/biocbuild/bbs-3.21-bioc/R/include" -DNDEBUG -pthread -D_FILE_OFFSET_BITS=64 -I'/home/biocbuild/bbs-3.21-bioc/R/site-library/Rcpp/include' -I'/home/biocbuild/bbs-3.21-bioc/R/site-library/Rhtslib/include' -I'/home/biocbuild/bbs-3.21-bioc/R/site-library/testthat/include' -I/usr/local/include    -fpic  -g -O2  -DR_NO_REMAP -c main-functions/pileup_readid.cpp -o main-functions/pileup_readid.o
g++ -std=gnu++17 -I"/home/biocbuild/bbs-3.21-bioc/R/include" -DNDEBUG -pthread -D_FILE_OFFSET_BITS=64 -I'/home/biocbuild/bbs-3.21-bioc/R/site-library/Rcpp/include' -I'/home/biocbuild/bbs-3.21-bioc/R/site-library/Rhtslib/include' -I'/home/biocbuild/bbs-3.21-bioc/R/site-library/testthat/include' -I/usr/local/include    -fpic  -g -O2  -DR_NO_REMAP -c tests/test-junctions.cpp -o tests/test-junctions.o
g++ -std=gnu++17 -I"/home/biocbuild/bbs-3.21-bioc/R/include" -DNDEBUG -pthread -D_FILE_OFFSET_BITS=64 -I'/home/biocbuild/bbs-3.21-bioc/R/site-library/Rcpp/include' -I'/home/biocbuild/bbs-3.21-bioc/R/site-library/Rhtslib/include' -I'/home/biocbuild/bbs-3.21-bioc/R/site-library/testthat/include' -I/usr/local/include    -fpic  -g -O2  -DR_NO_REMAP -c tests/test-parsing.cpp -o tests/test-parsing.o
g++ -std=gnu++17 -I"/home/biocbuild/bbs-3.21-bioc/R/include" -DNDEBUG -pthread -D_FILE_OFFSET_BITS=64 -I'/home/biocbuild/bbs-3.21-bioc/R/site-library/Rcpp/include' -I'/home/biocbuild/bbs-3.21-bioc/R/site-library/Rhtslib/include' -I'/home/biocbuild/bbs-3.21-bioc/R/site-library/testthat/include' -I/usr/local/include    -fpic  -g -O2  -DR_NO_REMAP -c utility/cigars.cpp -o utility/cigars.o
g++ -std=gnu++17 -I"/home/biocbuild/bbs-3.21-bioc/R/include" -DNDEBUG -pthread -D_FILE_OFFSET_BITS=64 -I'/home/biocbuild/bbs-3.21-bioc/R/site-library/Rcpp/include' -I'/home/biocbuild/bbs-3.21-bioc/R/site-library/Rhtslib/include' -I'/home/biocbuild/bbs-3.21-bioc/R/site-library/testthat/include' -I/usr/local/include    -fpic  -g -O2  -DR_NO_REMAP -c utility/edlib-1.2.7/edlib.cpp -o utility/edlib-1.2.7/edlib.o
gcc -I"/home/biocbuild/bbs-3.21-bioc/R/include" -DNDEBUG -pthread -D_FILE_OFFSET_BITS=64 -I'/home/biocbuild/bbs-3.21-bioc/R/site-library/Rcpp/include' -I'/home/biocbuild/bbs-3.21-bioc/R/site-library/Rhtslib/include' -I'/home/biocbuild/bbs-3.21-bioc/R/site-library/testthat/include' -I/usr/local/include    -fpic  -g -O2  -c utility/bam.c -o utility/bam.o
g++ -std=gnu++17 -shared -L/home/biocbuild/bbs-3.21-bioc/R/lib -L/usr/local/lib -o FLAMES.so RcppExports.o RcppFunctions.o classes/BamRecord.o classes/GFFRecord.o classes/GeneAnnotationParser.o classes/Isoforms.o classes/junctions.o main-functions/find_isoform.o main-functions/flexiplex.o main-functions/get_transcript_seq.o main-functions/group_bam2isoform.o main-functions/pileup_readid.o tests/test-junctions.o tests/test-parsing.o utility/cigars.o utility/edlib-1.2.7/edlib.o utility/bam.o -pthread -lz /home/biocbuild/bbs-3.21-bioc/R/site-library/Rhtslib/usrlib/libhts.a -lcurl -lbz2 -llzma -lz -L/home/biocbuild/bbs-3.21-bioc/R/lib -lR
if test -e "/usr/bin/strip" & test -e "/bin/uname" & [[ `uname` == "Linux" ]] ; then /usr/bin/strip --strip-debug FLAMES.so; fi
installing to /home/biocbuild/bbs-3.21-bioc/R/site-library/FLAMES/libs
** R
** data
*** moving datasets to lazyload DB
** inst
** byte-compile and prepare package for lazy loading
** help
*** installing help indices
*** copying figures
** building package indices
** installing vignettes
** testing if installed package can be loaded
* DONE (FLAMES)

Tests output

FLAMES.Rcheck/tests/testthat.Rout


R Under development (unstable) (2025-01-20 r87609) -- "Unsuffered Consequences"
Copyright (C) 2025 The R Foundation for Statistical Computing
Platform: x86_64-pc-linux-gnu

R is free software and comes with ABSOLUTELY NO WARRANTY.
You are welcome to redistribute it under certain conditions.
Type 'license()' or 'licence()' for distribution details.

R is a collaborative project with many contributors.
Type 'contributors()' for more information and
'citation()' on how to cite R or R packages in publications.

Type 'demo()' for some demos, 'help()' for on-line help, or
'help.start()' for an HTML browser interface to help.
Type 'q()' to quit R.

> # This file is part of the standard setup for testthat.
> # It is recommended that you do not modify it.
> #
> # Where should you do additional test configuration?
> # Learn more about the roles of various files in:
> # * https://r-pkgs.org/tests.html
> # * https://testthat.r-lib.org/reference/test_package.html#special-files
> 
> library(testthat)
> library(FLAMES)
> 
> test_check("FLAMES")
Writing configuration parameters to:  /tmp/RtmpIhva4O/file4168ef07525f/config_file_267918.json 
FLEXIPLEX 0.96.2
Setting max barcode edit distance to 2
Setting max flanking sequence edit distance to 8
Setting read IDs to be  replaced
Setting number of threads to 1
Search pattern: 
primer: CTACACGACGCTCTTCCGATCT
BC: NNNNNNNNNNNNNNNN
UMI: NNNNNNNNNNNN
polyT: TTTTTTTTT
Setting known barcodes from /tmp/RtmpIhva4O/file4168eaddf5d0/bc_allow.tsv
Number of known barcodes: 143
Processing file: /home/biocbuild/bbs-3.21-bioc/R/site-library/FLAMES/extdata/fastq/musc_rps24.fastq.gz
Searching for barcodes...
Number of reads processed: 393
Number of reads where at least one barcode was found: 368
Number of reads with exactly one barcode match: 364
Number of chimera reads: 1
All done!
Skipping TSO trimming...
FLEXIPLEX 0.96.2
Setting max barcode edit distance to 2
Setting max flanking sequence edit distance to 8
Setting read IDs to be  replaced
Setting number of threads to 1
Search pattern: 
primer: CTACACGACGCTCTTCCGATCT
BC: NNNNNNNNNNNNNNNN
UMI: NNNNNNNNNNNN
polyT: TTTTTTTTT
Setting known barcodes from /tmp/RtmpIhva4O/file4168e4068af94/bc_allow.tsv
Number of known barcodes: 143
Processing file: /home/biocbuild/bbs-3.21-bioc/R/site-library/FLAMES/extdata/fastq/musc_rps24.fastq.gz
Searching for barcodes...
Number of reads processed: 393
Number of reads where at least one barcode was found: 368
Number of reads with exactly one barcode match: 364
Number of chimera reads: 1
All done!
Skipping TSO trimming...
FLEXIPLEX 0.96.2
Setting max barcode edit distance to 2
Setting max flanking sequence edit distance to 8
Setting read IDs to be  replaced
Setting number of threads to 1
Search pattern: 
primer: CTACACGACGCTCTTCCGATCT
BC: NNNNNNNNNNNNNNNN
UMI: NNNNNNNNNNNN
polyT: TTTTTTTTT
Setting known barcodes from /tmp/RtmpIhva4O/file4168e4068af94/bc_allow.tsv
Number of known barcodes: 143
Processing file: /tmp/RtmpIhva4O/file4168e33ae80c6/musc_rps24_1.fastq
Searching for barcodes...
Processing file: /tmp/RtmpIhva4O/file4168e33ae80c6/musc_rps24_2.fastq
Searching for barcodes...
Processing file: /tmp/RtmpIhva4O/file4168e33ae80c6/musc_rps24_3.fastq
Searching for barcodes...
Processing file: /tmp/RtmpIhva4O/file4168e33ae80c6/musc_rps24_4.fastq
Searching for barcodes...
Number of reads processed: 393
Number of reads where at least one barcode was found: 368
Number of reads with exactly one barcode match: 364
Number of chimera reads: 1
All done!
Skipping TSO trimming...
FLEXIPLEX 0.96.2
Setting max barcode edit distance to 2
Setting max flanking sequence edit distance to 8
Setting read IDs to be  replaced
Setting number of threads to 1
Search pattern: 
primer: CTACACGACGCTCTTCCGATCT
BC: NNNNNNNNNNNNNNNN
UMI: NNNNNNNNNNNN
polyT: TTTTTTTTT
Setting known barcodes from /tmp/RtmpIhva4O/file4168e44278d41/bc_allow.tsv
Number of known barcodes: 143
Processing file: /home/biocbuild/bbs-3.21-bioc/R/site-library/FLAMES/extdata/fastq/musc_rps24.fastq.gz
Searching for barcodes...
Number of reads processed: 393
Number of reads where at least one barcode was found: 368
Number of reads with exactly one barcode match: 364
Number of chimera reads: 1
All done!
Skipping TSO trimming...
FLEXIPLEX 0.96.2
Setting max barcode edit distance to 2
Setting max flanking sequence edit distance to 8
Setting read IDs to be  replaced
Setting number of threads to 1
Search pattern: 
primer: CTACACGACGCTCTTCCGATCT
BC: NNNNNNNNNNNNNNNN
UMI: NNNNNNNNNNNN
polyT: TTTTTTTTT
Setting known barcodes from /tmp/RtmpIhva4O/file4168e44278d41/bc_allow.tsv
Number of known barcodes: 143
Processing file: /tmp/RtmpIhva4O/file4168e5439a2d6/musc_rps24_1.fastq
Searching for barcodes...
Processing file: /tmp/RtmpIhva4O/file4168e5439a2d6/musc_rps24_2.fastq
Searching for barcodes...
Processing file: /tmp/RtmpIhva4O/file4168e5439a2d6/musc_rps24_3.fastq
Searching for barcodes...
Processing file: /tmp/RtmpIhva4O/file4168e5439a2d6/musc_rps24_4.fastq
Searching for barcodes...
Number of reads processed: 393
Number of reads where at least one barcode was found: 368
Number of reads with exactly one barcode match: 364
Number of chimera reads: 1
All done!
FLEXIPLEX 0.96.2
Setting max barcode edit distance to 2
Setting max flanking sequence edit distance to 8
Setting read IDs to be  replaced
Setting number of threads to 1
Search pattern: 
primer: CTACACGACGCTCTTCCGATCT
BC: NNNNNNNNNNNNNNNN
UMI: NNNNNNNNNNNN
polyT: TTTTTTTTT
Setting known barcodes from /tmp/RtmpIhva4O/file4168e44278d41/bc_allow.tsv
Number of known barcodes: 143
Processing file: /home/biocbuild/bbs-3.21-bioc/R/site-library/FLAMES/extdata/fastq/musc_rps24.fastq.gz
Searching for barcodes...
Number of reads processed: 393
Number of reads where at least one barcode was found: 368
Number of reads with exactly one barcode match: 364
Number of chimera reads: 1
All done!
Skipping TSO trimming...
FLEXIPLEX 0.96.2
Setting max barcode edit distance to 2
Setting max flanking sequence edit distance to 8
Setting read IDs to be  replaced
Setting number of threads to 1
Search pattern: 
primer: CTACACGACGCTCTTCCGATCT
BC: NNNNNNNNNNNNNNNN
UMI: NNNNNNNNNNNN
polyT: TTTTTTTTT
Setting known barcodes from /tmp/RtmpIhva4O/file4168e652b24f2/bc_allow.tsv
Number of known barcodes: 143
Processing file: /home/biocbuild/bbs-3.21-bioc/R/site-library/FLAMES/extdata/fastq/musc_rps24.fastq.gz
Searching for barcodes...
Number of reads processed: 393
Number of reads where at least one barcode was found: 368
Number of reads with exactly one barcode match: 364
Number of chimera reads: 1
All done!
Skipping TSO trimming...
[ FAIL 0 | WARN 0 | SKIP 0 | PASS 13 ]
> 
> proc.time()
   user  system elapsed 
 19.982   1.046  21.013 

Example timings

FLAMES.Rcheck/FLAMES-Ex.timings

nameusersystemelapsed
add_gene_counts0.4910.0380.530
annotation_to_fasta1.2220.0171.241
blaze0.4420.0481.791
bulk_long_pipeline88.36113.87499.344
combine_sce1.9460.3892.335
convolution_filter0.0010.0000.000
create_config0.0040.0020.005
create_sce_from_dir3.9232.2824.557
create_se_from_dir16.993 0.52815.094
cutadapt0.1150.0210.134
filter_annotation0.6230.0990.722
filter_coverage3.7960.2204.070
find_barcode0.7150.1070.823
find_bin0.0080.0030.011
find_isoform6.6500.1926.899
find_variants3.6640.7094.373
get_GRangesList6.6740.1646.892
get_coverage3.5820.1613.793
minimap2_align6.4510.1286.628
minimap2_realign0.6710.0220.694
mutation_positions1.6330.1671.800
plot_coverage5.7260.1595.919
plot_demultiplex1.0520.0441.097
plot_isoform_heatmap8.2900.5108.799
plot_isoform_reduced_dim21.036 0.71221.745
plot_isoforms2.6770.0352.712
quantify_transcript2.0460.0592.170
quantify_transcript_flames1.9240.0582.043
sc_DTU_analysis2.9922.7853.360
sc_impute_transcript0.5800.0320.612
sc_long_multisample_pipeline14.031 6.43014.445
sc_long_pipeline4.3081.8504.093
sc_mutations2.2820.4322.720
weight_transcripts0.0250.0140.040